Workbook

Sheet Team
A1: 2025 MID WEEK LEAGUE sponsored by | AG1: 2025 MID WEEK LEAGUE sponsored by
A3: RACE 4 : Dacorum 7k - Tues 1st July 2025 | AG3: CUMULATIVE POSITIONS AFTER 3 RACES
A5: Pos | B5: MEN | F5: Points | G5: Score | I5: Pos | J5: WOMEN | M5: Points | N5: Score | AG5: Pos | AH5: MEN | AL5: Points | AM5: Score | AO5: Pos | AP5: WOMEN | AS5: Points | AT5: Score
A6: 1 | B6: St Albans Striders | F6: 6 | G6: =Men!$Q$3 -> 287 | I6: 1 | J6: St Albans Striders | M6: 6 | N6: =Women!$Q$3 -> 125 | AG6: 1 | AH6: St Albans Striders | AL6: 18 | AM6: 776 | AO6: 1 | AP6: St Albans Striders | AS6: 18 | AT6: 247
A7: 2 | B7: Trent Park Running Club | F7: 5 | G7: =Men!$R$3 -> 393 | I7: 2 | J7: Garden City Runners | M7: 5 | N7: =Women!$N$3 -> 178 | AG7: 2 | AH7: Trent Park Running Club | AL7: 15 | AM7: 1142 | AO7: 2 | AP7: North Herts Road Runners | AS7: 14 | AT7: 554
A8: 3 | B8: Dacorum AC | F8: 4 | G8: =Men!$M$3 -> 463 | I8: 3 | J8: Orion Harriers | M8: 4 | N8: =Women!$P$3 -> 213 | AG8: 3 | AH8: North Herts Road Runners | AL8: 11 | AM8: 1419 | AO8: 3 | AP8: Orion Harriers | AS8: 11 | AT8: 725
A9: 4 | B9: Garden City Runners | F9: 3 | G9: =Men!$N$3 -> 490 | I9: 4 | J9: Dacorum AC | M9: 3 | N9: =Women!$M$3 -> 219 | AG9: 4 | AH9: Garden City Runners | AL9: 9 | AM9: 1521 | AO9: 4 | AP9: Garden City Runners | AS9: 10 | AT9: 753
A10: 5 | B10: Orion Harriers | F10: 2 | G10: =Men!$P$3 -> 513 | I10: 5 | J10: Trent Park Running Club | M10: 2 | N10: =Women!$R$3 -> 224 | AG10: 5 | AH10: Orion Harriers | AL10: 6 | AM10: 1993 | AO10: 5 | AP10: Dacorum AC | AS10: 5 | AT10: 913
A11: 6 | B11: North Herts Road Runners | F11: 1 | G11: =Men!$O$3 -> 649 | I11: 6 | J11: North Herts Road Runners | M11: 1 | N11: =Women!$O$3 -> 244 | AG11: 6 | AH11: Dacorum AC | AL11: 4 | AM11: 1964 | AO11: 6 | AP11: Trent Park Running Club | AS11: 5 | AT11: 922
A12: 7 | B12: SAS 'B' | G12: =Men!$Q$223 -> 886 | I12: 7 | J12: SAS 'B' | N12: =Women!$Q$131 -> 458 | AG12: 7 | AH12: SAS 'B' | AM12: 2787 | AO12: 7 | AP12: SAS 'B' | AT12: 998
A13: 8 | B13: GCR 'B' | G13: =Men!$N$223 -> 1154 | I13: 8 | J13: GCR 'B' | N13: =Women!$N$131 -> 531 | AG13: 8 | AH13: GCR 'B' | AM13: 3209 | AO13: 8 | AP13: NHRR 'B' | AT13: 1614
A14: 9 | B14: TPK 'B' | G14: =Men!$R$223 -> 1284 | I14: 9 | J14: DAC 'B' | N14: =Women!$M$131 -> 617 | AG14: 9 | AH14: TPK 'B' | AM14: 4034 | AO14: 9 | AP14: GCR 'B' | AT14: 1728
A15: 10 | B15: SAS 'C' | G15: =Men!$Q$226 -> 1512 | I15: 10 | J15: ORH 'B' | N15: =Women!$P$131 -> 618 | AG15: 10 | AH15: NHRR 'B' | AM15: 4365 | AO15: 10 | AP15: SAS 'C' | AT15: 1924
A16: 11 | B16: ORH 'B' | G16: =Men!$P$223 -> 1591 | I16: 11 | J16: NHRR 'B' | N16: =Women!$O$131 -> 661 | AG16: 11 | AH16: SAS 'C' | AM16: 4726 | AO16: 11 | AP16: TPK 'B' | AT16: 2200
A17: 12 | B17: NHRR 'B' | G17: =Men!$O$223 -> 1727 | I17: 12 | J17: TPK 'B' | N17: =Women!$R$131 -> 686 | AG17: 12 | AH17: GCR 'C' | AM17: 5090 | AO17: 12 | AP17: DAC 'B' | AT17: 2360
A18: 13 | B18: GCR 'C' | G18: =Men!$N$226 -> 1750 | I18: 13 | J18: SAS 'C' | N18: =Women!$Q$134 -> 713 | AG18: 13 | AH18: DAC 'B' | AM18: 5272 | AO18: 13 | AP18: GCR 'C' | AT18: 2752
A19: 14 | B19: TPK 'C' | G19: =Men!$R$226 -> 1937 | I19: 14 | J19: GCR 'C' | N19: =Women!$N$134 -> 913 | AG19: 14 | AH19: GCR 'D' | AM19: 7015
A20: 15 | B20: SAS 'D' | G20: =Men!$Q$229 -> 2072 | AG20: 15 | AH20: TPK 'C' | AM20: 7167
AG21: 16 | AH21: SAS 'D' | AM21: 7213
E22: Pos | F22: OVERALL | J22: Points | K22: Score
E23: 1 | F23: St Albans Striders | J23: =VLOOKUP($F23,$B$6:$G$21,5,0)+VLOOKUP($F23,$J$6:$N$21,4,0) -> 12 | K23: =VLOOKUP($F23,$B$6:$G$21,6,0)+VLOOKUP($F23,$J$6:$N$21,5,0) -> 412
E24: 2 | F24: Garden City Runners | J24: =VLOOKUP($F24,$B$6:$G$21,5,0)+VLOOKUP($F24,$J$6:$N$21,4,0) -> 8 | K24: =VLOOKUP($F24,$B$6:$G$21,6,0)+VLOOKUP($F24,$J$6:$N$21,5,0) -> 668
E25: 3 | F25: Trent Park Running Club | J25: =VLOOKUP($F25,$B$6:$G$21,5,0)+VLOOKUP($F25,$J$6:$N$21,4,0) -> 7 | K25: =VLOOKUP($F25,$B$6:$G$21,6,0)+VLOOKUP($F25,$J$6:$N$21,5,0) -> 617
E26: 4 | F26: Dacorum AC | J26: =VLOOKUP($F26,$B$6:$G$21,5,0)+VLOOKUP($F26,$J$6:$N$21,4,0) -> 7 | K26: =VLOOKUP($F26,$B$6:$G$21,6,0)+VLOOKUP($F26,$J$6:$N$21,5,0) -> 682
E27: 5 | F27: Orion Harriers | J27: =VLOOKUP($F27,$B$6:$G$21,5,0)+VLOOKUP($F27,$J$6:$N$21,4,0) -> 6 | K27: =VLOOKUP($F27,$B$6:$G$21,6,0)+VLOOKUP($F27,$J$6:$N$21,5,0) -> 726 | AK27: Pos | AL27: OVERALL | AP27: Points | AQ27: Score
E28: 6 | F28: North Herts Road Runners | J28: =VLOOKUP($F28,$B$6:$G$21,5,0)+VLOOKUP($F28,$J$6:$N$21,4,0) -> 2 | K28: =VLOOKUP($F28,$B$6:$G$21,6,0)+VLOOKUP($F28,$J$6:$N$21,5,0) -> 893 | AK28: 1 | AL28: St Albans Striders | AP28: 36 | AQ28: 1023
AK29: 2 | AL29: North Herts Road Runners | AP29: 25 | AQ29: 1973
A30: Pos | B30: VET MEN | F30: Points | G30: Score | I30: Pos | J30: VET WOMEN | M30: Points | N30: Score | AK30: 3 | AL30: Trent Park Running Club | AP30: 20 | AQ30: 2064
A31: 1 | B31: Trent Park Running Club | F31: 6 | G31: =Men!$Y$3 -> 67 | I31: 1 | J31: Dacorum AC | M31: 6 | N31: =Women!$T$3 -> 46 | AK31: 4 | AL31: Garden City Runners | AP31: 19 | AQ31: 2274
A32: 2 | B32: Orion Harriers | F32: 5 | G32: =Men!$W$3 -> 87 | I32: 1 | J32: Garden City Runners | M32: 5 | N32: =Women!$U$3 -> 47 | AK32: 5 | AL32: Orion Harriers | AP32: 17 | AQ32: 2718
A33: 3 | B33: St Albans Striders | F33: 4 | G33: =Men!$X$3 -> 101 | I33: 3 | J33: St Albans Striders | M33: 4 | N33: =Women!$X$3 -> 52 | AK33: 6 | AL33: Dacorum AC | AP33: 9 | AQ33: 2877
A34: 4 | B34: Garden City Runners | F34: 3 | G34: =Men!$U$3 -> 145 | I34: 4 | J34: North Herts Road Runners | M34: 2.5 | N34: =Women!$V$3 -> 53
A35: 5 | B35: North Herts Road Runners | F35: 2 | G35: =Men!$V$3 -> 160 | I35: 4 | J35: Trent Park Running Club | M35: 2.5 | N35: =Women!$Y$3 -> 53 | AG35: Pos | AH35: VET MEN | AL35: Points | AM35: Score | AO35: Pos | AP35: VET WOMEN | AS35: Points | AT35: Score
A36: 6 | B36: Dacorum AC | F36: 1 | G36: =Men!$T$3 -> 165 | I36: 6 | J36: Orion Harriers | M36: 1 | N36: =Women!$W$3 -> 60 | AG36: 1 | AH36: St Albans Striders | AL36: 16 | AM36: 235 | AO36: 1 | AP36: St Albans Striders | AS36: 17 | AT36: 99
A37: 7 | B37: TPK 'B' | G37: =Men!$Y$223 -> 275 | I37: 7 | J37: TPK 'B' | N37: =Women!$Y$131 -> 131 | AG37: 2 | AH37: Trent Park Running Club | AL37: 15 | AM37: 238 | AO37: 2 | AP37: North Herts Road Runners | AS37: 13 | AT37: 149
A38: 8 | B38: ORH 'B' | G38: =Men!$W$223 -> 277 | I38: 8 | J38: GCR 'B' | N38: =Women!$U$131 -> 133 | AG38: 3 | AH38: Orion Harriers | AL38: 11 | AM38: 336 | AO38: 3 | AP38: Dacorum AC | AS38: 9 | AT38: 187
A39: 9 | B39: SAS 'B' | G39: =Men!$X$223 -> 295 | I39: 9 | J39: SAS 'B' | N39: =Women!$X$131 -> 138 | AG39: 4 | AH39: North Herts Road Runners | AL39: 9 | AM39: 421 | AO39: 4 | AP39: Orion Harriers | AS39: 8 | AT39: 181
A40: 10 | B40: NHRR 'B' | G40: =Men!$V$223 -> 328 | I40: 10 | J40: ORH 'B' | N40: =Women!$W$131 -> 143 | AG40: 5 | AH40: Garden City Runners | AL40: 8 | AM40: 435 | AO40: 5 | AP40: Trent Park Running Club | AS40: 8 | AT40: 194
A41: 11 | B41: GCR 'B' | G41: =Men!$U$223 -> 340 | I41: 11 | J41: NHRR 'B' | N41: =Women!$V$131 -> 159 | AG41: 6 | AH41: Dacorum AC | AL41: 4 | AM41: 575 | AO41: 6 | AP41: Garden City Runners | AS41: 8 | AT41: 195
A42: 12 | B42: SAS 'C' | G42: =Men!$X$226 -> 427 | I42: 12 | J42: DAC 'B' | N42: =Women!$T$131 -> 180 | AG42: 7 | AH42: GCR 'B' | AM42: 808 | AO42: 7 | AP42: SAS 'B' | AT42: 321
...

Sheet Women
A1: 2025 MID WEEK LEAGUE sponsored by
M2: DAC | N2: GCR | O2: NHRR | P2: ORH | Q2: SAS | R2: TPK | T2: DAC | U2: GCR | V2: NHRR | W2: ORH | X2: SAS | Y2: TPK
A3: =Team!A3 -> RACE 4 : Dacorum 7k - Tues 1st July 2025 | M3: =SUM(SMALL(M$5:M$130,{1,2,3,4,5,6,7,8})) -> 219 | N3: =SUM(SMALL(N$5:N$130,{1,2,3,4,5,6,7,8})) -> 178 | O3: =SUM(SMALL(O$5:O$130,{1,2,3,4,5,6,7,8})) -> 244 | P3: =SUM(SMALL(P$5:P$130,{1,2,3,4,5,6,7,8})) -> 213 | Q3: =SUM(SMALL(Q$5:Q$130,{1,2,3,4,5,6,7,8})) -> 125 | R3: =SUM(SMALL(R$5:R$130,{1,2,3,4,5,6,7,8})) -> 224 | T3: =SUM(SMALL(T$5:T$130,{1,2,3,4})) -> 46 | U3: =SUM(SMALL(U$5:U$130,{1,2,3,4})) -> 47 | V3: =SUM(SMALL(V$5:V$130,{1,2,3,4})) -> 53 | W3: =SUM(SMALL(W$5:W$130,{1,2,3,4})) -> 60 | X3: =SUM(SMALL(X$5:X$130,{1,2,3,4})) -> 52 | Y3: =SUM(SMALL(Y$5:Y$130,{1,2,3,4})) -> 53
A4: Race | B4: Pos | C4: Cat | D4: Vet | E4: No. | F4: Time | G4: Name | H4: Surname | I4: Cat. | J4: Club | K4: Div | L4: M/F | M4: =COUNT(SMALL(M$5:M$130,{1,2,3,4,5,6,7,8})) -> 8 | N4: =COUNT(SMALL(N$5:N$130,{1,2,3,4,5,6,7,8})) -> 8 | O4: =COUNT(SMALL(O$5:O$130,{1,2,3,4,5,6,7,8})) -> 8 | P4: =COUNT(SMALL(P$5:P$130,{1,2,3,4,5,6,7,8})) -> 8 | Q4: =COUNT(SMALL(Q$5:Q$130,{1,2,3,4,5,6,7,8})) -> 8 | R4: =COUNT(SMALL(R$5:R$130,{1,2,3,4,5,6,7,8})) -> 8 | T4: =COUNT(SMALL(T$5:T$130,{1,2,3,4})) -> 4 | U4: =COUNT(SMALL(U$5:U$130,{1,2,3,4})) -> 4 | V4: =COUNT(SMALL(V$5:V$130,{1,2,3,4})) -> 4 | W4: =COUNT(SMALL(W$5:W$130,{1,2,3,4})) -> 4 | X4: =COUNT(SMALL(X$5:X$130,{1,2,3,4})) -> 4 | Y4: =COUNT(SMALL(Y$5:Y$130,{1,2,3,4})) -> 4
A5: 17 | B5: 1 | E5: 45 | F5: 0.018159722 | G5: Freya | H5: Weddell | I5: S | J5: SAS | K5: 1 | L5: F | Q5: =$B5 -> 1
A6: 50 | B6: 2 | E6: 556 | F6: 0.019490741 | G6: Susanna | H6: Wratten | I6: S | J6: ORH | K6: 1 | L6: F | P6: =$B6 -> 2
A7: 60 | B7: 3 | E7: 2 | F7: 0.019930556 | G7: Catherine | H7: O'Connor | I7: S | J7: SAS | K7: 1 | L7: F | Q7: =$B7 -> 3
A8: 61 | B8: 4 | C8: 1 | D8: 1 | E8: 799 | F8: 0.019976852 | G8: Kate | H8: Rennie | I8: V 45 | J8: DAC | K8: 1 | L8: F | M8: =$B8 -> 4 | T8: =$D8 -> 1
A9: 75 | B9: 5 | E9: 68 | F9: 0.020497685 | G9: Hannah | H9: Burkhardt | I9: S | J9: SAS | K9: 1 | L9: F | Q9: =$B9 -> 5
A10: 78 | B10: 6 | C10: 1 | D10: 2 | E10: 630 | F10: 0.020578704 | G10: Juliet | H10: Vine | I10: V 35 | J10: GCR | K10: 1 | L10: F | N10: =$B10 -> 6 | U10: =$D10 -> 2
A11: 80 | B11: 7 | C11: 2 | D11: 3 | E11: 321 | F11: 0.020625 | G11: Rhia | H11: Botha | I11: V 35 | J11: NHRR | K11: 1 | L11: F | O11: =$B11 -> 7 | V11: =$D11 -> 3
A12: 88 | B12: 8 | C12: 3 | D12: 4 | E12: 767 | F12: 0.020833333 | G12: Claire | H12: Hallissey | I12: V 35 | J12: DAC | K12: 1 | L12: F | M12: =$B12 -> 8 | T12: =$D12 -> 4
A13: 91 | B13: 9 | C13: 2 | D13: 5 | E13: 27 | F13: 0.021006944 | G13: Kate | H13: Dixon | I13: V 45 | J13: SAS | K13: 1 | L13: F | Q13: =$B13 -> 9 | X13: =$D13 -> 5
A14: 96 | B14: 10 | C14: 4 | D14: 6 | E14: 264 | F14: 0.021203704 | G14: Kat | H14: Alpe | I14: V 35 | J14: TPK | K14: 1 | L14: F | R14: =$B14 -> 10 | Y14: =$D14 -> 6
A15: 102 | B15: 11 | E15: 629 | F15: 0.021388889 | G15: Jessica | H15: Timmins | I15: S | J15: GCR | K15: 1 | L15: F | N15: =$B15 -> 11
A16: 111 | B16: 12 | C16: 3 | D16: 7 | E16: 277 | F16: 0.021979167 | G16: Anja | H16: Greenwodd | I16: V 45 | J16: TPK | K16: 1 | L16: F | R16: =$B16 -> 12 | Y16: =$D16 -> 7
A17: 113 | B17: 13 | C17: 4 | D17: 8 | E17: 472 | F17: 0.022013889 | G17: Hayley | H17: Rogerson | I17: V 45 | J17: ORH | K17: 1 | L17: F | P17: =$B17 -> 13 | W17: =$D17 -> 8
A18: 115 | B18: 14 | C18: 5 | D18: 9 | E18: 103 | F18: 0.022094907 | G18: Tamsyn | H18: Clark | I18: V 45 | J18: SAS | K18: 1 | L18: F | Q18: =$B18 -> 14 | X18: =$D18 -> 9
A19: 124 | B19: 15 | C19: 5 | D19: 10 | E19: 1965 | F19: 0.022418981 | G19: Karen | H19: Rattray | I19: V 35 | J19: DAC | K19: 1 | L19: F | M19: =$B19 -> 15 | T19: =$D19 -> 10
A20: 129 | B20: 16 | C20: 6 | D20: 11 | E20: 113 | F20: 0.022546296 | G20: Jenny | H20: Maginley | I20: V 45 | J20: SAS | K20: 1 | L20: F | Q20: =$B20 -> 16 | X20: =$D20 -> 11
A21: 134 | B21: 17 | C21: 6 | D21: 12 | E21: 338 | F21: 0.022685185 | G21: Tracey | H21: Pitcairn | I21: V 35 | J21: NHRR | K21: 1 | L21: F | O21: =$B21 -> 17 | V21: =$D21 -> 12
A22: 141 | B22: 18 | E22: 809 | F22: 0.02287037 | G22: Isabella | H22: Sherwani-Keeling | I22: S | J22: DAC | K22: 1 | L22: F | M22: =$B22 -> 18
A23: 142 | B23: 19 | C23: 1 | D23: 13 | E23: 591 | F23: 0.022893519 | G23: Caroline | H23: Hale | I23: V 55 | J23: GCR | K23: 1 | L23: F | N23: =$B23 -> 19 | U23: =$D23 -> 13
A24: 143 | B24: 20 | C24: 7 | D24: 14 | E24: 421 | F24: 0.022986111 | G24: Harriet | H24: MacSween | I24: V 35 | J24: ORH | K24: 1 | L24: F | P24: =$B24 -> 20 | W24: =$D24 -> 14
A25: 149 | B25: 21 | E25: 608 | F25: 0.023263889 | G25: Amber-Leigh | H25: Marvin | I25: S | J25: GCR | K25: 1 | L25: F | N25: =$B25 -> 21
A26: 153 | B26: 22 | C26: 8 | D26: 15 | E26: 585 | F26: 0.023402778 | G26: Hannah | H26: Frank | I26: V 35 | J26: GCR | K26: 1 | L26: F | N26: =$B26 -> 22 | U26: =$D26 -> 15
A27: 155 | B27: 23 | C27: 7 | D27: 16 | E27: 394 | F27: 0.023483796 | G27: Rachel | H27: Arnott | I27: V 45 | J27: NHRR | K27: 1 | L27: F | O27: =$B27 -> 23 | V27: =$D27 -> 16
A28: 156 | B28: 24 | C28: 2 | D28: 17 | E28: 572 | F28: 0.023541667 | G28: Rebecca | H28: Barden | I28: V 55 | J28: GCR | K28: 1 | L28: F | N28: =$B28 -> 24 | U28: =$D28 -> 17
A29: 159 | B29: 25 | C29: 8 | D29: 18 | E29: 534 | F29: 0.023634259 | G29: Louise | H29: Juby | I29: V 45 | J29: ORH | K29: 1 | L29: F | P29: =$B29 -> 25 | W29: =$D29 -> 18
A30: 161 | B30: 26 | C30: 9 | D30: 19 | E30: 229 | F30: 0.023726852 | G30: Beata | H30: Falkowska | I30: V 45 | J30: TPK | K30: 1 | L30: F | R30: =$B30 -> 26 | Y30: =$D30 -> 19
A31: 163 | B31: 27 | E31: 811 | F31: 0.023935185 | G31: Hannah | H31: Smee | I31: S | J31: DAC | K31: 1 | L31: F | M31: =$B31 -> 27
A32: 164 | B32: 28 | C32: 10 | D32: 20 | E32: 425 | F32: 0.023958333 | G32: Nikkii | H32: Barnett | I32: V 45 | J32: ORH | K32: 1 | L32: F | P32: =$B32 -> 28 | W32: =$D32 -> 20
A33: 165 | B33: 29 | C33: 11 | D33: 21 | E33: 299 | F33: 0.024108796 | G33: Siobhan | H33: Weir | I33: V 45 | J33: TPK | K33: 1 | L33: F | R33: =$B33 -> 29 | Y33: =$D33 -> 21
A34: 166 | B34: 30 | E34: 343 | F34: 0.024131944 | G34: Sarah | H34: Hartley | I34: S | J34: NHRR | K34: 1 | L34: F | O34: =$B34 -> 30
A35: 168 | B35: 31 | C35: 12 | D35: 22 | E35: 403 | F35: 0.024166667 | G35: Paula | H35: Holm | I35: V 45 | J35: NHRR | K35: 1 | L35: F | O35: =$B35 -> 31 | V35: =$D35 -> 22
A36: 171 | B36: 32 | C36: 1 | E36: 213 | F36: 0.024282407 | G36: Poppy | H36: Allwright | I36: U 20 | J36: TPK | K36: 1 | L36: F | R36: =$B36 -> 32
A37: 174 | B37: 33 | C37: 13 | D37: 23 | E37: 427 | F37: 0.02431713 | G37: Katharine | H37: Hancox | I37: V 45 | J37: ORH | K37: 1 | L37: F | P37: =$B37 -> 33 | W37: =$D37 -> 23
A38: 176 | B38: 34 | C38: 14 | D38: 24 | E38: 303 | F38: 0.024328704 | G38: Aimee | H38: Jenner | I38: V 45 | J38: TPK | K38: 1 | L38: F | R38: =$B38 -> 34 | Y38: =$D38 -> 24
A39: 177 | B39: 35 | C39: 15 | D39: 25 | E39: 365 | F39: 0.024351852 | G39: Jane | H39: Clarke | I39: V 45 | J39: NHRR | K39: 1 | L39: F | O39: =$B39 -> 35 | V39: =$D39 -> 25
A40: 181 | B40: 36 | C40: 9 | D40: 26 | E40: 721 | F40: 0.024525463 | G40: Lauren | H40: Potter | I40: V 35 | J40: GCR | K40: 1 | L40: F | N40: =$B40 -> 36 | U40: =$D40 -> 26
...

Sheet Men
A1: 2025 MID WEEK LEAGUE sponsored by
M2: DAC | N2: GCR | O2: NHRR | P2: ORH | Q2: SAS | R2: TPK | T2: DAC | U2: GCR | V2: NHRR | W2: ORH | X2: SAS | Y2: TPK
A3: =Team!A3 -> RACE 4 : Dacorum 7k - Tues 1st July 2025 | M3: =SUM(SMALL(M$5:M$221,{1,2,3,4,5,6,7,8,9,10,11,12})) -> 463 | N3: =SUM(SMALL(N$5:N$221,{1,2,3,4,5,6,7,8,9,10,11,12})) -> 490 | O3: =SUM(SMALL(O$5:O$221,{1,2,3,4,5,6,7,8,9,10,11,12})) -> 649 | P3: =SUM(SMALL(P$5:P$221,{1,2,3,4,5,6,7,8,9,10,11,12})) -> 513 | Q3: =SUM(SMALL(Q$5:Q$221,{1,2,3,4,5,6,7,8,9,10,11,12})) -> 287 | R3: =SUM(SMALL(R$5:R$221,{1,2,3,4,5,6,7,8,9,10,11,12})) -> 393 | T3: =SUM(SMALL(T$5:T$221,{1,2,3,4,5,6})) -> 165 | U3: =SUM(SMALL(U$5:U$221,{1,2,3,4,5,6})) -> 145 | V3: =SUM(SMALL(V$5:V$221,{1,2,3,4,5,6})) -> 160 | W3: =SUM(SMALL(W$5:W$221,{1,2,3,4,5,6})) -> 87 | X3: =SUM(SMALL(X$5:X$221,{1,2,3,4,5,6})) -> 101 | Y3: =SUM(SMALL(Y$5:Y$221,{1,2,3,4,5,6})) -> 67
A4: Race | B4: Pos | C4: Cat | D4: Vet | E4: No. | F4: Time | G4: Name | H4: Surname | I4: Cat. | J4: Club | K4: Div | L4: M/F | M4: =COUNT(SMALL(M$5:M$221,{1,2,3,4,5,6,7,8,9,10,11,12})) -> 12 | N4: =COUNT(SMALL(N$5:N$221,{1,2,3,4,5,6,7,8,9,10,11,12})) -> 12 | O4: =COUNT(SMALL(O$5:O$221,{1,2,3,4,5,6,7,8,9,10,11,12})) -> 12 | P4: =COUNT(SMALL(P$5:P$221,{1,2,3,4,5,6,7,8,9,10,11,12})) -> 12 | Q4: =COUNT(SMALL(Q$5:Q$221,{1,2,3,4,5,6,7,8,9,10,11,12})) -> 12 | R4: =COUNT(SMALL(R$5:R$221,{1,2,3,4,5,6,7,8,9,10,11,12})) -> 12 | T4: =COUNT(SMALL(T$5:T$221,{1,2,3,4,5,6})) -> 6 | U4: =COUNT(SMALL(U$5:U$221,{1,2,3,4,5,6})) -> 6 | V4: =COUNT(SMALL(V$5:V$221,{1,2,3,4,5,6})) -> 6 | W4: =COUNT(SMALL(W$5:W$221,{1,2,3,4,5,6})) -> 6 | X4: =COUNT(SMALL(X$5:X$221,{1,2,3,4,5,6})) -> 6 | Y4: =COUNT(SMALL(Y$5:Y$221,{1,2,3,4,5,6})) -> 6
A5: 1 | B5: 1 | E5: 761 | F5: 0.016354167 | G5: Jack | H5: Eykelbosch | I5: S | J5: DAC | K5: 1 | L5: M | M5: =$B5 -> 1
A6: 2 | B6: 2 | E6: 570 | F6: 0.016678241 | G6: Nick | H6: Harris-Fry | I6: S | J6: ORH | K6: 1 | L6: M | P6: =$B6 -> 2
A7: 3 | B7: 3 | E7: 642 | F7: 0.016770833 | G7: Bradley | H7: Birch | I7: S | J7: GCR | K7: 1 | L7: M | N7: =$B7 -> 3
A8: 4 | B8: 4 | E8: 8 | F8: 0.016898148 | G8: Adam | H8: Yorwerth | I8: S | J8: SAS | K8: 1 | L8: M | Q8: =$B8 -> 4
A9: 5 | B9: 5 | E9: 807 | F9: 0.017268519 | G9: Angus | H9: Saunders | I9: S | J9: DAC | K9: 1 | L9: M | M9: =$B9 -> 5
A10: 6 | B10: 6 | C10: 1 | D10: 1 | E10: 435 | F10: 0.017326389 | G10: Graham | H10: Wilkinson | I10: V 40 | J10: ORH | K10: 1 | L10: M | P10: =$B10 -> 6 | W10: =$D10 -> 1
A11: 7 | B11: 7 | C11: 1 | E11: 307 | F11: 0.017465278 | G11: Ethan | H11: Jackson | I11: U 20 | J11: TPK | K11: 1 | L11: M | R11: =$B11 -> 7
A12: 8 | B12: 8 | E12: 389 | F12: 0.017546296 | G12: Ben | H12: Hadman | I12: S | J12: NHRR | K12: 1 | L12: M | O12: =$B12 -> 8
A13: 9 | B13: 9 | E13: 124 | F13: 0.017708333 | G13: Will | H13: Lindsey | I13: S | J13: SAS | K13: 1 | L13: M | Q13: =$B13 -> 9
A14: 10 | B14: 10 | E14: 837 | F14: 0.017743056 | G14: Mark | H14: Baines* | I14: S | J14: DAC | K14: 1 | L14: M | M14: =$B14 -> 10
A15: 11 | B15: 11 | C15: 2 | D15: 2 | E15: 231 | F15: 0.017766204 | G15: Charles | H15: Bruce | I15: V 40 | J15: TPK | K15: 1 | L15: M | R15: =$B15 -> 11 | Y15: =$D15 -> 2
A16: 12 | B16: 12 | C16: 3 | D16: 3 | E16: 112 | F16: 0.01787037 | G16: Paul | H16: Adams | I16: V 40 | J16: SAS | K16: 1 | L16: M | Q16: =$B16 -> 12 | X16: =$D16 -> 3
A17: 13 | B17: 13 | E17: 579 | F17: 0.017905093 | G17: Danny | H17: Figg | I17: S | J17: GCR | K17: 1 | L17: M | N17: =$B17 -> 13
A18: 14 | B18: 14 | E18: 185 | F18: 0.017974537 | G18: Jacob | H18: James | I18: S | J18: SAS | K18: 1 | L18: M | Q18: =$B18 -> 14
A19: 15 | B19: 15 | E19: 263 | F19: 0.017997685 | G19: Matt | H19: Hogsden | I19: S | J19: TPK | K19: 1 | L19: M | R19: =$B19 -> 15
A20: 16 | B20: 16 | E20: 410 | F20: 0.01806713 | G20: Ben | H20: Sewell | I20: S | J20: NHRR | K20: 1 | L20: M | O20: =$B20 -> 16
A21: 18 | B21: 17 | E21: 386 | F21: 0.018240741 | G21: Sam | H21: Coxon | I21: S | J21: NHRR | K21: 1 | L21: M | O21: =$B21 -> 17
A22: 19 | B22: 18 | E22: 706 | F22: 0.018252315 | G22: Daniel | H22: Pudner | I22: S | J22: GCR | K22: 1 | L22: M | N22: =$B22 -> 18
A23: 20 | B23: 19 | C23: 4 | D23: 4 | E23: 11 | F23: 0.018298611 | G23: Stefano | H23: Federici | I23: V 40 | J23: SAS | K23: 1 | L23: M | Q23: =$B23 -> 19 | X23: =$D23 -> 4
A24: 21 | B24: 20 | E24: 1 | F24: 0.018310185 | G24: Chris | H24: Dennell | I24: S | J24: SAS | K24: 1 | L24: M | Q24: =$B24 -> 20
A25: 22 | B25: 21 | C25: 1 | D25: 5 | E25: 233 | F25: 0.018333333 | G25: Ed | H25: De Los Rios | I25: V 50 | J25: TPK | K25: 1 | L25: M | R25: =$B25 -> 21 | Y25: =$D25 -> 5
A26: 23 | B26: 22 | E26: 1963 | F26: 0.018368056 | G26: Jack | H26: Raine | I26: S | J26: DAC | K26: 1 | L26: M | M26: =$B26 -> 22
A27: 24 | B27: 23 | C27: 5 | D27: 6 | E27: 115 | F27: 0.018368056 | G27: Matthew | H27: Cooper | I27: V 40 | J27: SAS | K27: 1 | L27: M | Q27: =$B27 -> 23 | X27: =$D27 -> 6
A28: 25 | B28: 24 | C28: 2 | D28: 7 | E28: 675 | F28: 0.018391204 | G28: Paul | H28: Guy | I28: V 50 | J28: GCR | K28: 1 | L28: M | N28: =$B28 -> 24 | U28: =$D28 -> 7
A29: 26 | B29: 25 | E29: 222 | F29: 0.018414352 | G29: Ben | H29: Allen | I29: S | J29: TPK | K29: 1 | L29: M | R29: =$B29 -> 25
A30: 27 | B30: - | E30: 2093 | F30: 0.0184375 | G30: Conor | H30: O'Hara-Barrett* | I30: S | J30: Guest (NHRR) | K30: 1 | L30: M
A31: 28 | B31: 26 | E31: 768 | F31: 0.01849537 | G31: Matt | H31: Hamilton | I31: S | J31: DAC | K31: 1 | L31: M | M31: =$B31 -> 26
A32: 29 | B32: 27 | E32: 242 | F32: 0.018530093 | G32: Luke | H32: Barker | I32: S | J32: TPK | K32: 1 | L32: M | R32: =$B32 -> 27
A33: 30 | B33: 28 | C33: 6 | D33: 8 | E33: 745 | F33: 0.018564815 | G33: Ben | H33: Beecroft | I33: V 40 | J33: DAC | K33: 1 | L33: M | M33: =$B33 -> 28 | T33: =$D33 -> 8
A34: 31 | B34: 29 | C34: 7 | D34: 9 | E34: 565 | F34: 0.018645833 | G34: John | H34: Henry* | I34: V 40 | J34: ORH | K34: 1 | L34: M | P34: =$B34 -> 29 | W34: =$D34 -> 9
A35: 32 | B35: 30 | E35: 56 | F35: 0.018738426 | G35: Matthew | H35: Nicholson | I35: S | J35: SAS | K35: 1 | L35: M | Q35: =$B35 -> 30
A36: 33 | B36: 31 | E36: 48 | F36: 0.018784722 | G36: Alex | H36: Smith | I36: S | J36: SAS | K36: 1 | L36: M | Q36: =$B36 -> 31
A37: 34 | B37: 32 | C37: 8 | D37: 10 | E37: 568 | F37: 0.018819444 | G37: Jason | H37: Wray | I37: V 40 | J37: ORH | K37: 1 | L37: M | P37: =$B37 -> 32 | W37: =$D37 -> 10
A38: 35 | B38: 33 | E38: 637 | F38: 0.018842593 | G38: Joe | H38: Ansbro | I38: S | J38: GCR | K38: 1 | L38: M | N38: =$B38 -> 33
A39: 36 | B39: 34 | C39: 9 | D39: 11 | E39: 306 | F39: 0.018888889 | G39: David | H39: Weir | I39: V 40 | J39: TPK | K39: 1 | L39: M | R39: =$B39 -> 34 | Y39: =$D39 -> 11
A40: 37 | B40: 35 | C40: 10 | D40: 12 | E40: 272 | F40: 0.018946759 | G40: James | H40: Arrowsmith | I40: V 40 | J40: TPK | K40: 1 | L40: M | R40: =$B40 -> 35 | Y40: =$D40 -> 12
...
