Workbook

Sheet Team
A1: 2025 MID WEEK LEAGUE sponsored by | AG1: 2025 MID WEEK LEAGUE sponsored by
A3: RACE 4 : Dacorum 7k - Tues 1st July 2025 | AG3: CUMULATIVE POSITIONS AFTER 3 RACES
A5: Pos | B5: MEN | F5: Points | G5: Score | I5: Pos | J5: WOMEN | M5: Points | N5: Score | AG5: Pos | AH5: MEN | AL5: Points | AM5: Score | AO5: Pos | AP5: WOMEN | AS5: Points | AT5: Score
A6: 1 | B6: St Albans Striders | F6: 6 | G6: =Men!$Q$3 -> 287 | I6: 1 | J6: St Albans Striders | M6: 6 | N6: =Women!$Q$3 -> 125 | AG6: 1 | AH6: St Albans Striders | AL6: 18 | AM6: 776 | AO6: 1 | AP6: St Albans Striders | AS6: 18 | AT6: 247
A7: 2 | B7: Trent Park Running Club | F7: 5 | G7: =Men!$R$3 -> 393 | I7: 2 | J7: Garden City Runners | M7: 5 | N7: =Women!$N$3 -> 178 | AG7: 2 | AH7: Trent Park Running Club | AL7: 15 | AM7: 1142 | AO7: 2 | AP7: North Herts Road Runners | AS7: 14 | AT7: 554
A8: 3 | B8: Dacorum AC | F8: 4 | G8: =Men!$M$3 -> 463 | I8: 3 | J8: Orion Harriers | M8: 4 | N8: =Women!$P$3 -> 213 | AG8: 3 | AH8: North Herts Road Runners | AL8: 11 | AM8: 1419 | AO8: 3 | AP8: Orion Harriers | AS8: 11 | AT8: 725
A9: 4 | B9: Garden City Runners | F9: 3 | G9: =Men!$N$3 -> 490 | I9: 4 | J9: Dacorum AC | M9: 3 | N9: =Women!$M$3 -> 219 | AG9: 4 | AH9: Garden City Runners | AL9: 9 | AM9: 1521 | AO9: 4 | AP9: Garden City Runners | AS9: 10 | AT9: 753
A10: 5 | B10: Orion Harriers | F10: 2 | G10: =Men!$P$3 -> 513 | I10: 5 | J10: Trent Park Running Club | M10: 2 | N10: =Women!$R$3 -> 224 | AG10: 5 | AH10: Orion Harriers | AL10: 6 | AM10: 1993 | AO10: 5 | AP10: Dacorum AC | AS10: 5 | AT10: 913
A11: 6 | B11: North Herts Road Runners | F11: 1 | G11: =Men!$O$3 -> 649 | I11: 6 | J11: North Herts Road Runners | M11: 1 | N11: =Women!$O$3 -> 244 | AG11: 6 | AH11: Dacorum AC | AL11: 4 | AM11: 1964 | AO11: 6 | AP11: Trent Park Running Club | AS11: 5 | AT11: 922
A12: 7 | B12: SAS 'B' | G12: =Men!$Q$223 -> 886 | I12: 7 | J12: SAS 'B' | N12: =Women!$Q$131 -> 458 | AG12: 7 | AH12: SAS 'B' | AM12: 2787 | AO12: 7 | AP12: SAS 'B' | AT12: 998
A13: 8 | B13: GCR 'B' | G13: =Men!$N$223 -> 1154 | I13: 8 | J13: GCR 'B' | N13: =Women!$N$131 -> 531 | AG13: 8 | AH13: GCR 'B' | AM13: 3209 | AO13: 8 | AP13: NHRR 'B' | AT13: 1614
A14: 9 | B14: TPK 'B' | G14: =Men!$R$223 -> 1284 | I14: 9 | J14: DAC 'B' | N14: =Women!$M$131 -> 617 | AG14: 9 | AH14: TPK 'B' | AM14: 4034 | AO14: 9 | AP14: GCR 'B' | AT14: 1728
A15: 10 | B15: SAS 'C' | G15: =Men!$Q$226 -> 1512 | I15: 10 | J15: ORH 'B' | N15: =Women!$P$131 -> 618 | AG15: 10 | AH15: NHRR 'B' | AM15: 4365 | AO15: 10 | AP15: SAS 'C' | AT15: 1924
A16: 11 | B16: ORH 'B' | G16: =Men!$P$223 -> 1591 | I16: 11 | J16: NHRR 'B' | N16: =Women!$O$131 -> 661 | AG16: 11 | AH16: SAS 'C' | AM16: 4726 | AO16: 11 | AP16: TPK 'B' | AT16: 2200
A17: 12 | B17: NHRR 'B' | G17: =Men!$O$223 -> 1727 | I17: 12 | J17: TPK 'B' | N17: =Women!$R$131 -> 686 | AG17: 12 | AH17: GCR 'C' | AM17: 5090 | AO17: 12 | AP17: DAC 'B' | AT17: 2360
A18: 13 | B18: GCR 'C' | G18: =Men!$N$226 -> 1750 | I18: 13 | J18: SAS 'C' | N18: =Women!$Q$134 -> 713 | AG18: 13 | AH18: DAC 'B' | AM18: 5272 | AO18: 13 | AP18: GCR 'C' | AT18: 2752
A19: 14 | B19: TPK 'C' | G19: =Men!$R$226 -> 1937 | I19: 14 | J19: GCR 'C' | N19: =Women!$N$134 -> 913 | AG19: 14 | AH19: GCR 'D' | AM19: 7015
A20: 15 | B20: SAS 'D' | G20: =Men!$Q$229 -> 2072 | AG20: 15 | AH20: TPK 'C' | AM20: 7167
AG21: 16 | AH21: SAS 'D' | AM21: 7213
E22: Pos | F22: OVERALL | J22: Points | K22: Score
E23: 1 | F23: St Albans Striders | J23: =VLOOKUP($F23,$B$6:$G$21,5,0)+VLOOKUP($F23,$J$6:$N$21,4,0) -> 12 | K23: =VLOOKUP($F23,$B$6:$G$21,6,0)+VLOOKUP($F23,$J$6:$N$21,5,0) -> 412
E24: 2 | F24: Garden City Runners | J24: =VLOOKUP($F24,$B$6:$G$21,5,0)+VLOOKUP($F24,$J$6:$N$21,4,0) -> 8 | K24: =VLOOKUP($F24,$B$6:$G$21,6,0)+VLOOKUP($F24,$J$6:$N$21,5,0) -> 668
E25: 3 | F25: Trent Park Running Club | J25: =VLOOKUP($F25,$B$6:$G$21,5,0)+VLOOKUP($F25,$J$6:$N$21,4,0) -> 7 | K25: =VLOOKUP($F25,$B$6:$G$21,6,0)+VLOOKUP($F25,$J$6:$N$21,5,0) -> 617
E26: 4 | F26: Dacorum AC | J26: =VLOOKUP($F26,$B$6:$G$21,5,0)+VLOOKUP($F26,$J$6:$N$21,4,0) -> 7 | K26: =VLOOKUP($F26,$B$6:$G$21,6,0)+VLOOKUP($F26,$J$6:$N$21,5,0) -> 682
E27: 5 | F27: Orion Harriers | J27: =VLOOKUP($F27,$B$6:$G$21,5,0)+VLOOKUP($F27,$J$6:$N$21,4,0) -> 6 | K27: =VLOOKUP($F27,$B$6:$G$21,6,0)+VLOOKUP($F27,$J$6:$N$21,5,0) -> 726 | AK27: Pos | AL27: OVERALL | AP27: Points | AQ27: Score
E28: 6 | F28: North Herts Road Runners | J28: =VLOOKUP($F28,$B$6:$G$21,5,0)+VLOOKUP($F28,$J$6:$N$21,4,0) -> 2 | K28: =VLOOKUP($F28,$B$6:$G$21,6,0)+VLOOKUP($F28,$J$6:$N$21,5,0) -> 893 | AK28: 1 | AL28: St Albans Striders | AP28: 36 | AQ28: 1023
AK29: 2 | AL29: North Herts Road Runners | AP29: 25 | AQ29: 1973
A30: Pos | B30: VET MEN | F30: Points | G30: Score | I30: Pos | J30: VET WOMEN | M30: Points | N30: Score | AK30: 3 | AL30: Trent Park Running Club | AP30: 20 | AQ30: 2064
A31: 1 | B31: Trent Park Running Club | F31: 6 | G31: =Men!$Y$3 -> 67 | I31: 1 | J31: Dacorum AC | M31: 6 | N31: =Women!$T$3 -> 46 | AK31: 4 | AL31: Garden City Runners | AP31: 19 | AQ31: 2274
A32: 2 | B32: Orion Harriers | F32: 5 | G32: =Men!$W$3 -> 87 | I32: 1 | J32: Garden City Runners | M32: 5 | N32: =Women!$U$3 -> 47 | AK32: 5 | AL32: Orion Harriers | AP32: 17 | AQ32: 2718
A33: 3 | B33: St Albans Striders | F33: 4 | G33: =Men!$X$3 -> 101 | I33: 3 | J33: St Albans Striders | M33: 4 | N33: =Women!$X$3 -> 52 | AK33: 6 | AL33: Dacorum AC | AP33: 9 | AQ33: 2877
A34: 4 | B34: Garden City Runners | F34: 3 | G34: =Men!$U$3 -> 145 | I34: 4 | J34: North Herts Road Runners | M34: 2.5 | N34: =Women!$V$3 -> 53
A35: 5 | B35: North Herts Road Runners | F35: 2 | G35: =Men!$V$3 -> 160 | I35: 4 | J35: Trent Park Running Club | M35: 2.5 | N35: =Women!$Y$3 -> 53 | AG35: Pos | AH35: VET MEN | AL35: Points | AM35: Score | AO35: Pos | AP35: VET WOMEN | AS35: Points | AT35: Score
A36: 6 | B36: Dacorum AC | F36: 1 | G36: =Men!$T$3 -> 165 | I36: 6 | J36: Orion Harriers | M36: 1 | N36: =Women!$W$3 -> 60 | AG36: 1 | AH36: St Albans Striders | AL36: 16 | AM36: 235 | AO36: 1 | AP36: St Albans Striders | AS36: 17 | AT36: 99
A37: 7 | B37: TPK 'B' | G37: =Men!$Y$223 -> 275 | I37: 7 | J37: TPK 'B' | N37: =Women!$Y$131 -> 131 | AG37: 2 | AH37: Trent Park Running Club | AL37: 15 | AM37: 238 | AO37: 2 | AP37: North Herts Road Runners | AS37: 13 | AT37: 149
A38: 8 | B38: ORH 'B' | G38: =Men!$W$223 -> 277 | I38: 8 | J38: GCR 'B' | N38: =Women!$U$131 -> 133 | AG38: 3 | AH38: Orion Harriers | AL38: 11 | AM38: 336 | AO38: 3 | AP38: Dacorum AC | AS38: 9 | AT38: 187
A39: 9 | B39: SAS 'B' | G39: =Men!$X$223 -> 295 | I39: 9 | J39: SAS 'B' | N39: =Women!$X$131 -> 138 | AG39: 4 | AH39: North Herts Road Runners | AL39: 9 | AM39: 421 | AO39: 4 | AP39: Orion Harriers | AS39: 8 | AT39: 181
A40: 10 | B40: NHRR 'B' | G40: =Men!$V$223 -> 328 | I40: 10 | J40: ORH 'B' | N40: =Women!$W$131 -> 143 | AG40: 5 | AH40: Garden City Runners | AL40: 8 | AM40: 435 | AO40: 5 | AP40: Trent Park Running Club | AS40: 8 | AT40: 194
A41: 11 | B41: GCR 'B' | G41: =Men!$U$223 -> 340 | I41: 11 | J41: NHRR 'B' | N41: =Women!$V$131 -> 159 | AG41: 6 | AH41: Dacorum AC | AL41: 4 | AM41: 575 | AO41: 6 | AP41: Garden City Runners | AS41: 8 | AT41: 195
A42: 12 | B42: SAS 'C' | G42: =Men!$X$226 -> 427 | I42: 12 | J42: DAC 'B' | N42: =Women!$T$131 -> 180 | AG42: 7 | AH42: GCR 'B' | AM42: 808 | AO42: 7 | AP42: SAS 'B' | AT42: 321
A43: 13 | B43: TPK 'C' | G43: =Men!$Y$226 -> 484 | I43: 13 | J43: SAS 'C' | N43: =Women!$X$134 -> 189 | AG43: 8 | AH43: SAS 'B' | AM43: 887 | AO43: 8 | AP43: NHRR 'B' | AT43: 412
A44: 14 | B44: GCR 'C' | G44: =Men!$U$226 -> 530 | I44: 14 | J44: ORH 'C' | N44: =Women!$W$134 -> 245 | AG44: 9 | AH44: TPK 'B' | AM44: 928 | AO44: 9 | AP44: GCR 'B' | AT44: 443
A45: 15 | B45: SAS 'D' | G45: =Men!$X$229 -> 572 | I45: 15 | J45: GCR 'C' | N45: =Women!$U$134 -> 257 | AG45: 10 | AH45: NHRR 'B' | AM45: 1077 | AO45: 10 | AP45: ORH 'B' | AT45: 467
A46: 16 | B46: TPK 'D' | G46: =Men!$Y$229 -> 598 | I46: 16 | J46: SAS 'D' | N46: =Women!$X$137 -> 259 | AG46: 11 | AH46: ORH 'B' | AM46: 1220 | AO46: 11 | AP46: TPK 'B' | AT46: 478
A47: 17 | B47: GCR 'D' | G47: =Men!$U$229 -> 662 | I47: 17 | J47: TPK 'C' | N47: =Women!$Y$134 -> 264 | AG47: 12 | AH47: SAS 'C' | AM47: 1333 | AO47: 12 | AP47: SAS 'C' | AT47: 542
A48: 18 | B48: NHRR 'C' | G48: =Men!$V$226 -> 668 | I48: 18 | J48: DAC 'C' | N48: =Women!$T$134 -> 266 | AG48: 13 | AH48: GCR 'C' | AM48: 1353 | AO48: 13 | AP48: DAC 'B' | AT48: 645
A49: 19 | B49: SAS 'E' | G49: =Men!$X$232 -> 684 | I49: 19 | J49: SAS 'E' | N49: =Women!$X$140 -> 304 | AG49: 14 | AH49: DAC 'B' | AM49: 1378 | AO49: 14 | AP49: NHRR 'C' | AT49: 692
A50: 20 | B50: TPK 'E' | G50: =Men!$Y$232 -> 725 | I50: 20 | J50: NHRR 'C' | N50: =Women!$V$134 -> 307 | AG50: 15 | AH50: NHRR 'C' | AM50: 1654 | AO50: 15 | AP50: TPK 'C' | AT50: 733
A51: 21 | B51: SAS 'F' | G51: =Men!$X$235 -> 793 | I51: 21 | J51: TPK 'D' | N51: =Women!$Y$137 -> 330 | AG51: 16 | AH51: TPK 'C' | AM51: 1714 | AO51: 16 | AP51: GCR 'C' | AT51: 742
A52: 22 | B52: GCR 'E' | G52: =Men!$U$232 -> 831 | I52: 22 | J52: SAS 'F' | N52: =Women!$X$143 -> 349 | AG52: 17 | AH52: DAC 'C' | AM52: 1848 | AO52: 17 | AP52: SAS 'D' | AT52: 761
A53: 23 | B53: SAS 'G' | G53: =Men!$X$238 -> 855 | I53: 23 | J53: GCR 'D' | N53: =Women!$U$137 -> 367 | AG53: 18 | AH53: SAS 'D' | AM53: 1919 | AO53: 18 | AP53: DAC 'C' | AT53: 880
I54: 24 | J54: GCR 'E' | N54: =Women!$U$140 -> 399 | AG54: 19 | AH54: GCR 'D' | AM54: 1958 | AO54: 19 | AP54: GCR 'D' | AT54: 1031
AG55: 20 | AH55: NHRR 'D' | AM55: 2363 | AO55: 20 | AP55: SAS 'E' | AT55: 1038
E56: Pos | F56: OVERALL VETS | J56: Points | K56: Score | AG56: 21 | AH56: TPK 'D' | AM56: 2399 | AO56: 21 | AP56: TPK 'D' | AT56: 1051
E57: 1 | F57: Trent Park Running Club | J57: =VLOOKUP($F57,$B$31:$G$55,5,0)+VLOOKUP($F57,$J$31:$N$55,4,0) -> 8.5 | K57: =VLOOKUP($F57,$B$31:$G$55,6,0)+VLOOKUP($F57,$J$31:$N$55,5,0) -> 120 | AG57: 22 | AH57: GCR 'E' | AM57: 2479 | AO57: 22 | AP57: NHRR 'D' | AT57: 1100
E58: 2 | F58: St Albans Striders | J58: =VLOOKUP($F58,$B$31:$G$55,5,0)+VLOOKUP($F58,$J$31:$N$55,4,0) -> 8 | K58: =VLOOKUP($F58,$B$31:$G$55,6,0)+VLOOKUP($F58,$J$31:$N$55,5,0) -> 153 | AG58: 23 | AH58: SAS 'E' | AM58: 2591 | AO58: 23 | AP58: TPK 'E' | AT58: 1199
E59: 3 | F59: Garden City Runners | J59: =VLOOKUP($F59,$B$31:$G$55,5,0)+VLOOKUP($F59,$J$31:$N$55,4,0) -> 8 | K59: =VLOOKUP($F59,$B$31:$G$55,6,0)+VLOOKUP($F59,$J$31:$N$55,5,0) -> 192 | AG59: 24 | AH59: GCR 'F' | AM59: 2876 | AO59: 24 | AP59: GCR 'E' | AT59: 1218
E60: 4 | F60: Dacorum AC | J60: =VLOOKUP($F60,$B$31:$G$55,5,0)+VLOOKUP($F60,$J$31:$N$55,4,0) -> 7 | K60: =VLOOKUP($F60,$B$31:$G$55,6,0)+VLOOKUP($F60,$J$31:$N$55,5,0) -> 211 | AO60: 25 | AP60: GCR 'F' | AT60: 1470
E61: 5 | F61: Orion Harriers | J61: =VLOOKUP($F61,$B$31:$G$55,5,0)+VLOOKUP($F61,$J$31:$N$55,4,0) -> 6 | K61: =VLOOKUP($F61,$B$31:$G$55,6,0)+VLOOKUP($F61,$J$31:$N$55,5,0) -> 147
E62: 6 | F62: North Herts Road Runners | J62: =VLOOKUP($F62,$B$31:$G$55,5,0)+VLOOKUP($F62,$J$31:$N$55,4,0) -> 4.5 | K62: =VLOOKUP($F62,$B$31:$G$55,6,0)+VLOOKUP($F62,$J$31:$N$55,5,0) -> 213
A65: FINAL POSITIONS AFTER 4 RACES
A67: Pos | B67: MEN | F67: Points | G67: Score | I67: Pos | J67: WOMEN | M67: Points | N67: Score
A68: 1 | B68: St Albans Striders | F68: =VLOOKUP($B68,$B$6:$G$21,5,0)+VLOOKUP($B68,$AH$6:$AM$26,5,0) -> 24 | G68: =VLOOKUP($B68,$B$6:$G$21,6,0)+VLOOKUP($B68,$AH$6:$AM$26,6,0) -> 1063 | I68: 1 | J68: St Albans Striders | M68: =VLOOKUP($J68,$J$6:$N$21,4,0)+VLOOKUP($J68,$AP$6:$AT$26,4,0) -> 24 | N68: =VLOOKUP($J68,$J$6:$N$21,5,0)+VLOOKUP($J68,$AP$6:$AT$26,5,0) -> 372
A69: 2 | B69: Trent Park Running Club | F69: =VLOOKUP($B69,$B$6:$G$21,5,0)+VLOOKUP($B69,$AH$6:$AM$26,5,0) -> 20 | G69: =VLOOKUP($B69,$B$6:$G$21,6,0)+VLOOKUP($B69,$AH$6:$AM$26,6,0) -> 1535 | I69: 2 | J69: North Herts Road Runners | M69: =VLOOKUP($J69,$J$6:$N$21,4,0)+VLOOKUP($J69,$AP$6:$AT$26,4,0) -> 15 | N69: =VLOOKUP($J69,$J$6:$N$21,5,0)+VLOOKUP($J69,$AP$6:$AT$26,5,0) -> 798
A70: 3 | B70: Garden City Runners | F70: =VLOOKUP($B70,$B$6:$G$21,5,0)+VLOOKUP($B70,$AH$6:$AM$26,5,0) -> 12 | G70: =VLOOKUP($B70,$B$6:$G$21,6,0)+VLOOKUP($B70,$AH$6:$AM$26,6,0) -> 2011 | I70: 3 | J70: Garden City Runners | M70: =VLOOKUP($J70,$J$6:$N$21,4,0)+VLOOKUP($J70,$AP$6:$AT$26,4,0) -> 15 | N70: =VLOOKUP($J70,$J$6:$N$21,5,0)+VLOOKUP($J70,$AP$6:$AT$26,5,0) -> 931
A71: 4 | B71: North Herts Road Runners | F71: =VLOOKUP($B71,$B$6:$G$21,5,0)+VLOOKUP($B71,$AH$6:$AM$26,5,0) -> 12 | G71: =VLOOKUP($B71,$B$6:$G$21,6,0)+VLOOKUP($B71,$AH$6:$AM$26,6,0) -> 2068 | I71: 4 | J71: Orion Harriers | M71: =VLOOKUP($J71,$J$6:$N$21,4,0)+VLOOKUP($J71,$AP$6:$AT$26,4,0) -> 15 | N71: =VLOOKUP($J71,$J$6:$N$21,5,0)+VLOOKUP($J71,$AP$6:$AT$26,5,0) -> 938
A72: 5 | B72: Dacorum AC | F72: =VLOOKUP($B72,$B$6:$G$21,5,0)+VLOOKUP($B72,$AH$6:$AM$26,5,0) -> 8 | G72: =VLOOKUP($B72,$B$6:$G$21,6,0)+VLOOKUP($B72,$AH$6:$AM$26,6,0) -> 2427 | I72: 5 | J72: Dacorum AC | M72: =VLOOKUP($J72,$J$6:$N$21,4,0)+VLOOKUP($J72,$AP$6:$AT$26,4,0) -> 8 | N72: =VLOOKUP($J72,$J$6:$N$21,5,0)+VLOOKUP($J72,$AP$6:$AT$26,5,0) -> 1132 | AK72: Pos | AL72: OVERALL VETS | AP72: Points | AQ72: Score
A73: 6 | B73: Orion Harriers | F73: =VLOOKUP($B73,$B$6:$G$21,5,0)+VLOOKUP($B73,$AH$6:$AM$26,5,0) -> 8 | G73: =VLOOKUP($B73,$B$6:$G$21,6,0)+VLOOKUP($B73,$AH$6:$AM$26,6,0) -> 2506 | I73: 6 | J73: Trent Park Running Club | M73: =VLOOKUP($J73,$J$6:$N$21,4,0)+VLOOKUP($J73,$AP$6:$AT$26,4,0) -> 7 | N73: =VLOOKUP($J73,$J$6:$N$21,5,0)+VLOOKUP($J73,$AP$6:$AT$26,5,0) -> 1146 | AK73: 1 | AL73: St Albans Striders | AP73: 33 | AQ73: 334
A74: 7 | B74: SAS 'B' | G74: =VLOOKUP($B74,$B$6:$G$21,6,0)+VLOOKUP($B74,$AH$6:$AM$26,6,0) -> 3673 | I74: 7 | J74: SAS 'B' | N74: =VLOOKUP($J74,$J$6:$N$21,5,0)+VLOOKUP($J74,$AP$6:$AT$26,5,0) -> 1456 | AK74: 2 | AL74: Trent Park Running Club | AP74: 23 | AQ74: 432
A75: 8 | B75: GCR 'B' | G75: =VLOOKUP($B75,$B$6:$G$21,6,0)+VLOOKUP($B75,$AH$6:$AM$26,6,0) -> 4363 | I75: 8 | J75: GCR 'B' | N75: =VLOOKUP($J75,$J$6:$N$21,5,0)+VLOOKUP($J75,$AP$6:$AT$26,5,0) -> 2259 | AK75: 3 | AL75: North Herts Road Runners | AP75: 22 | AQ75: 570
A76: 9 | B76: TPK 'B' | G76: =VLOOKUP($B76,$B$6:$G$21,6,0)+VLOOKUP($B76,$AH$6:$AM$26,6,0) -> 5318 | I76: 9 | J76: NHRR 'B' | N76: =VLOOKUP($J76,$J$6:$N$21,5,0)+VLOOKUP($J76,$AP$6:$AT$26,5,0) -> 2275 | AK76: 4 | AL76: Orion Harriers | AP76: 19 | AQ76: 517
A77: 10 | B77: NHRR 'B' | G77: =VLOOKUP($B77,$B$6:$G$21,6,0)+VLOOKUP($B77,$AH$6:$AM$26,6,0) -> 6092 | I77: 10 | J77: SAS 'C' | N77: =VLOOKUP($J77,$J$6:$N$21,5,0)+VLOOKUP($J77,$AP$6:$AT$26,5,0) -> 2637 | AK77: 5 | AL77: Garden City Runners | AP77: 16 | AQ77: 630
A78: 11 | B78: SAS 'C' | G78: =VLOOKUP($B78,$B$6:$G$21,6,0)+VLOOKUP($B78,$AH$6:$AM$26,6,0) -> 6238 | I78: 11 | J78: TPK 'B' | N78: =VLOOKUP($J78,$J$6:$N$21,5,0)+VLOOKUP($J78,$AP$6:$AT$26,5,0) -> 2886 | AK78: 6 | AL78: Dacorum AC | AP78: 13 | AQ78: 762
A79: 12 | B79: GCR 'C' | G79: =VLOOKUP($B79,$B$6:$G$21,6,0)+VLOOKUP($B79,$AH$6:$AM$26,6,0) -> 6840 | I79: 12 | J79: DAC 'B' | N79: =VLOOKUP($J79,$J$6:$N$21,5,0)+VLOOKUP($J79,$AP$6:$AT$26,5,0) -> 2977
A80: 13 | B80: TPK 'C' | G80: =VLOOKUP($B80,$B$6:$G$21,6,0)+VLOOKUP($B80,$AH$6:$AM$26,6,0) -> 9104 | I80: 13 | J80: GCR 'C' | N80: =VLOOKUP($J80,$J$6:$N$21,5,0)+VLOOKUP($J80,$AP$6:$AT$26,5,0) -> 3665
A81: 14 | B81: SAS 'D' | G81: =VLOOKUP($B81,$B$6:$G$21,6,0)+VLOOKUP($B81,$AH$6:$AM$26,6,0) -> 9285
E83: Pos | F83: OVERALL | J83: Points | K83: Score
E84: 1 | F84: St Albans Striders | J84: =VLOOKUP($F84,$B$68:$G$82,5,0)+VLOOKUP($F84,$J$68:$N$82,4,0) -> 48 | K84: =VLOOKUP($F84,$B$68:$G$82,6,0)+VLOOKUP($F84,$J$68:$N$82,5,0) -> 1435
E85: 2 | F85: Trent Park Running Club | J85: =VLOOKUP($F85,$B$68:$G$82,5,0)+VLOOKUP($F85,$J$68:$N$82,4,0) -> 27 | K85: =VLOOKUP($F85,$B$68:$G$82,6,0)+VLOOKUP($F85,$J$68:$N$82,5,0) -> 2681
E86: 3 | F86: North Herts Road Runners | J86: =VLOOKUP($F86,$B$68:$G$82,5,0)+VLOOKUP($F86,$J$68:$N$82,4,0) -> 27 | K86: =VLOOKUP($F86,$B$68:$G$82,6,0)+VLOOKUP($F86,$J$68:$N$82,5,0) -> 2866
E87: 4 | F87: Garden City Runners | J87: =VLOOKUP($F87,$B$68:$G$82,5,0)+VLOOKUP($F87,$J$68:$N$82,4,0) -> 27 | K87: =VLOOKUP($F87,$B$68:$G$82,6,0)+VLOOKUP($F87,$J$68:$N$82,5,0) -> 2942
E88: 5 | F88: Orion Harriers | J88: =VLOOKUP($F88,$B$68:$G$82,5,0)+VLOOKUP($F88,$J$68:$N$82,4,0) -> 23 | K88: =VLOOKUP($F88,$B$68:$G$82,6,0)+VLOOKUP($F88,$J$68:$N$82,5,0) -> 3444
E89: 6 | F89: Dacorum AC | J89: =VLOOKUP($F89,$B$68:$G$82,5,0)+VLOOKUP($F89,$J$68:$N$82,4,0) -> 16 | K89: =VLOOKUP($F89,$B$68:$G$82,6,0)+VLOOKUP($F89,$J$68:$N$82,5,0) -> 3559
A91: Pos | B91: VET MEN | F91: Points | G91: Score | I91: Pos | J91: VET WOMEN | M91: Points | N91: Score
A92: 1 | B92: Trent Park Running Club | F92: =VLOOKUP($B92,$B$31:$G$55,5,0)+VLOOKUP($B92,$AH$36:$AM$71,5,0) -> 21 | G92: =VLOOKUP($B92,$B$31:$G$55,6,0)+VLOOKUP($B92,$AH$36:$AM$71,6,0) -> 305 | I92: 1 | J92: St Albans Striders | M92: =VLOOKUP($J92,$J$31:$N$55,4,0)+VLOOKUP($J92,$AP$36:$AT$71,4,0) -> 21 | N92: =VLOOKUP($J92,$J$31:$N$55,5,0)+VLOOKUP($J92,$AP$36:$AT$71,5,0) -> 151
A93: 2 | B93: St Albans Striders | F93: =VLOOKUP($B93,$B$31:$G$55,5,0)+VLOOKUP($B93,$AH$36:$AM$71,5,0) -> 20 | G93: =VLOOKUP($B93,$B$31:$G$55,6,0)+VLOOKUP($B93,$AH$36:$AM$71,6,0) -> 336 | I93: 2 | J93: North Herts Road Runners | M93: =VLOOKUP($J93,$J$31:$N$55,4,0)+VLOOKUP($J93,$AP$36:$AT$71,4,0) -> 15.5 | N93: =VLOOKUP($J93,$J$31:$N$55,5,0)+VLOOKUP($J93,$AP$36:$AT$71,5,0) -> 202
A94: 3 | B94: Orion Harriers | F94: =VLOOKUP($B94,$B$31:$G$55,5,0)+VLOOKUP($B94,$AH$36:$AM$71,5,0) -> 16 | G94: =VLOOKUP($B94,$B$31:$G$55,6,0)+VLOOKUP($B94,$AH$36:$AM$71,6,0) -> 423 | I94: 3 | J94: Dacorum AC | M94: =VLOOKUP($J94,$J$31:$N$55,4,0)+VLOOKUP($J94,$AP$36:$AT$71,4,0) -> 15 | N94: =VLOOKUP($J94,$J$31:$N$55,5,0)+VLOOKUP($J94,$AP$36:$AT$71,5,0) -> 233
A95: 4 | B95: Garden City Runners | F95: =VLOOKUP($B95,$B$31:$G$55,5,0)+VLOOKUP($B95,$AH$36:$AM$71,5,0) -> 11 | G95: =VLOOKUP($B95,$B$31:$G$55,6,0)+VLOOKUP($B95,$AH$36:$AM$71,6,0) -> 580 | I95: 4 | J95: Garden City Runners | M95: =VLOOKUP($J95,$J$31:$N$55,4,0)+VLOOKUP($J95,$AP$36:$AT$71,4,0) -> 13 | N95: =VLOOKUP($J95,$J$31:$N$55,5,0)+VLOOKUP($J95,$AP$36:$AT$71,5,0) -> 242
A96: 5 | B96: North Herts Road Runners | F96: =VLOOKUP($B96,$B$31:$G$55,5,0)+VLOOKUP($B96,$AH$36:$AM$71,5,0) -> 11 | G96: =VLOOKUP($B96,$B$31:$G$55,6,0)+VLOOKUP($B96,$AH$36:$AM$71,6,0) -> 581 | I96: 5 | J96: Trent Park Running Club | M96: =VLOOKUP($J96,$J$31:$N$55,4,0)+VLOOKUP($J96,$AP$36:$AT$71,4,0) -> 10.5 | N96: =VLOOKUP($J96,$J$31:$N$55,5,0)+VLOOKUP($J96,$AP$36:$AT$71,5,0) -> 247
A97: 6 | B97: Dacorum AC | F97: =VLOOKUP($B97,$B$31:$G$55,5,0)+VLOOKUP($B97,$AH$36:$AM$71,5,0) -> 5 | G97: =VLOOKUP($B97,$B$31:$G$55,6,0)+VLOOKUP($B97,$AH$36:$AM$71,6,0) -> 740 | I97: 6 | J97: Orion Harriers | M97: =VLOOKUP($J97,$J$31:$N$55,4,0)+VLOOKUP($J97,$AP$36:$AT$71,4,0) -> 9 | N97: =VLOOKUP($J97,$J$31:$N$55,5,0)+VLOOKUP($J97,$AP$36:$AT$71,5,0) -> 241
A98: 7 | B98: GCR 'B' | G98: =VLOOKUP($B98,$B$31:$G$55,6,0)+VLOOKUP($B98,$AH$36:$AM$71,6,0) -> 1148 | I98: 7 | J98: SAS 'B' | N98: =VLOOKUP($J98,$J$31:$N$55,5,0)+VLOOKUP($J98,$AP$36:$AT$71,5,0) -> 459
A99: 8 | B99: SAS 'B' | G99: =VLOOKUP($B99,$B$31:$G$55,6,0)+VLOOKUP($B99,$AH$36:$AM$71,6,0) -> 1182 | I99: 8 | J99: NHRR 'B' | N99: =VLOOKUP($J99,$J$31:$N$55,5,0)+VLOOKUP($J99,$AP$36:$AT$71,5,0) -> 571
A100: 9 | B100: TPK 'B' | G100: =VLOOKUP($B100,$B$31:$G$55,6,0)+VLOOKUP($B100,$AH$36:$AM$71,6,0) -> 1203 | I100: 9 | J100: GCR 'B' | N100: =VLOOKUP($J100,$J$31:$N$55,5,0)+VLOOKUP($J100,$AP$36:$AT$71,5,0) -> 576
A101: 10 | B101: NHRR 'B' | G101: =VLOOKUP($B101,$B$31:$G$55,6,0)+VLOOKUP($B101,$AH$36:$AM$71,6,0) -> 1405 | I101: 10 | J101: TPK 'B' | N101: =VLOOKUP($J101,$J$31:$N$55,5,0)+VLOOKUP($J101,$AP$36:$AT$71,5,0) -> 609
A102: 11 | B102: ORH 'B' | G102: =VLOOKUP($B102,$B$31:$G$55,6,0)+VLOOKUP($B102,$AH$36:$AM$71,6,0) -> 1497 | I102: 11 | J102: ORH 'B' | N102: =VLOOKUP($J102,$J$31:$N$55,5,0)+VLOOKUP($J102,$AP$36:$AT$71,5,0) -> 610
A103: 12 | B103: SAS 'C' | G103: =VLOOKUP($B103,$B$31:$G$55,6,0)+VLOOKUP($B103,$AH$36:$AM$71,6,0) -> 1760 | I103: 12 | J103: SAS 'C' | N103: =VLOOKUP($J103,$J$31:$N$55,5,0)+VLOOKUP($J103,$AP$36:$AT$71,5,0) -> 731
A104: 13 | B104: GCR 'C' | G104: =VLOOKUP($B104,$B$31:$G$55,6,0)+VLOOKUP($B104,$AH$36:$AM$71,6,0) -> 1883 | I104: 13 | J104: DAC 'B' | N104: =VLOOKUP($J104,$J$31:$N$55,5,0)+VLOOKUP($J104,$AP$36:$AT$71,5,0) -> 825
A105: 14 | B105: TPK 'C' | G105: =VLOOKUP($B105,$B$31:$G$55,6,0)+VLOOKUP($B105,$AH$36:$AM$71,6,0) -> 2198 | I105: 14 | J105: TPK 'C' | N105: =VLOOKUP($J105,$J$31:$N$55,5,0)+VLOOKUP($J105,$AP$36:$AT$71,5,0) -> 997
A106: 15 | B106: NHRR 'C' | G106: =VLOOKUP($B106,$B$31:$G$55,6,0)+VLOOKUP($B106,$AH$36:$AM$71,6,0) -> 2322 | I106: 15 | J106: GCR 'C' | N106: =VLOOKUP($J106,$J$31:$N$55,5,0)+VLOOKUP($J106,$AP$36:$AT$71,5,0) -> 999
A107: 16 | B107: SAS 'D' | G107: =VLOOKUP($B107,$B$31:$G$55,6,0)+VLOOKUP($B107,$AH$36:$AM$71,6,0) -> 2491 | I107: 15 | J107: NHRR 'C' | N107: =VLOOKUP($J107,$J$31:$N$55,5,0)+VLOOKUP($J107,$AP$36:$AT$71,5,0) -> 999
...

Sheet Women
A1: 2025 MID WEEK LEAGUE sponsored by
M2: DAC | N2: GCR | O2: NHRR | P2: ORH | Q2: SAS | R2: TPK | T2: DAC | U2: GCR | V2: NHRR | W2: ORH | X2: SAS | Y2: TPK
A3: =Team!A3 -> RACE 4 : Dacorum 7k - Tues 1st July 2025 | M3: =SUM(SMALL(M$5:M$130,{1,2,3,4,5,6,7,8})) -> 219 | N3: =SUM(SMALL(N$5:N$130,{1,2,3,4,5,6,7,8})) -> 178 | O3: =SUM(SMALL(O$5:O$130,{1,2,3,4,5,6,7,8})) -> 244 | P3: =SUM(SMALL(P$5:P$130,{1,2,3,4,5,6,7,8})) -> 213 | Q3: =SUM(SMALL(Q$5:Q$130,{1,2,3,4,5,6,7,8})) -> 125 | R3: =SUM(SMALL(R$5:R$130,{1,2,3,4,5,6,7,8})) -> 224 | T3: =SUM(SMALL(T$5:T$130,{1,2,3,4})) -> 46 | U3: =SUM(SMALL(U$5:U$130,{1,2,3,4})) -> 47 | V3: =SUM(SMALL(V$5:V$130,{1,2,3,4})) -> 53 | W3: =SUM(SMALL(W$5:W$130,{1,2,3,4})) -> 60 | X3: =SUM(SMALL(X$5:X$130,{1,2,3,4})) -> 52 | Y3: =SUM(SMALL(Y$5:Y$130,{1,2,3,4})) -> 53
A4: Race | B4: Pos | C4: Cat | D4: Vet | E4: No. | F4: Time | G4: Name | H4: Surname | I4: Cat. | J4: Club | K4: Div | L4: M/F | M4: =COUNT(SMALL(M$5:M$130,{1,2,3,4,5,6,7,8})) -> 8 | N4: =COUNT(SMALL(N$5:N$130,{1,2,3,4,5,6,7,8})) -> 8 | O4: =COUNT(SMALL(O$5:O$130,{1,2,3,4,5,6,7,8})) -> 8 | P4: =COUNT(SMALL(P$5:P$130,{1,2,3,4,5,6,7,8})) -> 8 | Q4: =COUNT(SMALL(Q$5:Q$130,{1,2,3,4,5,6,7,8})) -> 8 | R4: =COUNT(SMALL(R$5:R$130,{1,2,3,4,5,6,7,8})) -> 8 | T4: =COUNT(SMALL(T$5:T$130,{1,2,3,4})) -> 4 | U4: =COUNT(SMALL(U$5:U$130,{1,2,3,4})) -> 4 | V4: =COUNT(SMALL(V$5:V$130,{1,2,3,4})) -> 4 | W4: =COUNT(SMALL(W$5:W$130,{1,2,3,4})) -> 4 | X4: =COUNT(SMALL(X$5:X$130,{1,2,3,4})) -> 4 | Y4: =COUNT(SMALL(Y$5:Y$130,{1,2,3,4})) -> 4
A5: 17 | B5: 1 | E5: 45 | F5: 0.018159722 | G5: Freya | H5: Weddell | I5: S | J5: SAS | K5: 1 | L5: F | Q5: =$B5 -> 1
A6: 50 | B6: 2 | E6: 556 | F6: 0.019490741 | G6: Susanna | H6: Wratten | I6: S | J6: ORH | K6: 1 | L6: F | P6: =$B6 -> 2
A7: 60 | B7: 3 | E7: 2 | F7: 0.019930556 | G7: Catherine | H7: O'Connor | I7: S | J7: SAS | K7: 1 | L7: F | Q7: =$B7 -> 3
A8: 61 | B8: 4 | C8: 1 | D8: 1 | E8: 799 | F8: 0.019976852 | G8: Kate | H8: Rennie | I8: V 45 | J8: DAC | K8: 1 | L8: F | M8: =$B8 -> 4 | T8: =$D8 -> 1
A9: 75 | B9: 5 | E9: 68 | F9: 0.020497685 | G9: Hannah | H9: Burkhardt | I9: S | J9: SAS | K9: 1 | L9: F | Q9: =$B9 -> 5
A10: 78 | B10: 6 | C10: 1 | D10: 2 | E10: 630 | F10: 0.020578704 | G10: Juliet | H10: Vine | I10: V 35 | J10: GCR | K10: 1 | L10: F | N10: =$B10 -> 6 | U10: =$D10 -> 2
A11: 80 | B11: 7 | C11: 2 | D11: 3 | E11: 321 | F11: 0.020625 | G11: Rhia | H11: Botha | I11: V 35 | J11: NHRR | K11: 1 | L11: F | O11: =$B11 -> 7 | V11: =$D11 -> 3
A12: 88 | B12: 8 | C12: 3 | D12: 4 | E12: 767 | F12: 0.020833333 | G12: Claire | H12: Hallissey | I12: V 35 | J12: DAC | K12: 1 | L12: F | M12: =$B12 -> 8 | T12: =$D12 -> 4
A13: 91 | B13: 9 | C13: 2 | D13: 5 | E13: 27 | F13: 0.021006944 | G13: Kate | H13: Dixon | I13: V 45 | J13: SAS | K13: 1 | L13: F | Q13: =$B13 -> 9 | X13: =$D13 -> 5
A14: 96 | B14: 10 | C14: 4 | D14: 6 | E14: 264 | F14: 0.021203704 | G14: Kat | H14: Alpe | I14: V 35 | J14: TPK | K14: 1 | L14: F | R14: =$B14 -> 10 | Y14: =$D14 -> 6
A15: 102 | B15: 11 | E15: 629 | F15: 0.021388889 | G15: Jessica | H15: Timmins | I15: S | J15: GCR | K15: 1 | L15: F | N15: =$B15 -> 11
A16: 111 | B16: 12 | C16: 3 | D16: 7 | E16: 277 | F16: 0.021979167 | G16: Anja | H16: Greenwodd | I16: V 45 | J16: TPK | K16: 1 | L16: F | R16: =$B16 -> 12 | Y16: =$D16 -> 7
A17: 113 | B17: 13 | C17: 4 | D17: 8 | E17: 472 | F17: 0.022013889 | G17: Hayley | H17: Rogerson | I17: V 45 | J17: ORH | K17: 1 | L17: F | P17: =$B17 -> 13 | W17: =$D17 -> 8
A18: 115 | B18: 14 | C18: 5 | D18: 9 | E18: 103 | F18: 0.022094907 | G18: Tamsyn | H18: Clark | I18: V 45 | J18: SAS | K18: 1 | L18: F | Q18: =$B18 -> 14 | X18: =$D18 -> 9
A19: 124 | B19: 15 | C19: 5 | D19: 10 | E19: 1965 | F19: 0.022418981 | G19: Karen | H19: Rattray | I19: V 35 | J19: DAC | K19: 1 | L19: F | M19: =$B19 -> 15 | T19: =$D19 -> 10
A20: 129 | B20: 16 | C20: 6 | D20: 11 | E20: 113 | F20: 0.022546296 | G20: Jenny | H20: Maginley | I20: V 45 | J20: SAS | K20: 1 | L20: F | Q20: =$B20 -> 16 | X20: =$D20 -> 11
A21: 134 | B21: 17 | C21: 6 | D21: 12 | E21: 338 | F21: 0.022685185 | G21: Tracey | H21: Pitcairn | I21: V 35 | J21: NHRR | K21: 1 | L21: F | O21: =$B21 -> 17 | V21: =$D21 -> 12
A22: 141 | B22: 18 | E22: 809 | F22: 0.02287037 | G22: Isabella | H22: Sherwani-Keeling | I22: S | J22: DAC | K22: 1 | L22: F | M22: =$B22 -> 18
A23: 142 | B23: 19 | C23: 1 | D23: 13 | E23: 591 | F23: 0.022893519 | G23: Caroline | H23: Hale | I23: V 55 | J23: GCR | K23: 1 | L23: F | N23: =$B23 -> 19 | U23: =$D23 -> 13
A24: 143 | B24: 20 | C24: 7 | D24: 14 | E24: 421 | F24: 0.022986111 | G24: Harriet | H24: MacSween | I24: V 35 | J24: ORH | K24: 1 | L24: F | P24: =$B24 -> 20 | W24: =$D24 -> 14
A25: 149 | B25: 21 | E25: 608 | F25: 0.023263889 | G25: Amber-Leigh | H25: Marvin | I25: S | J25: GCR | K25: 1 | L25: F | N25: =$B25 -> 21
A26: 153 | B26: 22 | C26: 8 | D26: 15 | E26: 585 | F26: 0.023402778 | G26: Hannah | H26: Frank | I26: V 35 | J26: GCR | K26: 1 | L26: F | N26: =$B26 -> 22 | U26: =$D26 -> 15
A27: 155 | B27: 23 | C27: 7 | D27: 16 | E27: 394 | F27: 0.023483796 | G27: Rachel | H27: Arnott | I27: V 45 | J27: NHRR | K27: 1 | L27: F | O27: =$B27 -> 23 | V27: =$D27 -> 16
A28: 156 | B28: 24 | C28: 2 | D28: 17 | E28: 572 | F28: 0.023541667 | G28: Rebecca | H28: Barden | I28: V 55 | J28: GCR | K28: 1 | L28: F | N28: =$B28 -> 24 | U28: =$D28 -> 17
A29: 159 | B29: 25 | C29: 8 | D29: 18 | E29: 534 | F29: 0.023634259 | G29: Louise | H29: Juby | I29: V 45 | J29: ORH | K29: 1 | L29: F | P29: =$B29 -> 25 | W29: =$D29 -> 18
A30: 161 | B30: 26 | C30: 9 | D30: 19 | E30: 229 | F30: 0.023726852 | G30: Beata | H30: Falkowska | I30: V 45 | J30: TPK | K30: 1 | L30: F | R30: =$B30 -> 26 | Y30: =$D30 -> 19
A31: 163 | B31: 27 | E31: 811 | F31: 0.023935185 | G31: Hannah | H31: Smee | I31: S | J31: DAC | K31: 1 | L31: F | M31: =$B31 -> 27
A32: 164 | B32: 28 | C32: 10 | D32: 20 | E32: 425 | F32: 0.023958333 | G32: Nikkii | H32: Barnett | I32: V 45 | J32: ORH | K32: 1 | L32: F | P32: =$B32 -> 28 | W32: =$D32 -> 20
A33: 165 | B33: 29 | C33: 11 | D33: 21 | E33: 299 | F33: 0.024108796 | G33: Siobhan | H33: Weir | I33: V 45 | J33: TPK | K33: 1 | L33: F | R33: =$B33 -> 29 | Y33: =$D33 -> 21
A34: 166 | B34: 30 | E34: 343 | F34: 0.024131944 | G34: Sarah | H34: Hartley | I34: S | J34: NHRR | K34: 1 | L34: F | O34: =$B34 -> 30
A35: 168 | B35: 31 | C35: 12 | D35: 22 | E35: 403 | F35: 0.024166667 | G35: Paula | H35: Holm | I35: V 45 | J35: NHRR | K35: 1 | L35: F | O35: =$B35 -> 31 | V35: =$D35 -> 22
A36: 171 | B36: 32 | C36: 1 | E36: 213 | F36: 0.024282407 | G36: Poppy | H36: Allwright | I36: U 20 | J36: TPK | K36: 1 | L36: F | R36: =$B36 -> 32
A37: 174 | B37: 33 | C37: 13 | D37: 23 | E37: 427 | F37: 0.02431713 | G37: Katharine | H37: Hancox | I37: V 45 | J37: ORH | K37: 1 | L37: F | P37: =$B37 -> 33 | W37: =$D37 -> 23
A38: 176 | B38: 34 | C38: 14 | D38: 24 | E38: 303 | F38: 0.024328704 | G38: Aimee | H38: Jenner | I38: V 45 | J38: TPK | K38: 1 | L38: F | R38: =$B38 -> 34 | Y38: =$D38 -> 24
A39: 177 | B39: 35 | C39: 15 | D39: 25 | E39: 365 | F39: 0.024351852 | G39: Jane | H39: Clarke | I39: V 45 | J39: NHRR | K39: 1 | L39: F | O39: =$B39 -> 35 | V39: =$D39 -> 25
A40: 181 | B40: 36 | C40: 9 | D40: 26 | E40: 721 | F40: 0.024525463 | G40: Lauren | H40: Potter | I40: V 35 | J40: GCR | K40: 1 | L40: F | N40: =$B40 -> 36 | U40: =$D40 -> 26
A41: 182 | B41: 37 | C41: 3 | D41: 27 | E41: 121 | F41: 0.024606481 | G41: Nicky | H41: Laitner | I41: V 55 | J41: SAS | K41: 1 | L41: F | Q41: =$B41 -> 37 | X41: =$D41 -> 27
A42: 183 | B42: 38 | C42: 16 | D42: 28 | E42: 227 | F42: 0.0246875 | G42: Anna | H42: Sikorska | I42: V 45 | J42: TPK | K42: 1 | L42: F | R42: =$B42 -> 38 | Y42: =$D42 -> 28
A43: 187 | B43: 39 | C43: 10 | D43: 29 | E43: 633 | F43: 0.024861111 | G43: Julia | H43: Wiper | I43: V 35 | J43: GCR | K43: 1 | L43: F | N43: =$B43 -> 39 | U43: =$D43 -> 29
A44: 189 | B44: 40 | C44: 17 | D44: 30 | E44: 149 | F44: 0.024884259 | G44: Ellen | H44: Mayes | I44: V 45 | J44: SAS | K44: 1 | L44: F | Q44: =$B44 -> 40 | X44: =$D44 -> 30
A45: 190 | B45: 41 | C45: 11 | D45: 31 | E45: 793 | F45: 0.024907407 | G45: Aimee | H45: Peacock | I45: V 35 | J45: DAC | K45: 1 | L45: F | M45: =$B45 -> 41 | T45: =$D45 -> 31
A46: 195 | B46: 42 | E46: 583 | F46: 0.025300926 | G46: Katharine | H46: Farrell | I46: S | J46: GCR | K46: 1 | L46: F | N46: =$B46 -> 42
A47: 199 | B47: 43 | C47: 4 | D47: 32 | E47: 209 | F47: 0.025358796 | G47: Sue | H47: Thomas | I47: V 55 | J47: TPK | K47: 1 | L47: F | R47: =$B47 -> 43 | Y47: =$D47 -> 32
A48: 202 | B48: 44 | C48: 18 | D48: 33 | E48: 117 | F48: 0.025405093 | G48: Luisa | H48: Brana | I48: V 45 | J48: SAS | K48: 1 | L48: F | Q48: =$B48 -> 44 | X48: =$D48 -> 33
A49: 203 | B49: 45 | C49: 5 | D49: 34 | E49: 448 | F49: 0.025462963 | G49: Karen | H49: Lyons | I49: V 55 | J49: ORH | K49: 1 | L49: F | P49: =$B49 -> 45 | W49: =$D49 -> 34
A50: 204 | B50: 46 | C50: 6 | D50: 35 | E50: 169 | F50: 0.025474537 | G50: Wendy | H50: Walsh | I50: V 55 | J50: SAS | K50: 1 | L50: F | Q50: =$B50 -> 46 | X50: =$D50 -> 35
A51: 205 | B51: 47 | C51: 12 | D51: 36 | E51: 569 | F51: 0.025497685 | G51: Jo | H51: Elferink | I51: V 35 | J51: ORH | K51: 1 | L51: F | P51: =$B51 -> 47 | W51: =$D51 -> 36
A52: 206 | B52: 48 | C52: 7 | D52: 37 | E52: 624 | F52: 0.025543981 | G52: Veronica | H52: Shadbolt | I52: V 55 | J52: GCR | K52: 1 | L52: F | N52: =$B52 -> 48 | U52: =$D52 -> 37
A53: 207 | B53: 49 | C53: 1 | D53: 38 | E53: 801 | F53: 0.025648148 | G53: Sarah | H53: Roberts | I53: V 75 | J53: DAC | K53: 1 | L53: F | M53: =$B53 -> 49 | T53: =$D53 -> 38
A54: 209 | B54: 50 | C54: 13 | D54: 39 | E54: 323 | F54: 0.02568287 | G54: Natalie | H54: Phillips | I54: V 35 | J54: NHRR | K54: 1 | L54: F | O54: =$B54 -> 50 | V54: =$D54 -> 39
A55: 211 | B55: 51 | E55: 399 | F55: 0.025706019 | G55: Georgina | H55: Quayle | I55: S | J55: NHRR | K55: 1 | L55: F | O55: =$B55 -> 51
A56: 212 | B56: 52 | C56: 14 | D56: 40 | E56: 60 | F56: 0.025729167 | G56: Rebecca | H56: McMurray | I56: V 35 | J56: SAS | K56: 1 | L56: F | Q56: =$B56 -> 52 | X56: =$D56 -> 40
A57: 213 | B57: 53 | C57: 19 | D57: 41 | E57: 578 | F57: 0.025787037 | G57: Nikki | H57: Cowen | I57: V 45 | J57: GCR | K57: 1 | L57: F | N57: =$B57 -> 53 | U57: =$D57 -> 41
A58: 218 | B58: 54 | C58: 8 | D58: 42 | E58: 322 | F58: 0.026006944 | G58: Caroline | H58: Thrussell | I58: V 55 | J58: NHRR | K58: 1 | L58: F | O58: =$B58 -> 54 | V58: =$D58 -> 42
A59: 220 | B59: 55 | C59: 20 | D59: 43 | E59: 163 | F59: 0.026030093 | G59: Caroline | H59: Bailes | I59: V 45 | J59: SAS | K59: 1 | L59: F | Q59: =$B59 -> 55 | X59: =$D59 -> 43
A60: 221 | B60: 56 | C60: 21 | D60: 44 | E60: 24 | F60: 0.026111111 | G60: Ruth | H60: Kent | I60: V 45 | J60: SAS | K60: 1 | L60: F | Q60: =$B60 -> 56 | X60: =$D60 -> 44
A61: 222 | B61: 57 | C61: 15 | D61: 45 | E61: 836 | F61: 0.026157407 | G61: Grace | H61: Harvey | I61: V 35 | J61: DAC | K61: 1 | L61: F | M61: =$B61 -> 57 | T61: =$D61 -> 45
A62: 223 | B62: 58 | C62: 16 | D62: 46 | E62: 13 | F62: 0.02619213 | G62: Anna | H62: Silkstone | I62: V 35 | J62: SAS | K62: 1 | L62: F | Q62: =$B62 -> 58 | X62: =$D62 -> 46
A63: 224 | B63: 59 | C63: 2 | E63: 776 | F63: 0.026215278 | G63: Ivy | H63: Le | I63: U 20 | J63: DAC | K63: 1 | L63: F | M63: =$B63 -> 59
A64: 225 | B64: 60 | C64: 22 | D64: 47 | E64: 250 | F64: 0.026215278 | G64: Sarah | H64: De Los Rios | I64: V 45 | J64: TPK | K64: 1 | L64: F | R64: =$B64 -> 60 | Y64: =$D64 -> 47
A65: 226 | B65: 61 | C65: 23 | D65: 48 | E65: 838 | F65: 0.026284722 | G65: Tina | H65: Le | I65: V 45 | J65: DAC | K65: 1 | L65: F | M65: =$B65 -> 61 | T65: =$D65 -> 48
A66: 230 | B66: 62 | E66: 453 | F66: 0.026388889 | G66: Paulina | H66: Aksoma | I66: S | J66: ORH | K66: 1 | L66: F | P66: =$B66 -> 62
A67: 231 | B67: 63 | C67: 9 | D67: 49 | E67: 762 | F67: 0.026423611 | G67: Celia | H67: Findlay | I67: V 55 | J67: DAC | K67: 1 | L67: F | M67: =$B67 -> 63 | T67: =$D67 -> 49
A68: 232 | B68: 64 | C68: 17 | D68: 50 | E68: 447 | F68: 0.026435185 | G68: Anna | H68: Waterman | I68: V 35 | J68: ORH | K68: 1 | L68: F | P68: =$B68 -> 64 | W68: =$D68 -> 50
A69: 238 | B69: 65 | C69: 10 | D69: 51 | E69: 480 | F69: 0.026678241 | G69: Mary | H69: Armitage | I69: V 55 | J69: ORH | K69: 1 | L69: F | P69: =$B69 -> 65 | W69: =$D69 -> 51
A70: 244 | B70: 66 | C70: 24 | D70: 52 | E70: 806 | F70: 0.027025463 | G70: Laura | H70: Sartori | I70: V 45 | J70: DAC | K70: 1 | L70: F | M70: =$B70 -> 66 | T70: =$D70 -> 52
A71: 247 | B71: 67 | C71: 18 | D71: 53 | E71: 374 | F71: 0.02712963 | G71: Grace | H71: Cleary | I71: V 35 | J71: NHRR | K71: 1 | L71: F | O71: =$B71 -> 67 | V71: =$D71 -> 53
A72: 249 | B72: 68 | E72: 584 | F72: 0.027164352 | G72: Alex | H72: Faulkner | I72: S | J72: GCR | K72: 1 | L72: F | N72: =$B72 -> 68
A73: 250 | B73: 69 | C73: 25 | D73: 54 | E73: 345 | F73: 0.027210648 | G73: Joanne | H73: Hoare | I73: V 45 | J73: NHRR | K73: 1 | L73: F | O73: =$B73 -> 69 | V73: =$D73 -> 54
A74: 251 | B74: 70 | C74: 11 | D74: 55 | E74: 193 | F74: 0.02724537 | G74: Theodosia | H74: Green | I74: V 55 | J74: TPK | K74: 1 | L74: F | R74: =$B74 -> 70 | Y74: =$D74 -> 55
A75: 254 | B75: 71 | C75: 26 | D75: 56 | E75: 189 | F75: 0.027291667 | G75: Karen | H75: Sheard | I75: V 45 | J75: SAS | K75: 1 | L75: F | Q75: =$B75 -> 71 | X75: =$D75 -> 56
A76: 256 | B76: 72 | C76: 27 | D76: 57 | E76: 616 | F76: 0.027361111 | G76: Sophie | H76: Packman | I76: V 45 | J76: GCR | K76: 1 | L76: F | N76: =$B76 -> 72 | U76: =$D76 -> 57
A77: 257 | B77: 73 | C77: 12 | D77: 58 | E77: 300 | F77: 0.02744213 | G77: Clare | H77: Murphy | I77: V 55 | J77: TPK | K77: 1 | L77: F | R77: =$B77 -> 73 | Y77: =$D77 -> 58
A78: 261 | B78: 74 | C78: 28 | D78: 59 | E78: 459 | F78: 0.027673611 | G78: Jo | H78: Plumb | I78: V 45 | J78: ORH | K78: 1 | L78: F | P78: =$B78 -> 74 | W78: =$D78 -> 59
A79: 264 | B79: 75 | C79: 13 | D79: 60 | E79: 363 | F79: 0.027777778 | G79: Lucy | H79: O'Connor | I79: V 55 | J79: NHRR | K79: 1 | L79: F | O79: =$B79 -> 75 | V79: =$D79 -> 60
A80: 265 | B80: 76 | C80: 19 | D80: 61 | E80: 172 | F80: 0.0278125 | G80: Charlotte | H80: Holloway | I80: V 35 | J80: SAS | K80: 1 | L80: F | Q80: =$B80 -> 76 | X80: =$D80 -> 61
A81: 267 | B81: 77 | C81: 29 | D81: 62 | E81: 145 | F81: 0.027858796 | G81: Suzi | H81: Wegenek | I81: V 45 | J81: SAS | K81: 1 | L81: F | Q81: =$B81 -> 77 | X81: =$D81 -> 62
A82: 268 | B82: 78 | C82: 14 | D82: 63 | E82: 574 | F82: 0.027905093 | G82: Caroline | H82: O'Dwyer | I82: V 55 | J82: GCR | K82: 1 | L82: F | N82: =$B82 -> 78 | U82: =$D82 -> 63
A83: 269 | B83: 79 | C83: 20 | D83: 64 | E83: 758 | F83: 0.027916667 | G83: Louise | H83: Flower | I83: V 35 | J83: DAC | K83: 1 | L83: F | M83: =$B83 -> 79 | T83: =$D83 -> 64
A84: 270 | B84: 80 | C84: 21 | D84: 65 | E84: 607 | F84: 0.027986111 | G84: Sofie | H84: Marchant | I84: V 35 | J84: GCR | K84: 1 | L84: F | N84: =$B84 -> 80 | U84: =$D84 -> 65
A85: 271 | B85: 81 | C85: 3 | E85: 371 | F85: 0.028043981 | G85: Lucy | H85: Robertson | I85: U 20 | J85: NHRR | K85: 1 | L85: F | O85: =$B85 -> 81
A86: 274 | B86: 82 | E86: 2004 | F86: 0.028275463 | G86: Ellie | H86: Frid | I86: S | J86: NHRR | K86: 1 | L86: F | O86: =$B86 -> 82
A87: 277 | B87: 83 | C87: 30 | D87: 66 | E87: 143 | F87: 0.028333333 | G87: Laura | H87: Lane | I87: V 45 | J87: SAS | K87: 1 | L87: F | Q87: =$B87 -> 83 | X87: =$D87 -> 66
A88: 278 | B88: 84 | C88: 15 | D88: 67 | E88: 463 | F88: 0.028518519 | G88: Christine | H88: Inch | I88: V 55 | J88: ORH | K88: 1 | L88: F | P88: =$B88 -> 84 | W88: =$D88 -> 67
A89: 280 | B89: 85 | C89: 22 | D89: 68 | E89: 485 | F89: 0.028622685 | G89: Beth | H89: Mullan-Feroze | I89: V 35 | J89: ORH | K89: 1 | L89: F | P89: =$B89 -> 85 | W89: =$D89 -> 68
A90: 282 | B90: 86 | C90: 23 | D90: 69 | E90: 748 | F90: 0.028761574 | G90: Janice | H90: Briggs | I90: V 35 | J90: DAC | K90: 1 | L90: F | M90: =$B90 -> 86 | T90: =$D90 -> 69
A91: 283 | B91: 87 | C91: 31 | D91: 70 | E91: 35 | F91: 0.028773148 | G91: Katie | H91: Bunting | I91: V 45 | J91: SAS | K91: 1 | L91: F | Q91: =$B91 -> 87 | X91: =$D91 -> 70
A92: 285 | B92: 88 | C92: 24 | D92: 71 | E92: 93 | F92: 0.028842593 | G92: Alison | H92: Massey | I92: V 35 | J92: SAS | K92: 1 | L92: F | Q92: =$B92 -> 88 | X92: =$D92 -> 71
A93: 288 | B93: 89 | E93: 96 | F93: 0.028946759 | G93: Bethany | H93: Wickens | I93: S | J93: SAS | K93: 1 | L93: F | Q93: =$B93 -> 89
A94: 289 | B94: 90 | C94: 25 | D94: 72 | E94: 717 | F94: 0.028981481 | G94: Dani | H94: Pretty | I94: V 35 | J94: GCR | K94: 1 | L94: F | N94: =$B94 -> 90 | U94: =$D94 -> 72
A95: 291 | B95: 91 | C95: 16 | D95: 73 | E95: 566 | F95: 0.029282407 | G95: Janine | H95: Humberstone | I95: V 55 | J95: ORH | K95: 1 | L95: F | P95: =$B95 -> 91 | W95: =$D95 -> 73
A96: 292 | B96: 92 | C96: 32 | D96: 74 | E96: 79 | F96: 0.029456019 | G96: Johanna | H96: Houlahan | I96: V 45 | J96: SAS | K96: 1 | L96: F | Q96: =$B96 -> 92 | X96: =$D96 -> 74
A97: 293 | B97: 93 | E97: 557 | F97: 0.029525463 | G97: Ellie | H97: Chambers | I97: S | J97: ORH | K97: 1 | L97: F | P97: =$B97 -> 93
A98: 294 | B98: 94 | C98: 33 | D98: 75 | E98: 219 | F98: 0.029548611 | G98: Rachel | H98: Walker | I98: V 45 | J98: TPK | K98: 1 | L98: F | R98: =$B98 -> 94 | Y98: =$D98 -> 75
A99: 297 | B99: 95 | C99: 17 | D99: 76 | E99: 200 | F99: 0.030162037 | G99: Julie | H99: Mimnagh | I99: V 55 | J99: TPK | K99: 1 | L99: F | R99: =$B99 -> 95 | Y99: =$D99 -> 76
A100: 302 | B100: 96 | C100: 1 | D100: 77 | E100: 173 | F100: 0.030555556 | G100: Didi | H100: Petit de la Roche | I100: V 65 | J100: SAS | K100: 1 | L100: F | Q100: =$B100 -> 96 | X100: =$D100 -> 77
...

Sheet Men
A1: 2025 MID WEEK LEAGUE sponsored by
M2: DAC | N2: GCR | O2: NHRR | P2: ORH | Q2: SAS | R2: TPK | T2: DAC | U2: GCR | V2: NHRR | W2: ORH | X2: SAS | Y2: TPK
A3: =Team!A3 -> RACE 4 : Dacorum 7k - Tues 1st July 2025 | M3: =SUM(SMALL(M$5:M$221,{1,2,3,4,5,6,7,8,9,10,11,12})) -> 463 | N3: =SUM(SMALL(N$5:N$221,{1,2,3,4,5,6,7,8,9,10,11,12})) -> 490 | O3: =SUM(SMALL(O$5:O$221,{1,2,3,4,5,6,7,8,9,10,11,12})) -> 649 | P3: =SUM(SMALL(P$5:P$221,{1,2,3,4,5,6,7,8,9,10,11,12})) -> 513 | Q3: =SUM(SMALL(Q$5:Q$221,{1,2,3,4,5,6,7,8,9,10,11,12})) -> 287 | R3: =SUM(SMALL(R$5:R$221,{1,2,3,4,5,6,7,8,9,10,11,12})) -> 393 | T3: =SUM(SMALL(T$5:T$221,{1,2,3,4,5,6})) -> 165 | U3: =SUM(SMALL(U$5:U$221,{1,2,3,4,5,6})) -> 145 | V3: =SUM(SMALL(V$5:V$221,{1,2,3,4,5,6})) -> 160 | W3: =SUM(SMALL(W$5:W$221,{1,2,3,4,5,6})) -> 87 | X3: =SUM(SMALL(X$5:X$221,{1,2,3,4,5,6})) -> 101 | Y3: =SUM(SMALL(Y$5:Y$221,{1,2,3,4,5,6})) -> 67
A4: Race | B4: Pos | C4: Cat | D4: Vet | E4: No. | F4: Time | G4: Name | H4: Surname | I4: Cat. | J4: Club | K4: Div | L4: M/F | M4: =COUNT(SMALL(M$5:M$221,{1,2,3,4,5,6,7,8,9,10,11,12})) -> 12 | N4: =COUNT(SMALL(N$5:N$221,{1,2,3,4,5,6,7,8,9,10,11,12})) -> 12 | O4: =COUNT(SMALL(O$5:O$221,{1,2,3,4,5,6,7,8,9,10,11,12})) -> 12 | P4: =COUNT(SMALL(P$5:P$221,{1,2,3,4,5,6,7,8,9,10,11,12})) -> 12 | Q4: =COUNT(SMALL(Q$5:Q$221,{1,2,3,4,5,6,7,8,9,10,11,12})) -> 12 | R4: =COUNT(SMALL(R$5:R$221,{1,2,3,4,5,6,7,8,9,10,11,12})) -> 12 | T4: =COUNT(SMALL(T$5:T$221,{1,2,3,4,5,6})) -> 6 | U4: =COUNT(SMALL(U$5:U$221,{1,2,3,4,5,6})) -> 6 | V4: =COUNT(SMALL(V$5:V$221,{1,2,3,4,5,6})) -> 6 | W4: =COUNT(SMALL(W$5:W$221,{1,2,3,4,5,6})) -> 6 | X4: =COUNT(SMALL(X$5:X$221,{1,2,3,4,5,6})) -> 6 | Y4: =COUNT(SMALL(Y$5:Y$221,{1,2,3,4,5,6})) -> 6
A5: 1 | B5: 1 | E5: 761 | F5: 0.016354167 | G5: Jack | H5: Eykelbosch | I5: S | J5: DAC | K5: 1 | L5: M | M5: =$B5 -> 1
A6: 2 | B6: 2 | E6: 570 | F6: 0.016678241 | G6: Nick | H6: Harris-Fry | I6: S | J6: ORH | K6: 1 | L6: M | P6: =$B6 -> 2
A7: 3 | B7: 3 | E7: 642 | F7: 0.016770833 | G7: Bradley | H7: Birch | I7: S | J7: GCR | K7: 1 | L7: M | N7: =$B7 -> 3
A8: 4 | B8: 4 | E8: 8 | F8: 0.016898148 | G8: Adam | H8: Yorwerth | I8: S | J8: SAS | K8: 1 | L8: M | Q8: =$B8 -> 4
A9: 5 | B9: 5 | E9: 807 | F9: 0.017268519 | G9: Angus | H9: Saunders | I9: S | J9: DAC | K9: 1 | L9: M | M9: =$B9 -> 5
A10: 6 | B10: 6 | C10: 1 | D10: 1 | E10: 435 | F10: 0.017326389 | G10: Graham | H10: Wilkinson | I10: V 40 | J10: ORH | K10: 1 | L10: M | P10: =$B10 -> 6 | W10: =$D10 -> 1
A11: 7 | B11: 7 | C11: 1 | E11: 307 | F11: 0.017465278 | G11: Ethan | H11: Jackson | I11: U 20 | J11: TPK | K11: 1 | L11: M | R11: =$B11 -> 7
A12: 8 | B12: 8 | E12: 389 | F12: 0.017546296 | G12: Ben | H12: Hadman | I12: S | J12: NHRR | K12: 1 | L12: M | O12: =$B12 -> 8
A13: 9 | B13: 9 | E13: 124 | F13: 0.017708333 | G13: Will | H13: Lindsey | I13: S | J13: SAS | K13: 1 | L13: M | Q13: =$B13 -> 9
A14: 10 | B14: 10 | E14: 837 | F14: 0.017743056 | G14: Mark | H14: Baines* | I14: S | J14: DAC | K14: 1 | L14: M | M14: =$B14 -> 10
A15: 11 | B15: 11 | C15: 2 | D15: 2 | E15: 231 | F15: 0.017766204 | G15: Charles | H15: Bruce | I15: V 40 | J15: TPK | K15: 1 | L15: M | R15: =$B15 -> 11 | Y15: =$D15 -> 2
A16: 12 | B16: 12 | C16: 3 | D16: 3 | E16: 112 | F16: 0.01787037 | G16: Paul | H16: Adams | I16: V 40 | J16: SAS | K16: 1 | L16: M | Q16: =$B16 -> 12 | X16: =$D16 -> 3
A17: 13 | B17: 13 | E17: 579 | F17: 0.017905093 | G17: Danny | H17: Figg | I17: S | J17: GCR | K17: 1 | L17: M | N17: =$B17 -> 13
A18: 14 | B18: 14 | E18: 185 | F18: 0.017974537 | G18: Jacob | H18: James | I18: S | J18: SAS | K18: 1 | L18: M | Q18: =$B18 -> 14
A19: 15 | B19: 15 | E19: 263 | F19: 0.017997685 | G19: Matt | H19: Hogsden | I19: S | J19: TPK | K19: 1 | L19: M | R19: =$B19 -> 15
A20: 16 | B20: 16 | E20: 410 | F20: 0.01806713 | G20: Ben | H20: Sewell | I20: S | J20: NHRR | K20: 1 | L20: M | O20: =$B20 -> 16
A21: 18 | B21: 17 | E21: 386 | F21: 0.018240741 | G21: Sam | H21: Coxon | I21: S | J21: NHRR | K21: 1 | L21: M | O21: =$B21 -> 17
A22: 19 | B22: 18 | E22: 706 | F22: 0.018252315 | G22: Daniel | H22: Pudner | I22: S | J22: GCR | K22: 1 | L22: M | N22: =$B22 -> 18
A23: 20 | B23: 19 | C23: 4 | D23: 4 | E23: 11 | F23: 0.018298611 | G23: Stefano | H23: Federici | I23: V 40 | J23: SAS | K23: 1 | L23: M | Q23: =$B23 -> 19 | X23: =$D23 -> 4
A24: 21 | B24: 20 | E24: 1 | F24: 0.018310185 | G24: Chris | H24: Dennell | I24: S | J24: SAS | K24: 1 | L24: M | Q24: =$B24 -> 20
A25: 22 | B25: 21 | C25: 1 | D25: 5 | E25: 233 | F25: 0.018333333 | G25: Ed | H25: De Los Rios | I25: V 50 | J25: TPK | K25: 1 | L25: M | R25: =$B25 -> 21 | Y25: =$D25 -> 5
A26: 23 | B26: 22 | E26: 1963 | F26: 0.018368056 | G26: Jack | H26: Raine | I26: S | J26: DAC | K26: 1 | L26: M | M26: =$B26 -> 22
A27: 24 | B27: 23 | C27: 5 | D27: 6 | E27: 115 | F27: 0.018368056 | G27: Matthew | H27: Cooper | I27: V 40 | J27: SAS | K27: 1 | L27: M | Q27: =$B27 -> 23 | X27: =$D27 -> 6
A28: 25 | B28: 24 | C28: 2 | D28: 7 | E28: 675 | F28: 0.018391204 | G28: Paul | H28: Guy | I28: V 50 | J28: GCR | K28: 1 | L28: M | N28: =$B28 -> 24 | U28: =$D28 -> 7
A29: 26 | B29: 25 | E29: 222 | F29: 0.018414352 | G29: Ben | H29: Allen | I29: S | J29: TPK | K29: 1 | L29: M | R29: =$B29 -> 25
A30: 27 | B30: - | E30: 2093 | F30: 0.0184375 | G30: Conor | H30: O'Hara-Barrett* | I30: S | J30: Guest (NHRR) | K30: 1 | L30: M
A31: 28 | B31: 26 | E31: 768 | F31: 0.01849537 | G31: Matt | H31: Hamilton | I31: S | J31: DAC | K31: 1 | L31: M | M31: =$B31 -> 26
A32: 29 | B32: 27 | E32: 242 | F32: 0.018530093 | G32: Luke | H32: Barker | I32: S | J32: TPK | K32: 1 | L32: M | R32: =$B32 -> 27
A33: 30 | B33: 28 | C33: 6 | D33: 8 | E33: 745 | F33: 0.018564815 | G33: Ben | H33: Beecroft | I33: V 40 | J33: DAC | K33: 1 | L33: M | M33: =$B33 -> 28 | T33: =$D33 -> 8
A34: 31 | B34: 29 | C34: 7 | D34: 9 | E34: 565 | F34: 0.018645833 | G34: John | H34: Henry* | I34: V 40 | J34: ORH | K34: 1 | L34: M | P34: =$B34 -> 29 | W34: =$D34 -> 9
A35: 32 | B35: 30 | E35: 56 | F35: 0.018738426 | G35: Matthew | H35: Nicholson | I35: S | J35: SAS | K35: 1 | L35: M | Q35: =$B35 -> 30
A36: 33 | B36: 31 | E36: 48 | F36: 0.018784722 | G36: Alex | H36: Smith | I36: S | J36: SAS | K36: 1 | L36: M | Q36: =$B36 -> 31
A37: 34 | B37: 32 | C37: 8 | D37: 10 | E37: 568 | F37: 0.018819444 | G37: Jason | H37: Wray | I37: V 40 | J37: ORH | K37: 1 | L37: M | P37: =$B37 -> 32 | W37: =$D37 -> 10
A38: 35 | B38: 33 | E38: 637 | F38: 0.018842593 | G38: Joe | H38: Ansbro | I38: S | J38: GCR | K38: 1 | L38: M | N38: =$B38 -> 33
A39: 36 | B39: 34 | C39: 9 | D39: 11 | E39: 306 | F39: 0.018888889 | G39: David | H39: Weir | I39: V 40 | J39: TPK | K39: 1 | L39: M | R39: =$B39 -> 34 | Y39: =$D39 -> 11
A40: 37 | B40: 35 | C40: 10 | D40: 12 | E40: 272 | F40: 0.018946759 | G40: James | H40: Arrowsmith | I40: V 40 | J40: TPK | K40: 1 | L40: M | R40: =$B40 -> 35 | Y40: =$D40 -> 12
A41: 38 | B41: 36 | C41: 11 | D41: 13 | E41: 789 | F41: 0.018958333 | G41: Christopher | H41: Marriott | I41: V 40 | J41: DAC | K41: 1 | L41: M | M41: =$B41 -> 36 | T41: =$D41 -> 13
A42: 39 | B42: 37 | C42: 3 | D42: 14 | E42: 404 | F42: 0.019039352 | G42: Matthew | H42: Sayers | I42: V 50 | J42: NHRR | K42: 1 | L42: M | O42: =$B42 -> 37 | V42: =$D42 -> 14
A43: 40 | B43: 38 | E43: 55 | F43: 0.0190625 | G43: Gregg | H43: Taylor | I43: S | J43: SAS | K43: 1 | L43: M | Q43: =$B43 -> 38
A44: 41 | B44: 39 | E44: 726 | F44: 0.019108796 | G44: Jamie | H44: Callan | I44: S | J44: GCR | K44: 1 | L44: M | N44: =$B44 -> 39
A45: 42 | B45: 40 | C45: 12 | D45: 15 | E45: 381 | F45: 0.01912037 | G45: Shahab | H45: Ahmed | I45: V 40 | J45: NHRR | K45: 1 | L45: M | O45: =$B45 -> 40 | V45: =$D45 -> 15
A46: 43 | B46: 41 | C46: 13 | D46: 16 | E46: 246 | F46: 0.019131944 | G46: Paul | H46: Brennan | I46: V 40 | J46: TPK | K46: 1 | L46: M | R46: =$B46 -> 41 | Y46: =$D46 -> 16
A47: 44 | B47: 42 | C47: 14 | D47: 17 | E47: 587 | F47: 0.019166667 | G47: Chris | H47: Baylis | I47: V 40 | J47: GCR | K47: 1 | L47: M | N47: =$B47 -> 42 | U47: =$D47 -> 17
A48: 45 | B48: 43 | E48: 53 | F48: 0.019224537 | G48: Thomas | H48: Toyer | I48: S | J48: SAS | K48: 1 | L48: M | Q48: =$B48 -> 43
A49: 46 | B49: 44 | C49: 15 | D49: 18 | E49: 32 | F49: 0.019351852 | G49: Patrick | H49: Hayes | I49: V 40 | J49: SAS | K49: 1 | L49: M | Q49: =$B49 -> 44 | X49: =$D49 -> 18
A50: 47 | B50: 45 | C50: 4 | D50: 19 | E50: 563 | F50: 0.019351852 | G50: Scott | H50: Reid | I50: V 50 | J50: ORH | K50: 1 | L50: M | P50: =$B50 -> 45 | W50: =$D50 -> 19
A51: 48 | B51: 46 | E51: 114 | F51: 0.019363426 | G51: Paul | H51: Gillard | I51: S | J51: SAS | K51: 1 | L51: M | Q51: =$B51 -> 46
A52: 49 | B52: 47 | E52: 785 | F52: 0.019467593 | G52: Thomas | H52: Mack | I52: S | J52: DAC | K52: 1 | L52: M | M52: =$B52 -> 47
A53: 51 | B53: 48 | E53: 430 | F53: 0.019560185 | G53: Jamie | H53: Stafford | I53: S | J53: ORH | K53: 1 | L53: M | P53: =$B53 -> 48
A54: 52 | B54: 49 | C54: 5 | D54: 20 | E54: 326 | F54: 0.019571759 | G54: Kris | H54: Whitmore | I54: V 50 | J54: NHRR | K54: 1 | L54: M | O54: =$B54 -> 49 | V54: =$D54 -> 20
A55: 53 | B55: 50 | C55: 16 | D55: 21 | E55: 281 | F55: 0.019594907 | G55: Francis | H55: Mannion | I55: V 40 | J55: TPK | K55: 1 | L55: M | R55: =$B55 -> 50 | Y55: =$D55 -> 21
A56: 54 | B56: 51 | C56: 6 | D56: 22 | E56: 520 | F56: 0.01962963 | G56: Bob | H56: Glasgow | I56: V 50 | J56: ORH | K56: 1 | L56: M | P56: =$B56 -> 51 | W56: =$D56 -> 22
A57: 55 | B57: 52 | E57: 54 | F57: 0.019652778 | G57: Barnaby | H57: Walker | I57: S | J57: SAS | K57: 1 | L57: M | Q57: =$B57 -> 52
A58: 56 | B58: 53 | C58: 7 | D58: 23 | E58: 252 | F58: 0.019710648 | G58: Scott | H58: Aiken | I58: V 50 | J58: TPK | K58: 1 | L58: M | R58: =$B58 -> 53 | Y58: =$D58 -> 23
A59: 57 | B59: 54 | C59: 17 | D59: 24 | E59: 412 | F59: 0.019791667 | G59: Stewart | H59: Overton | I59: V 40 | J59: NHRR | K59: 1 | L59: M | O59: =$B59 -> 54 | V59: =$D59 -> 24
A60: 58 | B60: 55 | E60: 153 | F60: 0.019849537 | G60: Nick | H60: Buttenshaw | I60: S | J60: SAS | K60: 1 | L60: M | Q60: =$B60 -> 55
A61: 59 | B61: 56 | C61: 8 | D61: 25 | E61: 677 | F61: 0.019895833 | G61: Peter | H61: Harvey | I61: V 50 | J61: GCR | K61: 1 | L61: M | N61: =$B61 -> 56 | U61: =$D61 -> 25
A62: 62 | B62: 57 | E62: 484 | F62: 0.02 | G62: Henry | H62: Giddens | I62: S | J62: ORH | K62: 1 | L62: M | P62: =$B62 -> 57
A63: 63 | B63: 58 | C63: 18 | D63: 26 | E63: 516 | F63: 0.020081019 | G63: Phu | H63: Ly | I63: V 40 | J63: ORH | K63: 1 | L63: M | P63: =$B63 -> 58 | W63: =$D63 -> 26
A64: 64 | B64: 59 | C64: 19 | D64: 27 | E64: 808 | F64: 0.020127315 | G64: Jamie | H64: Saunders | I64: V 40 | J64: DAC | K64: 1 | L64: M | M64: =$B64 -> 59 | T64: =$D64 -> 27
A65: 65 | B65: 60 | C65: 20 | D65: 28 | E65: 554 | F65: 0.020219907 | G65: Mark | H65: Andrews | I65: V 40 | J65: ORH | K65: 1 | L65: M | P65: =$B65 -> 60 | W65: =$D65 -> 28
A66: 66 | B66: 61 | C66: 21 | D66: 29 | E66: 688 | F66: 0.020231481 | G66: Chris | H66: Jones | I66: V 40 | J66: GCR | K66: 1 | L66: M | N66: =$B66 -> 61 | U66: =$D66 -> 29
A67: 67 | B67: 62 | C67: 9 | D67: 30 | E67: 491 | F67: 0.020243056 | G67: Russell | H67: Brown | I67: V 50 | J67: ORH | K67: 1 | L67: M | P67: =$B67 -> 62 | W67: =$D67 -> 30
A68: 68 | B68: 63 | C68: 2 | E68: 473 | F68: 0.02025463 | G68: Max | H68: Bell | I68: U 20 | J68: ORH | K68: 1 | L68: M | P68: =$B68 -> 63
A69: 69 | B69: 64 | C69: 1 | D69: 31 | E69: 818 | F69: 0.020289352 | G69: Simon | H69: Townsend | I69: V 60 | J69: DAC | K69: 1 | L69: M | M69: =$B69 -> 64 | T69: =$D69 -> 31
A70: 70 | B70: 65 | C70: 22 | D70: 32 | E70: 39 | F70: 0.0203125 | G70: Martin | H70: Healey | I70: V 40 | J70: SAS | K70: 1 | L70: M | Q70: =$B70 -> 65 | X70: =$D70 -> 32
A71: 71 | B71: 66 | E71: 708 | F71: 0.02037037 | G71: Jamie | H71: Rose | I71: S | J71: GCR | K71: 1 | L71: M | N71: =$B71 -> 66
A72: 72 | B72: 67 | C72: 23 | D72: 33 | E72: 697 | F72: 0.020393519 | G72: Graeme | H72: McSorley | I72: V 40 | J72: GCR | K72: 1 | L72: M | N72: =$B72 -> 67 | U72: =$D72 -> 33
A73: 73 | B73: 68 | C73: 10 | D73: 34 | E73: 652 | F73: 0.020462963 | G73: Rob | H73: Casserley | I73: V 50 | J73: GCR | K73: 1 | L73: M | N73: =$B73 -> 68 | U73: =$D73 -> 34
A74: 74 | B74: 69 | E74: 729 | F74: 0.020474537 | G74: Andrew | H74: Thomlinson | I74: S | J74: GCR | K74: 1 | L74: M | N74: =$B74 -> 69
A75: 76 | B75: 70 | C75: 24 | D75: 35 | E75: 792 | F75: 0.020520833 | G75: Ben | H75: Kenny | I75: V 40 | J75: DAC | K75: 1 | L75: M | M75: =$B75 -> 70 | T75: =$D75 -> 35
A76: 77 | B76: 71 | E76: 131 | F76: 0.020555556 | G76: Sean | H76: Boyd | I76: S | J76: SAS | K76: 1 | L76: M | Q76: =$B76 -> 71
A77: 79 | B77: 72 | C77: 25 | D77: 36 | E77: 620 | F77: 0.020601852 | G77: Matt | H77: Baker | I77: V 40 | J77: GCR | K77: 1 | L77: M | N77: =$B77 -> 72 | U77: =$D77 -> 36
A78: 81 | B78: 73 | C78: 3 | E78: 71 | F78: 0.020636574 | G78: Alex | H78: Morgan | I78: U 20 | J78: SAS | K78: 1 | L78: M | Q78: =$B78 -> 73
A79: 82 | B79: 74 | C79: 11 | D79: 37 | E79: 248 | F79: 0.020659722 | G79: Robert | H79: Sikorski | I79: V 50 | J79: TPK | K79: 1 | L79: M | R79: =$B79 -> 74 | Y79: =$D79 -> 37
A80: 83 | B80: 75 | C80: 12 | D80: 38 | E80: 23 | F80: 0.02068287 | G80: Richard | H80: Davis | I80: V 50 | J80: SAS | K80: 1 | L80: M | Q80: =$B80 -> 75 | X80: =$D80 -> 38
A81: 84 | B81: 76 | E81: 283 | F81: 0.020740741 | G81: Matthew | H81: Petch Cooper | I81: S | J81: TPK | K81: 1 | L81: M | R81: =$B81 -> 76
A82: 85 | B82: 77 | C82: 26 | D82: 39 | E82: 618 | F82: 0.020763889 | G82: Herbie | H82: Hopkins | I82: V 40 | J82: GCR | K82: 1 | L82: M | N82: =$B82 -> 77 | U82: =$D82 -> 39
A83: 86 | B83: 78 | E83: 373 | F83: 0.020798611 | G83: James | H83: Ma | I83: S | J83: NHRR | K83: 1 | L83: M | O83: =$B83 -> 78
A84: 87 | B84: 79 | C84: 27 | D84: 40 | E84: 432 | F84: 0.020821759 | G84: Ben | H84: Knight | I84: V 40 | J84: ORH | K84: 1 | L84: M | P84: =$B84 -> 79 | W84: =$D84 -> 40
A85: 89 | B85: 80 | C85: 28 | D85: 41 | E85: 350 | F85: 0.020891204 | G85: David | H85: Edwards | I85: V 40 | J85: NHRR | K85: 1 | L85: M | O85: =$B85 -> 80 | V85: =$D85 -> 41
A86: 90 | B86: 81 | E86: 224 | F86: 0.02099537 | G86: Alex | H86: Brennan | I86: S | J86: TPK | K86: 1 | L86: M | R86: =$B86 -> 81
A87: 92 | B87: 82 | E87: 609 | F87: 0.021087963 | G87: Charlie | H87: Marchione | I87: S | J87: GCR | K87: 1 | L87: M | N87: =$B87 -> 82
A88: 93 | B88: 83 | C88: 13 | D88: 42 | E88: 46 | F88: 0.021099537 | G88: Errol | H88: Maginley | I88: V 50 | J88: SAS | K88: 1 | L88: M | Q88: =$B88 -> 83 | X88: =$D88 -> 42
A89: 94 | B89: 84 | C89: 29 | D89: 43 | E89: 26 | F89: 0.021145833 | G89: John | H89: Logan | I89: V 40 | J89: SAS | K89: 1 | L89: M | Q89: =$B89 -> 84 | X89: =$D89 -> 43
A90: 95 | B90: 85 | C90: 14 | D90: 44 | E90: 20 | F90: 0.021180556 | G90: Nigel | H90: Aston | I90: V 50 | J90: SAS | K90: 1 | L90: M | Q90: =$B90 -> 85 | X90: =$D90 -> 44
A91: 97 | B91: 86 | C91: 30 | D91: 45 | E91: 538 | F91: 0.02125 | G91: Neil | H91: McGoun | I91: V 40 | J91: ORH | K91: 1 | L91: M | P91: =$B91 -> 86 | W91: =$D91 -> 45
A92: 98 | B92: 87 | E92: 681 | F92: 0.021261574 | G92: Daniel | H92: Hobson | I92: S | J92: GCR | K92: 1 | L92: M | N92: =$B92 -> 87
A93: 99 | B93: 88 | C93: 31 | D93: 46 | E93: 324 | F93: 0.021331019 | G93: Mike | H93: Phillips | I93: V 40 | J93: NHRR | K93: 1 | L93: M | O93: =$B93 -> 88 | V93: =$D93 -> 46
A94: 100 | B94: 89 | E94: 244 | F94: 0.021342593 | G94: Nathaniel | H94: Sampson | I94: S | J94: TPK | K94: 1 | L94: M | R94: =$B94 -> 89
A95: 101 | B95: 90 | C95: 15 | D95: 47 | E95: 400 | F95: 0.021365741 | G95: Vincent | H95: Wright | I95: V 50 | J95: NHRR | K95: 1 | L95: M | O95: =$B95 -> 90 | V95: =$D95 -> 47
A96: 103 | B96: 91 | E96: 564 | F96: 0.021493056 | G96: Sam | H96: Allum | I96: S | J96: ORH | K96: 1 | L96: M | P96: =$B96 -> 91
A97: 104 | B97: 92 | C97: 16 | D97: 48 | E97: 362 | F97: 0.021574074 | G97: David | H97: Brewer | I97: V 50 | J97: NHRR | K97: 1 | L97: M | O97: =$B97 -> 92 | V97: =$D97 -> 48
A98: 105 | B98: 93 | C98: 32 | D98: 49 | E98: 392 | F98: 0.021597222 | G98: Craig | H98: Cartier | I98: V 40 | J98: NHRR | K98: 1 | L98: M | O98: =$B98 -> 93 | V98: =$D98 -> 49
A99: 106 | B99: 94 | C99: 2 | D99: 50 | E99: 204 | F99: 0.02181713 | G99: Paul | H99: Ward | I99: V 60 | J99: TPK | K99: 1 | L99: M | R99: =$B99 -> 94 | Y99: =$D99 -> 50
A100: 107 | B100: 95 | C100: 33 | D100: 51 | E100: 760 | F100: 0.021840278 | G100: James | H100: Duvall | I100: V 40 | J100: DAC | K100: 1 | L100: M | M100: =$B100 -> 95 | T100: =$D100 -> 51
...
