Workbook
Name D2NON: Women!$D$208
Name D3NON: Women!$D$218
Name D3NONVET: Women!$E$218

Sheet Team
A1: 2025 MID WEEK LEAGUE sponsored by | P1: 2025 MID WEEK LEAGUE sponsored by | AL1: 2025 MID WEEK LEAGUE sponsored by | BA1: 2025 MID WEEK LEAGUE sponsored by
A2: RACE 2 - Watford 10k - Wednesday 4th June 2025 | P2: =A2 -> RACE 2 - Watford 10k - Wednesday 4th June 2025 | AL2: RACE 1 - Stevenage 10k - Wednesday 28th May 2025 | BA2: =AL2 -> RACE 1 - Stevenage 10k - Wednesday 28th May 2025
A4: Pos | B4: MEN | F4: Points | G4: Score | I4: Pos | J4: WOMEN | M4: Points | N4: Score | P4: Pos | Q4: MEN | U4: Points | V4: Score | X4: Pos | Y4: WOMEN | AB4: Points | AC4: Score | AL4: Pos | AM4: MEN | AQ4: Points | AR4: Score | AT4: Pos | AU4: WOMEN | AX4: Points | AY4: Score | BA4: Pos | BB4: MEN | BF4: Points | BG4: Score | BI4: Pos | BJ4: WOMEN | BM4: Points | BN4: Score
A5: 1 | B5: Ware Joggers | F5: 7 | G5: =Men!$S$3 -> 239 | I5: 1 | J5: Royston Runners | M5: 7 | N5: =Women!$P$3 -> 88 | P5: 1 | Q5: Barnet & District AC | U5: 9 | V5: =Men!$AC$3 -> 357 | X5: 1 | Y5: Hitchin Running Club | AB5: 9 | AC5: =Women!$AI$3 -> 169 | AL5: 1 | AM5: Ware Joggers | AQ5: 7 | AR5: 216 | AT5: 1 | AU5: Royston Runners | AX5: 7 | AY5: 94 | BA5: 1 | BB5: Hitchin Running Club | BF5: 9 | BG5: 298 | BI5: 1 | BJ5: Edmonton Running Club | BM5: 9 | BN5: 143
A6: 2 | B6: Watford Joggers | F6: 6 | G6: =Men!$R$3 -> 319 | I6: 2 | J6: Ware Joggers | M6: 6 | N6: =Women!$S$3 -> 180 | P6: 2 | Q6: Hitchin Running Club | U6: 8 | V6: =Men!$AI$3 -> 365 | X6: 2 | Y6: Edmonton Running Club | AB6: 8 | AC6: =Women!$AF$3 -> 171 | AL6: 2 | AM6: Fairlands Valley Spartans | AQ6: 6 | AR6: 294 | AT6: 2 | AU6: Fairlands Valley Spartans | AX6: 6 | AY6: 156 | BA6: 2 | BB6: Enfield Chasers | BF6: 8 | BG6: 351 | BI6: 2 | BJ6: Hitchin Running Club | BM6: 8 | BN6: 167
A7: 3 | B7: Fairlands Valley Spartans | F7: 5 | G7: =Men!$N$3 -> 380 | I7: 3 | J7: Fairlands Valley Spartans | M7: 5 | N7: =Women!$N$3 -> 285 | P7: 3 | Q7: Enfield Chasers | U7: 7 | V7: =Men!$AE$3 -> 399 | X7: 3 | Y7: Barnet & District AC | AB7: 7 | AC7: =Women!$AC$3 -> 175 | AL7: 3 | AM7: Watford Joggers | AQ7: 5 | AR7: 598 | AT7: 3 | AU7: Ware Joggers | AX7: 5 | AY7: 225 | BA7: 3 | BB7: Barnet & District AC | BF7: 7 | BG7: 455 | BI7: 3 | BJ7: Barnet & District AC | BM7: 7 | BN7: 186
A8: 4 | B8: WAT 'B' | G8: =Men!$R$355 -> 427 | I8: 4 | J8: Bishop Stortford Running Club | M8: 4 | N8: =Women!$M$3 -> 295 | P8: 4 | Q8: Edmonton Running Club | U8: 6 | V8: =Men!$AF$3 -> 553 | X8: 4 | Y8: Enfield Chasers | AB8: 6 | AC8: =Women!$AE$3 -> 181 | AL8: 4 | AM8: Royston Runners | AQ8: 4 | AR8: 639 | AT8: 4 | AU8: Watford Joggers | AX8: 4 | AY8: 283 | BA8: 4 | BB8: Stevenage & North Herts AC | BF8: 6 | BG8: 601 | BI8: 4 | BJ8: Enfield Chasers | BM8: 6 | BN8: 189
A9: 5 | B9: Royston Runners | F9: 4 | G9: =Men!$P$3 -> 490 | I9: 5 | J9: Stevenage Striders | M9: 3 | N9: =Women!$Q$3 -> 308 | P9: 5 | Q9: Stevenage & North Herts AC | U9: 5 | V9: =Men!$AK$3 -> 687 | X9: 5 | Y9: Harpenden Arrows | AB9: 5 | AC9: =Women!$AJ$3 -> 287 | AL9: 5 | AM9: Bishop Stortford Running Club | AQ9: 3 | AR9: 701 | AT9: 5 | AU9: Stevenage Striders | AX9: 3 | AY9: 338 | BA9: 5 | BB9: Edmonton Running Club | BF9: 5 | BG9: 626 | BI9: 5 | BJ9: Broxbourne Runners | BM9: 5 | BN9: 335
A10: 6 | B10: WAT 'C' | G10: =Men!$R$358 -> 568 | I10: 6 | J10: Watford Joggers | M10: 2 | N10: =Women!$R$3 -> 309 | P10: 6 | Q10: Broxbourne Runners | U10: 4 | V10: =Men!$AD$3 -> 804 | X10: 6 | Y10: Broxbourne Runners | AB10: 4 | AC10: =Women!$AD$3 -> 339 | AL10: 6 | AM10: Stevenage Striders | AQ10: 2 | AR10: 819 | AT10: 6 | AU10: Bishop Stortford Running Club | AX10: 2 | AY10: 408 | BA10: 6 | BB10: HRC 'B' | BG10: 983 | BI10: 6 | BJ10: Stevenage & North Herts AC | BM10: 4 | BN10: 431
A11: 7 | B11: Bishop Stortford Running Club | F11: 3 | G11: =Men!$M$3 -> 736 | I11: 7 | J11: Harlow Run & Tri Club | M11: 1 | N11: =Women!$O$3 -> 400 | P11: 7 | Q11: Harpenden Arrows | U11: 3 | V11: =Men!$AJ$3 -> 902 | X11: 7 | Y11: B&D 'B' | AC11: =Women!$AC$201 -> 438 | AL11: 7 | AM11: FVS 'B' | AR11: 878 | AT11: 7 | AU11: FVS 'B' | AY11: 436 | BA11: 7 | BB11: Harpenden Arrows | BF11: 4 | BG11: 1029 | BI11: 7 | BJ11: B&D 'B' | BN11: 434
A12: 8 | B12: WJ 'B' | G12: =Men!$S$352 -> 991 | I12: 8 | J12: FVS 'B' | N12: =Women!$N$201 -> 555 | P12: 8 | Q12: B&D 'B' | V12: =Men!$AC$352 -> 1019 | X12: 8 | Y12: Stevenage & North Herts AC | AB12: 3 | AC12: =Women!$AK$3 -> 478 | AL12: 8 | AM12: WJ 'B' | AR12: 902 | AT12: 8 | AU12: WJ 'B' | AY12: 464 | BA12: 8 | BB12: Broxbourne Runners | BF12: 3 | BG12: 1093 | BI12: 8 | BJ12: Harpenden Arrows | BM12: 3 | BN12: 474
A13: 9 | B13: WAT 'D' | G13: =Men!$R$352 -> 995 | I13: 9 | J13: WAT 'B' | N13: =Women!$R$201 -> 721 | P13: 9 | Q13: Freedom Tri | U13: 2 | V13: =Men!$AG$3 -> 2156 | X13: 9 | Y13: Herts Phoenix AC | AB13: 0 | AC13: =Women!$AH$3 -> 648 | AL13: 9 | AM13: Harlow Run & Tri Club | AQ13: 1 | AR13: 1011 | AT13: 9 | AU13: WJ 'B' | AY13: 464 | BA13: 9 | BB13: Freedom Tri | BF13: 2 | BG13: 1351 | BI13: 9 | BJ13: Herts Phoenix AC | BM13: 2 | BN13: 624
A14: 10 | B14: Harlow Run & Tri Club | F14: 2 | G14: =Men!$O$3 -> 1026 | I14: 10 | J14: FVS 'C' | N14: =Women!$N$204 -> 827 | P14: 10 | Q14: Herts Phoenix AC | U14: 1 | V14: =Men!$AH$3 -> 2299 | X14: 9 | Y14: Freedom Tri | AB14: 0 | AC14: =Women!$AG$3 -> 648 | AL14: 10 | AM14: ROY 'B' | AR14: 1338 | AT14: 10 | AU14: Harlow Run & Tri Club | AX14: 1 | AY14: 526 | BA14: 10 | BB14: Herts Phoenix AC | BF14: 1 | BG14: 1474 | BI14: 10 | BJ14: Freedom Tri | BM14: 1 | BN14: 662
A15: 11 | B15: FVS 'B' | G15: =Men!$N$352 -> 1133 | I15: 11 | J15: ROY 'B' | N15: =Women!$P$201 -> 349 | AL15: 11 | AM15: FVS 'C' | AR15: 1616 | AT15: 11 | AU15: SS 'B' | AY15: 736
A16: 12 | B16: Stevenage Striders | F16: 1 | G16: =Men!$Q$3 -> 1148 | T16: Pos | U16: OVERALL | Y16: Points | Z16: Score | AL16: 12 | AM16: BSRC 'B' | AR16: 1758 | AT16: 12 | AU16: BSRC 'B' | AY16: 804
A17: 13 | B17: BSRC 'B' | G17: =Men!$M$352 -> 1906 | T17: 1 | U17: Hitchin Running Club | Y17: =VLOOKUP($U17,$Q$5:$V$14,5,0)+VLOOKUP($U17,$Y$5:$AC$14,4,0) -> 17 | Z17: =VLOOKUP($U17,$Q$5:$V$14,6,0)+VLOOKUP($U17,$Y$5:$AC$14,5,0) -> 534 | AL17: 13 | AM17: SS 'B' | AR17: 1866 | AT17: 13 | AU17: FVS 'C' | AY17: 870
A18: 14 | B18: FVS 'C' | G18: =Men!$N$355 -> 1974 | T18: 2 | U18: Barnet & District AC | Y18: =VLOOKUP($U18,$Q$5:$V$14,5,0)+VLOOKUP($U18,$Y$5:$AC$14,4,0) -> 16 | Z18: =VLOOKUP($U18,$Q$5:$V$14,6,0)+VLOOKUP($U18,$Y$5:$AC$14,5,0) -> 532 | AL18: 14 | AM18: WAT 'B' | AR18: 1917 | AT18: 14 | AU18: SS 'C' | AY18: 1040
T19: 3 | U19: Edmonton Running Club | Y19: =VLOOKUP($U19,$Q$5:$V$14,5,0)+VLOOKUP($U19,$Y$5:$AC$14,4,0) -> 14 | Z19: =VLOOKUP($U19,$Q$5:$V$14,6,0)+VLOOKUP($U19,$Y$5:$AC$14,5,0) -> 724 | AL19: 15 | AM19: FVS 'D' | AR19: 2364 | AT19: 15 | AU19: FVS 'D' | AY19: 1095 | BE19: Pos | BF19: OVERALL | BJ19: Points | BK19: Score
E20: Pos | F20: OVERALL | J20: Points | K20: Score | T20: 4 | U20: Enfield Chasers | Y20: =VLOOKUP($U20,$Q$5:$V$14,5,0)+VLOOKUP($U20,$Y$5:$AC$14,4,0) -> 13 | Z20: =VLOOKUP($U20,$Q$5:$V$14,6,0)+VLOOKUP($U20,$Y$5:$AC$14,5,0) -> 580 | AL20: 16 | AM20: SS 'C' | AR20: 2432 | AT20: 16 | AU20: ROY 'B' | AY20: 365 | BE20: 1 | BF20: Hitchin Running Club | BJ20: 17 | BK20: 465
E21: 1 | F21: Ware Joggers | J21: =VLOOKUP($F21,$B$5:$G$16,5,0)+VLOOKUP($F21,$J$5:$N$16,4,0) -> 13 | K21: =VLOOKUP($F21,$B$5:$G$16,6,0)+VLOOKUP($F21,$J$5:$N$16,5,0) -> 419 | T21: 5 | U21: Broxbourne Runners | Y21: =VLOOKUP($U21,$Q$5:$V$14,5,0)+VLOOKUP($U21,$Y$5:$AC$14,4,0) -> 8 | Z21: =VLOOKUP($U21,$Q$5:$V$14,6,0)+VLOOKUP($U21,$Y$5:$AC$14,5,0) -> 1143 | BE21: 2 | BF21: Enfield Chasers | BJ21: 14 | BK21: 540
E22: 2 | F22: Royston Runners | J22: =VLOOKUP($F22,$B$5:$G$16,5,0)+VLOOKUP($F22,$J$5:$N$16,4,0) -> 11 | K22: =VLOOKUP($F22,$B$5:$G$16,6,0)+VLOOKUP($F22,$J$5:$N$16,5,0) -> 578 | T22: 6 | U22: Stevenage & North Herts AC | Y22: =VLOOKUP($U22,$Q$5:$V$14,5,0)+VLOOKUP($U22,$Y$5:$AC$14,4,0) -> 8 | Z22: =VLOOKUP($U22,$Q$5:$V$14,6,0)+VLOOKUP($U22,$Y$5:$AC$14,5,0) -> 1165 | AP22: Pos | AQ22: OVERALL | AU22: Points | AV22: Score | BE22: 3 | BF22: Barnet & District AC | BJ22: 14 | BK22: 641
E23: 3 | F23: Fairlands Valley Spartans | J23: =VLOOKUP($F23,$B$5:$G$16,5,0)+VLOOKUP($F23,$J$5:$N$16,4,0) -> 10 | K23: =VLOOKUP($F23,$B$5:$G$16,6,0)+VLOOKUP($F23,$J$5:$N$16,5,0) -> 665 | T23: 7 | U23: Harpenden Arrows | Y23: =VLOOKUP($U23,$Q$5:$V$14,5,0)+VLOOKUP($U23,$Y$5:$AC$14,4,0) -> 8 | Z23: =VLOOKUP($U23,$Q$5:$V$14,6,0)+VLOOKUP($U23,$Y$5:$AC$14,5,0) -> 1189 | AP23: 1 | AQ23: Ware Joggers | AU23: 12 | AV23: 441 | BE23: 4 | BF23: Edmonton Running Club | BJ23: 14 | BK23: 769
E24: 4 | F24: Watford Joggers | J24: =VLOOKUP($F24,$B$5:$G$16,5,0)+VLOOKUP($F24,$J$5:$N$16,4,0) -> 8 | K24: =VLOOKUP($F24,$B$5:$G$16,6,0)+VLOOKUP($F24,$J$5:$N$16,5,0) -> 628 | T24: 8 | U24: Freedom Tri | Y24: =VLOOKUP($U24,$Q$5:$V$14,5,0)+VLOOKUP($U24,$Y$5:$AC$14,4,0) -> 2 | Z24: =VLOOKUP($U24,$Q$5:$V$14,6,0)+VLOOKUP($U24,$Y$5:$AC$14,5,0) -> 2804 | AP24: 2 | AQ24: Fairlands Valley Spartans | AU24: 12 | AV24: 450 | BE24: 5 | BF24: Stevenage & North Herts AC | BJ24: 10 | BK24: 1032
E25: 5 | F25: Bishop Stortford Running Club | J25: =VLOOKUP($F25,$B$5:$G$16,5,0)+VLOOKUP($F25,$J$5:$N$16,4,0) -> 7 | K25: =VLOOKUP($F25,$B$5:$G$16,6,0)+VLOOKUP($F25,$J$5:$N$16,5,0) -> 1031 | T25: 9 | U25: Herts Phoenix AC | Y25: =VLOOKUP($U25,$Q$5:$V$14,5,0)+VLOOKUP($U25,$Y$5:$AC$14,4,0) -> 1 | Z25: =VLOOKUP($U25,$Q$5:$V$14,6,0)+VLOOKUP($U25,$Y$5:$AC$14,5,0) -> 2947 | AP25: 3 | AQ25: Royston Runners | AU25: 11 | AV25: 733 | BE25: 6 | BF25: Broxbourne Runners | BJ25: 8 | BK25: 1428
E26: 6 | F26: Stevenage Striders | J26: =VLOOKUP($F26,$B$5:$G$16,5,0)+VLOOKUP($F26,$J$5:$N$16,4,0) -> 4 | K26: =VLOOKUP($F26,$B$5:$G$16,6,0)+VLOOKUP($F26,$J$5:$N$16,5,0) -> 1456 | AP26: 4 | AQ26: Watford Joggers | AU26: 9 | AV26: 881 | BE26: 7 | BF26: Harpenden Arrows | BJ26: 7 | BK26: 1503
E27: 7 | F27: Harlow Run & Tri Club | J27: =VLOOKUP($F27,$B$5:$G$16,5,0)+VLOOKUP($F27,$J$5:$N$16,4,0) -> 3 | K27: =VLOOKUP($F27,$B$5:$G$16,6,0)+VLOOKUP($F27,$J$5:$N$16,5,0) -> 1426 | P27: Pos | Q27: VET MEN | U27: Points | V27: Score | X27: Pos | Y27: VET WOMEN | AB27: Points | AC27: Score | AP27: 5 | AQ27: Bishop Stortford Running Club | AU27: 5 | AV27: 1109 | BE27: 8 | BF27: Freedom Tri | BJ27: 3 | BK27: 2013
P28: 1 | Q28: Barnet & District AC | U28: 9 | V28: =Men!$AM$3 -> 66 | X28: 1 | Y28: Edmonton Running Club | AB28: 9 | AC28: =Women!$AP$3 -> 28 | AP28: 6 | AQ28: Stevenage Striders | AU28: 5 | AV28: 1157 | BE28: 9 | BF28: Herts Phoenix AC | BJ28: 3 | BK28: 2098
A29: Pos | B29: VET MEN | F29: Points | G29: Score | I29: Pos | J29: VET WOMEN | M29: Points | N29: Score | P29: 2 | Q29: Enfield Chasers | U29: 8 | V29: =Men!$AO$3 -> 112 | X29: 2 | Y29: Enfield Chasers | AB29: 8 | AC29: =Women!$AO$3 -> 44 | AP29: 7 | AQ29: Harlow Run & Tri Club | AU29: 2 | AV29: 1537
A30: 1 | B30: Ware Joggers | F30: 7 | G30: =Men!$AA$3 -> 34 | I30: 1 | J30: Royston Runners | M30: 7 | N30: =Women!$X$3 -> 36 | P30: 3 | Q30: Edmonton Running Club | U30: 7 | V30: =Men!$AP$3 -> 134 | X30: 3 | Y30: Harpenden Arrows | AB30: 7 | AC30: =Women!$AT$3 -> 48 | BA30: Pos | BB30: VET MEN | BF30: Points | BG30: Score | BI30: Pos | BJ30: VET WOMEN | BM30: Points | BN30: Score
A31: 2 | B31: Watford Joggers | F31: 6 | G31: =Men!$Z$3 -> 66 | I31: 2 | J31: Ware Joggers | M31: 6 | N31: =Women!$AA$3 -> 45 | P31: 4 | Q31: Harpenden Arrows | U31: 6 | V31: =Men!$AT$3 -> 188 | X31: 4 | Y31: Hitchin Running Club | AB31: 6 | AC31: =Women!$AS$3 -> 55 | AL31: Pos | AM31: VET MEN | AQ31: Points | AR31: Score | AT31: Pos | AU31: VET WOMEN | AX31: Points | AY31: Score | BA31: 1 | BB31: Barnet & District AC | BF31: 9 | BG31: 62 | BI31: 1 | BJ31: Edmonton Running Club | BM31: 9 | BN31: 31
A32: 3 | B32: Fairlands Valley Spartans | F32: 5 | G32: =Men!$V$3 -> 127 | I32: 3 | J32: Bishop Stortford Running Club | M32: 5 | N32: =Women!$U$3 -> 50 | P32: 5 | Q32: B&D 'B' | V32: =Men!$AM$352 -> 199 | X32: 5 | Y32: Barnet & District AC | AB32: 5 | AC32: =Women!$AM$3 -> 60 | AL32: 1 | AM32: Ware Joggers | AQ32: 7 | AR32: 76 | AT32: 1 | AU32: Fairlands Valley Spartans | AX32: 7 | AY32: 27 | BA32: 2 | BB32: B&D 'B' | BG32: 88 | BI32: 2 | BJ32: Enfield Chasers | BM32: 8 | BN32: 41
A33: 4 | B33: Royston Runners | F33: 4 | G33: =Men!$X$3 -> 137 | I33: 4 | J33: Fairlands Valley Spartans | M33: 4 | N33: =Women!$V$3 -> 62 | P33: 6 | Q33: Hitchin Running Club | U33: 4 | V33: =Men!$AS$3 -> 249 | X33: 6 | Y33: EDM 'B' | AC33: =Women!$AP$201 -> 92 | AL33: 2 | AM33: Watford Joggers | AQ33: 6 | AR33: 77 | AT33: 2 | AU33: Royston Runners | AX33: 6 | AY33: 33 | BA33: 3 | BB33: Edmonton Running Club | BF33: 8 | BG33: 93 | BI33: 3 | BJ33: Hitchin Running Club | BM33: 7 | BN33: 47
A34: 5 | B34: WAT 'B' | G34: =Men!$Z$352 -> 188 | I34: 5 | J34: Stevenage Striders | M34: 3 | N34: =Women!$Y$3 -> 73 | P34: 7 | Q34: Broxbourne Runners | U34: 3 | V34: =Men!$AN$3 -> 266 | X34: 7 | Y34: B&D 'B' | AC34: =Women!$AM$201 -> 122 | AL34: 3 | AM34: Fairlands Valley Spartans | AQ34: 5 | AR34: 78 | AT34: 3 | AU34: Ware Joggers | AX34: 5 | AY34: 39 | BA34: 4 | BB34: Enfield Chasers | BF34: 7 | BG34: 114 | BI34: 4 | BJ34: Barnet & District AC | BM34: 6 | BN34: 58
A35: 6 | B35: WJ 'B' | G35: =Men!$AA$352 -> 197 | I35: 6 | J35: Watford Joggers | M35: 2 | N35: =Women!$Z$3 -> 79 | P35: 8 | Q35: Stevenage & North Herts AC | U35: 2 | V35: =Men!$AU$3 -> 270 | X35: 8 | Y35: Broxbourne Runners | AB35: 4 | AC35: =Women!$AN$3 -> 143 | AL35: 4 | AM35: WJ 'B' | AR35: 109 | AT35: 4 | AU35: FVS 'B' | AY35: 74 | BA35: 5 | BB35: EDM 'B' | BG35: 151 | BI35: 5 | BJ35: EDM 'B' | BN35: 102
A36: 7 | B36: Bishop Stortford Running Club | F36: 3 | G36: =Men!$U$3 -> 229 | I36: 7 | J36: ROY 'B' | N36: =Women!$X$201 -> 90 | P36: 9 | Q36: EC 'B' | V36: =Men!$AO$352 -> 341 | X36: 9 | Y36: HRP 'B' | AC36: =Women!$AT$201 -> 162 | AL36: 5 | AM36: FVS 'B' | AR36: 110 | AT36: 5 | AU36: Watford Joggers | AX36: 4 | AY36: 88 | BA36: 6 | BB36: Hitchin Running Club | BF36: 6 | BG36: 165 | BI36: 6 | BJ36: Harpenden Arrows | BM36: 5 | BN36: 107
A37: 8 | B37: Harlow Run & Tri Club | F37: 2 | G37: =Men!$W$3 -> 288 | I37: 8 | J37: WJ 'B' | N37: =Women!$AA$201 -> 106 | P37: 10 | Q37: EDM 'B' | V37: =Men!$AP$352 -> 350 | X37: 10 | Y37: EDM 'C' | AC37: =Women!$AP$204 -> 168 | AL37: 6 | AM37: WAT 'B' | AR37: 130 | AT37: 6 | AU37: WJ 'B' | AY37: 95 | BA37: 7 | BB37: B&D 'C' | BG37: 171 | BI37: 7 | BJ37: Stevenage & North Herts AC | BM37: 4 | BN37: 108
A38: 9 | B38: FVS 'B' | G38: =Men!$V$352 -> 329 | I38: 9 | J38: Harlow Run & Tri Club | M38: 1 | N38: =Women!$W$3 -> 112 | P38: 11 | Q38: B&D 'C' | V38: =Men!$AM$355 -> 378 | X38: 11 | Y38: B&D 'C' | AC38: =Women!$AM$204 -> 177 | AL38: 7 | AM38: Royston Runners | AQ38: 4 | AR38: 152 | AT38: 7 | AU38: ROY 'B' | AY38: 100 | BA38: 8 | BB38: Harpenden Arrows | BF38: 5 | BG38: 180 | BI38: 8 | BJ38: Broxbourne Runners | BM38: 3 | BN38: 113
A39: 10 | B39: WAT 'C' | G39: =Men!$Z$355 -> 346 | I39: 10 | J39: FVS 'B' | N39: =Women!$V$201 -> 147 | P39: 12 | Q39: Herts Phoenix AC | U39: 2 | V39: =Men!$AR$3 -> 388 | X39: 12 | Y39: Stevenage & North Herts AC | AB39: 3 | AC39: =Women!$AU$3 -> 178 | AL39: 8 | AM39: FVS 'C' | AR39: 157 | AT39: 8 | AU39: Harlow Run & Tri Club | AX39: 3 | AY39: 133 | BA39: 9 | BB39: Stevenage & North Herts AC | BF39: 4 | BG39: 184 | BI39: 9 | BJ39: B&D 'B' | BN39: 116
A40: 11 | B40: ROY 'B' | G40: =Men!$X$352 -> 352 | I40: 11 | J40: BSRC 'B' | N40: =Women!$U$201 -> 154 | P40: 13 | Q40: Freedom Tri | U40: 1 | V40: =Men!$AQ$3 -> 425 | X40: 13 | Y40: Freedom Tri | AB40: 0 | AC40: =Women!$AQ$3 -> 288 | AL40: 9 | AM40: Bishop Stortford Running Club | AQ40: 3 | AR40: 158 | AT40: 9 | AU40: Bishop Stortford Running Club | AX40: 2 | AY40: 151 | BA40: 9 | BB40: EC 'B' | BG40: 184 | BI40: 10 | BJ40: HRC 'B' | BN40: 138
A41: 12 | B41: Stevenage Striders | F41: 1 | G41: =Men!$Y$3 -> 379 | I41: 12 | J41: WJ 'C' | N41: =Women!$AA$204 -> 210 | X41: 13 | Y41: Herts Phoenix AC | AB41: 0 | AC41: =Women!$AR$3 -> 288 | AL41: 10 | AM41: ROY 'B' | AR41: 171 | AT41: 9 | AU41: WJ 'C' | AY41: 151 | BA41: 11 | BB41: SNH 'B' | BG41: 194 | BI41: 11 | BJ41: B&D 'C' | BN41: 172
A42: 13 | B42: WJ 'C' | G42: =Men!$AA$355 -> 525 | I42: 12 | J42: WAT 'B' | N42: =Women!$Z$201 -> 210 | AL42: 11 | AM42: BSRC 'B' | AR42: 200 | AT42: 11 | AU42: FVS 'C' | AY42: 153 | BA42: 12 | BB42: HRC 'B' | BG42: 198 | BI42: 12 | BJ42: EDM 'C' | BN42: 192
A43: 13 | B43: WAT 'D' | G43: =Men!$Z$358 -> 525 | I43: 14 | J43: ROY 'C' | N43: =Women!$X$204 -> 220 | AL43: 12 | AM43: Harlow Run & Tri Club | AQ43: 2 | AR43: 229 | AT43: 12 | AU43: Stevenage Striders | AX43: 1 | AY43: 160 | BA43: 13 | BB43: Broxbourne Runners | BF43: 3 | BG43: 244 | BI43: 13 | BJ43: B&D 'D' | BN43: 219
A44: 15 | B44: HRTC 'B' | G44: =Men!$W$352 -> 544 | I44: 15 | J44: SS 'B' | N44: =Women!$Y$201 -> 229 | AL44: 13 | AM44: ROY 'C' | AR44: 241 | AT44: 13 | AU44: WAT 'B' | AY44: 186 | BA44: 14 | BB44: EDM 'C' | BG44: 255 | BI44: 14 | BJ44: Freedom Tri | BM44: 0 | BN44: 288
A45: 16 | B45: FVS 'C' | G45: =Men!$V$355 -> 545 | I45: 16 | J45: FVS 'C' | N45: =Women!$V$204 -> 241 | AL45: 14 | AM45: FVS 'D' | AR45: 245 | AT45: 14 | AU45: ROY 'C' | AY45: 235 | BA45: 15 | BB45: B&D 'D' | BG45: 256 | BI45: 15 | BJ45: Herts Phoenix AC | BM45: 0 | BN45: 288
A46: 17 | B46: BSRC 'B' | G46: =Men!$U$352 -> 557 | I46: 17 | J46: BSRC 'C' | N46: =Women!$U$204 -> 242 | AL46: 15 | AM46: WAT 'C' | AR46: 270 | AT46: 15 | AU46: BSRC 'B' | AY46: 254 | BA46: 16 | BB46: BRX 'B' | BG46: 258
A47: 18 | B47: WAT 'E' | G47: =Men!$Z$361 -> 652 | I47: 18 | J47: WAT 'C' | N47: =Women!$Z$204 -> 290 | AL47: 16 | AM47: WJ 'C' | AR47: 277 | AT47: 16 | AU47: WJ 'D' | AY47: 255 | BA47: 17 | BB47: HRP 'B' | BG47: 264
A48: 19 | B48: SS 'B' | G48: =Men!$Y$352 -> 699 | I48: 19 | J48: FVS 'D' | N48: =Women!$V$207 -> 310 | AL48: 17 | AM48: SS 'B' | AR48: 287 | AT48: 17 | AU48: SS 'B' | AY48: 270 | BA48: 18 | BB48: HRC 'C' | BG48: 296
A49: 20 | B49: FVS 'D' | G49: =Men!$V$358 -> 735 | I49: 20 | J49: SS 'C' | N49: =Women!$Y$204 -> 327 | AL49: 18 | AM49: ROY 'D' | AR49: 288 | AT49: 18 | AU49: FVS 'D' | AY49: 282 | BA49: 19 | BB49: B&D 'E' | BG49: 326
A50: 21 | B50: WAT 'F' | G50: =Men!$Z$364 -> 768 | T50: Pos | U50: OVERALL | Y50: Points | Z50: Score | AL50: 19 | AM50: Stevenage Striders | AQ50: 1 | AR50: 293 | AT50: 19 | AU50: ROY 'D' | AY50: 305 | BA50: 20 | BB50: Freedom Tri | BF50: 2 | BG50: 485
T51: 1 | U51: Enfield Chasers | Y51: =VLOOKUP($U51,$Q$28:$V$49,5,0)+VLOOKUP($U51,$Y$28:$AC$49,4,0) -> 16 | Z51: =VLOOKUP($U51,$Q$28:$V$49,6,0)+VLOOKUP($U51,$Y$28:$AC$49,5,0) -> 156 | AL51: 19 | AM51: HRTC 'B' | AR51: 293 | AT51: 20 | AU51: BSRC 'C' | AY51: 322 | BA51: 21 | BB51: Herts Phoenix AC | BF51: 1 | BG51: 491
E52: Pos | F52: OVERALL | J52: Points | K52: Score | T52: 2 | U52: Edmonton Running Club | Y52: =VLOOKUP($U52,$Q$28:$V$49,5,0)+VLOOKUP($U52,$Y$28:$AC$49,4,0) -> 16 | Z52: =VLOOKUP($U52,$Q$28:$V$49,6,0)+VLOOKUP($U52,$Y$28:$AC$49,5,0) -> 162 | AL52: 21 | AM52: FVS 'E' | AR52: 325 | AT52: 21 | AU52: SS 'C' | AY52: 339
E53: 1 | F53: Ware Joggers | J53: =VLOOKUP($F53,$B$30:$G$51,5,0)+VLOOKUP($F53,$J$30:$N$51,4,0) -> 13 | K53: =VLOOKUP($F53,$B$30:$G$51,6,0)+VLOOKUP($F53,$J$30:$N$51,5,0) -> 79 | T53: 3 | U53: Barnet & District AC | Y53: =VLOOKUP($U53,$Q$28:$V$49,5,0)+VLOOKUP($U53,$Y$28:$AC$49,4,0) -> 14 | Z53: =VLOOKUP($U53,$Q$28:$V$49,6,0)+VLOOKUP($U53,$Y$28:$AC$49,5,0) -> 126 | AL53: 22 | AM53: BSRC 'C' | AR53: 336 | AT53: 22 | AU53: FVS 'E' | AY53: 368
E54: 2 | F54: Royston Runners | J54: =VLOOKUP($F54,$B$30:$G$51,5,0)+VLOOKUP($F54,$J$30:$N$51,4,0) -> 11 | K54: =VLOOKUP($F54,$B$30:$G$51,6,0)+VLOOKUP($F54,$J$30:$N$51,5,0) -> 173 | T54: 4 | U54: Harpenden Arrows | Y54: =VLOOKUP($U54,$Q$28:$V$49,5,0)+VLOOKUP($U54,$Y$28:$AC$49,4,0) -> 13 | Z54: =VLOOKUP($U54,$Q$28:$V$49,6,0)+VLOOKUP($U54,$Y$28:$AC$49,5,0) -> 236 | AL54: 23 | AM54: ROY 'E' | AR54: 337 | AT54: 23 | AU54: BSRC 'D' | AY54: 389
E55: 3 | F55: Fairlands Valley Spartans | J55: =VLOOKUP($F55,$B$30:$G$51,5,0)+VLOOKUP($F55,$J$30:$N$51,4,0) -> 9 | K55: =VLOOKUP($F55,$B$30:$G$51,6,0)+VLOOKUP($F55,$J$30:$N$51,5,0) -> 189 | T55: 5 | U55: Hitchin Running Club | Y55: =VLOOKUP($U55,$Q$28:$V$49,5,0)+VLOOKUP($U55,$Y$28:$AC$49,4,0) -> 10 | Z55: =VLOOKUP($U55,$Q$28:$V$49,6,0)+VLOOKUP($U55,$Y$28:$AC$49,5,0) -> 304 | AL55: 24 | AM55: WAT 'D' | AR55: 374 | AT55: 24 | AU55: SS 'D' | AY55: 404 | BE55: Pos | BF55: OVERALL | BJ55: Points | BK55: Score
E56: 4 | F56: Watford Joggers | J56: =VLOOKUP($F56,$B$30:$G$51,5,0)+VLOOKUP($F56,$J$30:$N$51,4,0) -> 8 | K56: =VLOOKUP($F56,$B$30:$G$51,6,0)+VLOOKUP($F56,$J$30:$N$51,5,0) -> 145 | T56: 6 | U56: Broxbourne Runners | Y56: =VLOOKUP($U56,$Q$28:$V$49,5,0)+VLOOKUP($U56,$Y$28:$AC$49,4,0) -> 7 | Z56: =VLOOKUP($U56,$Q$28:$V$49,6,0)+VLOOKUP($U56,$Y$28:$AC$49,5,0) -> 409 | AL56: 25 | AM56: FVS 'F' | AR56: 377 | AT56: 25 | AU56: FVS 'F' | AY56: 417 | BE56: 1 | BF56: Edmonton Running Club | BJ56: 17 | BK56: 124
E57: 5 | F57: Bishop Stortford Running Club | J57: =VLOOKUP($F57,$B$30:$G$51,5,0)+VLOOKUP($F57,$J$30:$N$51,4,0) -> 8 | K57: =VLOOKUP($F57,$B$30:$G$51,6,0)+VLOOKUP($F57,$J$30:$N$51,5,0) -> 279 | T57: 7 | U57: Stevenage & North Herts AC | Y57: =VLOOKUP($U57,$Q$28:$V$49,5,0)+VLOOKUP($U57,$Y$28:$AC$49,4,0) -> 5 | Z57: =VLOOKUP($U57,$Q$28:$V$49,6,0)+VLOOKUP($U57,$Y$28:$AC$49,5,0) -> 448 | AL57: 26 | AM57: SS 'C' | AR57: 424 | BE57: 2 | BF57: Barnet & District AC | BJ57: 15 | BK57: 120
E58: 6 | F58: Stevenage Striders | J58: =VLOOKUP($F58,$B$30:$G$51,5,0)+VLOOKUP($F58,$J$30:$N$51,4,0) -> 4 | K58: =VLOOKUP($F58,$B$30:$G$51,6,0)+VLOOKUP($F58,$J$30:$N$51,5,0) -> 452 | T58: 8 | U58: Herts Phoenix AC | Y58: =VLOOKUP($U58,$Q$28:$V$49,5,0)+VLOOKUP($U58,$Y$28:$AC$49,4,0) -> 2 | Z58: =VLOOKUP($U58,$Q$28:$V$49,6,0)+VLOOKUP($U58,$Y$28:$AC$49,5,0) -> 676 | AL58: 27 | AM58: ROY 'F' | AR58: 452 | BE58: 3 | BF58: Enfield Chasers | BJ58: 15 | BK58: 155
E59: 7 | F59: Harlow Run & Tri Club | J59: =VLOOKUP($F59,$B$30:$G$51,5,0)+VLOOKUP($F59,$J$30:$N$51,4,0) -> 3 | K59: =VLOOKUP($F59,$B$30:$G$51,6,0)+VLOOKUP($F59,$J$30:$N$51,5,0) -> 400 | T59: 9 | U59: Freedom Tri | Y59: =VLOOKUP($U59,$Q$28:$V$49,5,0)+VLOOKUP($U59,$Y$28:$AC$49,4,0) -> 1 | Z59: =VLOOKUP($U59,$Q$28:$V$49,6,0)+VLOOKUP($U59,$Y$28:$AC$49,5,0) -> 713 | AL59: 27 | AM59: BSRC 'D' | AR59: 452 | BE59: 4 | BF59: Hitchin Running Club | BJ59: 13 | BK59: 212
AL60: 29 | AM60: HRTC 'C' | AR60: 455 | BE60: 5 | BF60: Harpenden Arrows | BJ60: 10 | BK60: 287
AL61: 30 | AM61: WAT 'E' | AR61: 463 | BE61: 6 | BF61: Stevenage & North Herts AC | BJ61: 8 | BK61: 292
A62: CUMULATIVE POSITIONS AFTER 2 RACES | P62: =A62 -> CUMULATIVE POSITIONS AFTER 2 RACES | AL62: 31 | AM62: SS 'D' | AR62: 482 | BE62: 7 | BF62: Broxbourne Runners | BJ62: 6 | BK62: 357
AL63: 32 | AM63: FVS 'G' | AR63: 490 | BE63: 8 | BF63: Freedom Tri | BJ63: 2 | BK63: 773
A64: Pos | B64: MEN | F64: Points | G64: Score | I64: Pos | J64: WOMEN | M64: Points | N64: Score | P64: Pos | Q64: MEN | U64: Points | V64: Score | X64: Pos | Y64: WOMEN | AB64: Points | AC64: Score | AL64: 33 | AM64: BSRC 'E' | AR64: 504 | BE64: 9 | BF64: Herts Phoenix AC | BJ64: 1 | BK64: 779
A65: 1 | B65: Ware Joggers | F65: =VLOOKUP($B65,$B$5:$G$16,5,0)+VLOOKUP($B65,$AM$5:$AR$19,5,0) -> 14 | G65: =VLOOKUP($B65,$B$5:$G$19,6,0)+VLOOKUP($B65,$AM$5:$AR$21,6,0) -> 455 | I65: 1 | J65: Royston Runners | M65: =VLOOKUP($J65,$J$5:$N$16,4,0)+VLOOKUP($J65,$AU$5:$AY$19,4,0) -> 14 | N65: =VLOOKUP($J65,$J$5:$N$23,5,0)+VLOOKUP($J65,$AU$5:$AY$21,5,0) -> 182 | P65: 1 | Q65: Hitchin Running Club | U65: =VLOOKUP($Q65,$Q$5:$V$15,5,0)+VLOOKUP($Q65,$BB$5:$BG$18,5,0) -> 17 | V65: =VLOOKUP($Q65,$Q$5:$V$15,6,0)+VLOOKUP($Q65,$BB$5:$BG$18,6,0) -> 663 | X65: 1 | Y65: Edmonton Running Club | AB65: =VLOOKUP($Y65,$Y$5:$AC$15,4,0)+VLOOKUP($Y65,$BJ$5:$BN$18,4,0) -> 17 | AC65: =VLOOKUP($Y65,$Y$5:$AC$15,5,0)+VLOOKUP($Y65,$BJ$5:$BN$18,5,0) -> 314 | AL65: 34 | AM65: BSRC 'F' | AR65: 555
A66: 2 | B66: Fairlands Valley Spartans | F66: =VLOOKUP($B66,$B$5:$G$16,5,0)+VLOOKUP($B66,$AM$5:$AR$19,5,0) -> 11 | G66: =VLOOKUP($B66,$B$5:$G$19,6,0)+VLOOKUP($B66,$AM$5:$AR$21,6,0) -> 674 | I66: 2 | J66: Ware Joggers | M66: =VLOOKUP($J66,$J$5:$N$16,4,0)+VLOOKUP($J66,$AU$5:$AY$19,4,0) -> 11 | N66: =VLOOKUP($J66,$J$5:$N$23,5,0)+VLOOKUP($J66,$AU$5:$AY$21,5,0) -> 405 | P66: 2 | Q66: Barnet & District AC | U66: =VLOOKUP($Q66,$Q$5:$V$15,5,0)+VLOOKUP($Q66,$BB$5:$BG$18,5,0) -> 16 | V66: =VLOOKUP($Q66,$Q$5:$V$15,6,0)+VLOOKUP($Q66,$BB$5:$BG$18,6,0) -> 812 | X66: 2 | Y66: Hitchin Running Club | AB66: =VLOOKUP($Y66,$Y$5:$AC$15,4,0)+VLOOKUP($Y66,$BJ$5:$BN$18,4,0) -> 17 | AC66: =VLOOKUP($Y66,$Y$5:$AC$15,5,0)+VLOOKUP($Y66,$BJ$5:$BN$18,5,0) -> 336 | AL66: 35 | AM66: SS 'E' | AR66: 570
A67: 3 | B67: Watford Joggers | F67: =VLOOKUP($B67,$B$5:$G$16,5,0)+VLOOKUP($B67,$AM$5:$AR$19,5,0) -> 11 | G67: =VLOOKUP($B67,$B$5:$G$19,6,0)+VLOOKUP($B67,$AM$5:$AR$21,6,0) -> 917 | I67: 3 | J67: Fairlands Valley Spartans | M67: =VLOOKUP($J67,$J$5:$N$16,4,0)+VLOOKUP($J67,$AU$5:$AY$19,4,0) -> 11 | N67: =VLOOKUP($J67,$J$5:$N$23,5,0)+VLOOKUP($J67,$AU$5:$AY$21,5,0) -> 441 | P67: 3 | Q67: Enfield Chasers | U67: =VLOOKUP($Q67,$Q$5:$V$15,5,0)+VLOOKUP($Q67,$BB$5:$BG$18,5,0) -> 15 | V67: =VLOOKUP($Q67,$Q$5:$V$15,6,0)+VLOOKUP($Q67,$BB$5:$BG$18,6,0) -> 750 | X67: 3 | Y67: Barnet & District AC | AB67: =VLOOKUP($Y67,$Y$5:$AC$15,4,0)+VLOOKUP($Y67,$BJ$5:$BN$18,4,0) -> 14 | AC67: =VLOOKUP($Y67,$Y$5:$AC$15,5,0)+VLOOKUP($Y67,$BJ$5:$BN$18,5,0) -> 361 | AL67: 36 | AM67: FVS 'H' | AR67: 574
A68: 4 | B68: Royston Runners | F68: =VLOOKUP($B68,$B$5:$G$16,5,0)+VLOOKUP($B68,$AM$5:$AR$19,5,0) -> 8 | G68: =VLOOKUP($B68,$B$5:$G$19,6,0)+VLOOKUP($B68,$AM$5:$AR$21,6,0) -> 1129 | I68: 4 | J68: Watford Joggers | M68: =VLOOKUP($J68,$J$5:$N$16,4,0)+VLOOKUP($J68,$AU$5:$AY$19,4,0) -> 6 | N68: =VLOOKUP($J68,$J$5:$N$23,5,0)+VLOOKUP($J68,$AU$5:$AY$21,5,0) -> 592 | P68: 4 | Q68: Edmonton Running Club | U68: =VLOOKUP($Q68,$Q$5:$V$15,5,0)+VLOOKUP($Q68,$BB$5:$BG$18,5,0) -> 11 | V68: =VLOOKUP($Q68,$Q$5:$V$15,6,0)+VLOOKUP($Q68,$BB$5:$BG$18,6,0) -> 1179 | X68: 4 | Y68: Enfield Chasers | AB68: =VLOOKUP($Y68,$Y$5:$AC$15,4,0)+VLOOKUP($Y68,$BJ$5:$BN$18,4,0) -> 12 | AC68: =VLOOKUP($Y68,$Y$5:$AC$15,5,0)+VLOOKUP($Y68,$BJ$5:$BN$18,5,0) -> 370 | AL68: 37 | AM68: ROY 'G' | AR68: 581
A69: 5 | B69: Bishop Stortford Running Club | F69: =VLOOKUP($B69,$B$5:$G$16,5,0)+VLOOKUP($B69,$AM$5:$AR$19,5,0) -> 6 | G69: =VLOOKUP($B69,$B$5:$G$19,6,0)+VLOOKUP($B69,$AM$5:$AR$21,6,0) -> 1437 | I69: 5 | J69: Stevenage Striders | M69: =VLOOKUP($J69,$J$5:$N$16,4,0)+VLOOKUP($J69,$AU$5:$AY$19,4,0) -> 6 | N69: =VLOOKUP($J69,$J$5:$N$23,5,0)+VLOOKUP($J69,$AU$5:$AY$21,5,0) -> 646 | P69: 5 | Q69: Stevenage & North Herts AC | U69: =VLOOKUP($Q69,$Q$5:$V$15,5,0)+VLOOKUP($Q69,$BB$5:$BG$18,5,0) -> 11 | V69: =VLOOKUP($Q69,$Q$5:$V$15,6,0)+VLOOKUP($Q69,$BB$5:$BG$18,6,0) -> 1288 | X69: 5 | Y69: Broxbourne Runners | AB69: =VLOOKUP($Y69,$Y$5:$AC$15,4,0)+VLOOKUP($Y69,$BJ$5:$BN$18,4,0) -> 9 | AC69: =VLOOKUP($Y69,$Y$5:$AC$15,5,0)+VLOOKUP($Y69,$BJ$5:$BN$18,5,0) -> 674 | AL69: 38 | AM69: WAT 'F' | AR69: 601
A70: 6 | B70: WJ 'B' | G70: =VLOOKUP($B70,$B$5:$G$19,6,0)+VLOOKUP($B70,$AM$5:$AR$21,6,0) -> 1893 | I70: 6 | J70: Bishop Stortford Running Club | M70: =VLOOKUP($J70,$J$5:$N$16,4,0)+VLOOKUP($J70,$AU$5:$AY$19,4,0) -> 6 | N70: =VLOOKUP($J70,$J$5:$N$23,5,0)+VLOOKUP($J70,$AU$5:$AY$21,5,0) -> 703 | P70: 6 | Q70: Broxbourne Runners | U70: =VLOOKUP($Q70,$Q$5:$V$15,5,0)+VLOOKUP($Q70,$BB$5:$BG$18,5,0) -> 7 | V70: =VLOOKUP($Q70,$Q$5:$V$15,6,0)+VLOOKUP($Q70,$BB$5:$BG$18,6,0) -> 1897 | X70: 6 | Y70: Harpenden Arrows | AB70: =VLOOKUP($Y70,$Y$5:$AC$15,4,0)+VLOOKUP($Y70,$BJ$5:$BN$18,4,0) -> 8 | AC70: =VLOOKUP($Y70,$Y$5:$AC$15,5,0)+VLOOKUP($Y70,$BJ$5:$BN$18,5,0) -> 761 | AL70: 39 | AM70: FVS 'I' | AR70: 636
A71: 7 | B71: Stevenage Striders | F71: =VLOOKUP($B71,$B$5:$G$16,5,0)+VLOOKUP($B71,$AM$5:$AR$19,5,0) -> 3 | G71: =VLOOKUP($B71,$B$5:$G$19,6,0)+VLOOKUP($B71,$AM$5:$AR$21,6,0) -> 1967 | I71: 7 | J71: ROY 'B' | N71: =VLOOKUP($J71,$J$5:$N$23,5,0)+VLOOKUP($J71,$AU$5:$AY$21,5,0) -> 714 | P71: 7 | Q71: Harpenden Arrows | U71: =VLOOKUP($Q71,$Q$5:$V$15,5,0)+VLOOKUP($Q71,$BB$5:$BG$18,5,0) -> 7 | V71: =VLOOKUP($Q71,$Q$5:$V$15,6,0)+VLOOKUP($Q71,$BB$5:$BG$18,6,0) -> 1931 | X71: 7 | Y71: B&D 'B' | AC71: =VLOOKUP($Y71,$Y$5:$AC$15,5,0)+VLOOKUP($Y71,$BJ$5:$BN$18,5,0) -> 872 | AL71: 40 | AM71: SS 'F' | AR71: 641
A72: 8 | B72: FVS 'B' | G72: =VLOOKUP($B72,$B$5:$G$19,6,0)+VLOOKUP($B72,$AM$5:$AR$21,6,0) -> 2011 | I72: 8 | J72: Harlow Run & Tri Club | M72: =VLOOKUP($J72,$J$5:$N$16,4,0)+VLOOKUP($J72,$AU$5:$AY$19,4,0) -> 2 | N72: =VLOOKUP($J72,$J$5:$N$23,5,0)+VLOOKUP($J72,$AU$5:$AY$21,5,0) -> 926 | P72: 8 | Q72: Freedom Tri | U72: =VLOOKUP($Q72,$Q$5:$V$15,5,0)+VLOOKUP($Q72,$BB$5:$BG$18,5,0) -> 4 | V72: =VLOOKUP($Q72,$Q$5:$V$15,6,0)+VLOOKUP($Q72,$BB$5:$BG$18,6,0) -> 3507 | X72: 8 | Y72: Stevenage & North Herts AC | AB72: =VLOOKUP($Y72,$Y$5:$AC$15,4,0)+VLOOKUP($Y72,$BJ$5:$BN$18,4,0) -> 7 | AC72: =VLOOKUP($Y72,$Y$5:$AC$15,5,0)+VLOOKUP($Y72,$BJ$5:$BN$18,5,0) -> 909
A73: 9 | B73: Harlow Run & Tri Club | F73: =VLOOKUP($B73,$B$5:$G$16,5,0)+VLOOKUP($B73,$AM$5:$AR$19,5,0) -> 3 | G73: =VLOOKUP($B73,$B$5:$G$19,6,0)+VLOOKUP($B73,$AM$5:$AR$21,6,0) -> 2037 | I73: 9 | J73: FVS 'B' | N73: =VLOOKUP($J73,$J$5:$N$23,5,0)+VLOOKUP($J73,$AU$5:$AY$21,5,0) -> 991 | P73: 9 | Q73: Herts Phoenix AC | U73: =VLOOKUP($Q73,$Q$5:$V$15,5,0)+VLOOKUP($Q73,$BB$5:$BG$18,5,0) -> 2 | V73: =VLOOKUP($Q73,$Q$5:$V$15,6,0)+VLOOKUP($Q73,$BB$5:$BG$18,6,0) -> 3773 | X73: 9 | Y73: Herts Phoenix AC | AB73: =VLOOKUP($Y73,$Y$5:$AC$15,4,0)+VLOOKUP($Y73,$BJ$5:$BN$18,4,0) -> 2 | AC73: =VLOOKUP($Y73,$Y$5:$AC$15,5,0)+VLOOKUP($Y73,$BJ$5:$BN$18,5,0) -> 1272 | AP73: Pos | AQ73: OVERALL | AU73: Points | AV73: Score
A74: 10 | B74: WAT 'B' | G74: =VLOOKUP($B74,$B$5:$G$19,6,0)+VLOOKUP($B74,$AM$5:$AR$21,6,0) -> 2344 | I74: 10 | J74: FVS 'C' | N74: =VLOOKUP($J74,$J$5:$N$23,5,0)+VLOOKUP($J74,$AU$5:$AY$21,5,0) -> 1697 | X74: 10 | Y74: Freedom Tri | AB74: =VLOOKUP($Y74,$Y$5:$AC$15,4,0)+VLOOKUP($Y74,$BJ$5:$BN$18,4,0) -> 1 | AC74: =VLOOKUP($Y74,$Y$5:$AC$15,5,0)+VLOOKUP($Y74,$BJ$5:$BN$18,5,0) -> 1310 | AP74: 1 | AQ74: Fairlands Valley Spartans | AU74: 12 | AV74: 105
A75: 11 | B75: FVS 'C' | G75: =VLOOKUP($B75,$B$5:$G$19,6,0)+VLOOKUP($B75,$AM$5:$AR$21,6,0) -> 3590 | AP75: 2 | AQ75: Ware Joggers | AU75: 12 | AV75: 115
A76: 12 | B76: BSRC 'B' | G76: =VLOOKUP($B76,$B$5:$G$19,6,0)+VLOOKUP($B76,$AM$5:$AR$21,6,0) -> 3664 | T76: Pos | U76: OVERALL | Y76: Points | Z76: Score | AP76: 3 | AQ76: Watford Joggers | AU76: 10 | AV76: 165
T77: 1 | U77: Hitchin Running Club | Y77: =VLOOKUP($U77,$Q$65:$V$75,5,0)+VLOOKUP($U77,$Y$65:$AC$75,4,0) -> 34 | Z77: =VLOOKUP($U77,$Q$65:$V$75,6,0)+VLOOKUP($U77,$Y$65:$AC$75,5,0) -> 999 | AP77: 4 | AQ77: Royston Runners | AU77: 10 | AV77: 185
E78: Pos | F78: OVERALL | J78: Points | K78: Score | T78: 2 | U78: Barnet & District AC | Y78: =VLOOKUP($U78,$Q$65:$V$75,5,0)+VLOOKUP($U78,$Y$65:$AC$75,4,0) -> 30 | Z78: =VLOOKUP($U78,$Q$65:$V$75,6,0)+VLOOKUP($U78,$Y$65:$AC$75,5,0) -> 1173 | AP78: 5 | AQ78: Bishop Stortford Running Club | AU78: 5 | AV78: 309
E79: 1 | F79: Ware Joggers | J79: =VLOOKUP($F79,$B$65:$G$77,5,0)+VLOOKUP($F79,$J$65:$N$77,4,0) -> 25 | K79: =VLOOKUP($F79,$B$65:$G$77,6,0)+VLOOKUP($F79,$J$65:$N$77,5,0) -> 860 | T79: 3 | U79: Edmonton Running Club | Y79: =VLOOKUP($U79,$Q$65:$V$75,5,0)+VLOOKUP($U79,$Y$65:$AC$75,4,0) -> 28 | Z79: =VLOOKUP($U79,$Q$65:$V$75,6,0)+VLOOKUP($U79,$Y$65:$AC$75,5,0) -> 1493 | AP79: 6 | AQ79: Harlow Run & Tri Club | AU79: 5 | AV79: 362
E80: 2 | F80: Fairlands Valley Spartans | J80: =VLOOKUP($F80,$B$65:$G$77,5,0)+VLOOKUP($F80,$J$65:$N$77,4,0) -> 22 | K80: =VLOOKUP($F80,$B$65:$G$77,6,0)+VLOOKUP($F80,$J$65:$N$77,5,0) -> 1115 | T80: 4 | U80: Enfield Chasers | Y80: =VLOOKUP($U80,$Q$65:$V$75,5,0)+VLOOKUP($U80,$Y$65:$AC$75,4,0) -> 27 | Z80: =VLOOKUP($U80,$Q$65:$V$75,6,0)+VLOOKUP($U80,$Y$65:$AC$75,5,0) -> 1120 | AP80: 7 | AQ80: Stevenage Striders | AU80: 2 | AV80: 453
E81: 3 | F81: Royston Runners | J81: =VLOOKUP($F81,$B$65:$G$77,5,0)+VLOOKUP($F81,$J$65:$N$77,4,0) -> 22 | K81: =VLOOKUP($F81,$B$65:$G$77,6,0)+VLOOKUP($F81,$J$65:$N$77,5,0) -> 1311 | T81: 5 | U81: Stevenage & North Herts AC | Y81: =VLOOKUP($U81,$Q$65:$V$75,5,0)+VLOOKUP($U81,$Y$65:$AC$75,4,0) -> 18 | Z81: =VLOOKUP($U81,$Q$65:$V$75,6,0)+VLOOKUP($U81,$Y$65:$AC$75,5,0) -> 2197
E82: 4 | F82: Watford Joggers | J82: =VLOOKUP($F82,$B$65:$G$77,5,0)+VLOOKUP($F82,$J$65:$N$77,4,0) -> 17 | K82: =VLOOKUP($F82,$B$65:$G$77,6,0)+VLOOKUP($F82,$J$65:$N$77,5,0) -> 1509 | T82: 6 | U82: Broxbourne Runners | Y82: =VLOOKUP($U82,$Q$65:$V$75,5,0)+VLOOKUP($U82,$Y$65:$AC$75,4,0) -> 16 | Z82: =VLOOKUP($U82,$Q$65:$V$75,6,0)+VLOOKUP($U82,$Y$65:$AC$75,5,0) -> 2571
E83: 5 | F83: Bishop Stortford Running Club | J83: =VLOOKUP($F83,$B$65:$G$77,5,0)+VLOOKUP($F83,$J$65:$N$77,4,0) -> 12 | K83: =VLOOKUP($F83,$B$65:$G$77,6,0)+VLOOKUP($F83,$J$65:$N$77,5,0) -> 2140 | T83: 7 | U83: Harpenden Arrows | Y83: =VLOOKUP($U83,$Q$65:$V$75,5,0)+VLOOKUP($U83,$Y$65:$AC$75,4,0) -> 15 | Z83: =VLOOKUP($U83,$Q$65:$V$75,6,0)+VLOOKUP($U83,$Y$65:$AC$75,5,0) -> 2692
E84: 6 | F84: Stevenage Striders | J84: =VLOOKUP($F84,$B$65:$G$77,5,0)+VLOOKUP($F84,$J$65:$N$77,4,0) -> 9 | K84: =VLOOKUP($F84,$B$65:$G$77,6,0)+VLOOKUP($F84,$J$65:$N$77,5,0) -> 2613 | T84: 8 | U84: Freedom Tri | Y84: =VLOOKUP($U84,$Q$65:$V$75,5,0)+VLOOKUP($U84,$Y$65:$AC$75,4,0) -> 5 | Z84: =VLOOKUP($U84,$Q$65:$V$75,6,0)+VLOOKUP($U84,$Y$65:$AC$75,5,0) -> 4817
E85: 7 | F85: Harlow Run & Tri Club | J85: =VLOOKUP($F85,$B$65:$G$77,5,0)+VLOOKUP($F85,$J$65:$N$77,4,0) -> 5 | K85: =VLOOKUP($F85,$B$65:$G$77,6,0)+VLOOKUP($F85,$J$65:$N$77,5,0) -> 2963 | T85: 9 | U85: Herts Phoenix AC | Y85: =VLOOKUP($U85,$Q$65:$V$75,5,0)+VLOOKUP($U85,$Y$65:$AC$75,4,0) -> 4 | Z85: =VLOOKUP($U85,$Q$65:$V$75,6,0)+VLOOKUP($U85,$Y$65:$AC$75,5,0) -> 5045
A87: Pos | B87: VET MEN | F87: Points | G87: Score | I87: Pos | J87: VET WOMEN | M87: Points | N87: Score | P87: Pos | Q87: VET MEN | U87: Points | V87: Score | X87: Pos | Y87: VET WOMEN | AB87: Points | AC87: Score
A88: 1 | B88: Ware Joggers | F88: =VLOOKUP($B88,$B$30:$G$51,5,0)+VLOOKUP($B88,$AM$32:$AR$72,5,0) -> 14 | G88: =VLOOKUP($B88,$B$30:$G$51,6,0)+VLOOKUP($B88,$AM$32:$AR$72,6,0) -> 110 | I88: 1 | J88: Royston Runners | M88: =VLOOKUP($J88,$J$30:$N$51,4,0)+VLOOKUP($J88,$AU$32:$AY$72,4,0) -> 13 | N88: =VLOOKUP($J88,$J$30:$N$51,5,0)+VLOOKUP($J88,$AU$32:$AY$72,5,0) -> 69 | P88: 1 | Q88: Barnet & District AC | U88: =VLOOKUP($Q88,$Q$28:$V$49,5,0)+VLOOKUP($Q88,$BB$31:$BG$54,5,0) -> 18 | V88: =VLOOKUP($Q88,$Q$28:$V$49,6,0)+VLOOKUP($Q88,$BB$31:$BG$54,6,0) -> 128 | X88: 1 | Y88: Edmonton Running Club | AB88: =VLOOKUP($Y88,$Y$28:$AC$49,4,0)+VLOOKUP($Y88,$BJ$31:$BN$54,4,0) -> 18 | AC88: =VLOOKUP($Y88,$Y$28:$AC$49,5,0)+VLOOKUP($Y88,$BJ$31:$BN$54,5,0) -> 59
A89: 2 | B89: Watford Joggers | F89: =VLOOKUP($B89,$B$30:$G$51,5,0)+VLOOKUP($B89,$AM$32:$AR$72,5,0) -> 12 | G89: =VLOOKUP($B89,$B$30:$G$51,6,0)+VLOOKUP($B89,$AM$32:$AR$72,6,0) -> 143 | I89: 2 | J89: Ware Joggers | M89: =VLOOKUP($J89,$J$30:$N$51,4,0)+VLOOKUP($J89,$AU$32:$AY$72,4,0) -> 11 | N89: =VLOOKUP($J89,$J$30:$N$51,5,0)+VLOOKUP($J89,$AU$32:$AY$72,5,0) -> 84 | P89: 2 | Q89: Enfield Chasers | U89: =VLOOKUP($Q89,$Q$28:$V$49,5,0)+VLOOKUP($Q89,$BB$31:$BG$54,5,0) -> 15 | V89: =VLOOKUP($Q89,$Q$28:$V$49,6,0)+VLOOKUP($Q89,$BB$31:$BG$54,6,0) -> 226 | X89: 2 | Y89: Enfield Chasers | AB89: =VLOOKUP($Y89,$Y$28:$AC$49,4,0)+VLOOKUP($Y89,$BJ$31:$BN$54,4,0) -> 16 | AC89: =VLOOKUP($Y89,$Y$28:$AC$49,5,0)+VLOOKUP($Y89,$BJ$31:$BN$54,5,0) -> 85
A90: 3 | B90: Fairlands Valley Spartans | F90: =VLOOKUP($B90,$B$30:$G$51,5,0)+VLOOKUP($B90,$AM$32:$AR$72,5,0) -> 10 | G90: =VLOOKUP($B90,$B$30:$G$51,6,0)+VLOOKUP($B90,$AM$32:$AR$72,6,0) -> 205 | I90: 3 | J90: Fairlands Valley Spartans | M90: =VLOOKUP($J90,$J$30:$N$51,4,0)+VLOOKUP($J90,$AU$32:$AY$72,4,0) -> 11 | N90: =VLOOKUP($J90,$J$30:$N$51,5,0)+VLOOKUP($J90,$AU$32:$AY$72,5,0) -> 89 | P90: 3 | Q90: Edmonton Running Club | U90: =VLOOKUP($Q90,$Q$28:$V$49,5,0)+VLOOKUP($Q90,$BB$31:$BG$54,5,0) -> 15 | V90: =VLOOKUP($Q90,$Q$28:$V$49,6,0)+VLOOKUP($Q90,$BB$31:$BG$54,6,0) -> 227 | X90: 3 | Y90: Hitchin Running Club | AB90: =VLOOKUP($Y90,$Y$28:$AC$49,4,0)+VLOOKUP($Y90,$BJ$31:$BN$54,4,0) -> 13 | AC90: =VLOOKUP($Y90,$Y$28:$AC$49,5,0)+VLOOKUP($Y90,$BJ$31:$BN$54,5,0) -> 102
A91: 4 | B91: Royston Runners | F91: =VLOOKUP($B91,$B$30:$G$51,5,0)+VLOOKUP($B91,$AM$32:$AR$72,5,0) -> 8 | G91: =VLOOKUP($B91,$B$30:$G$51,6,0)+VLOOKUP($B91,$AM$32:$AR$72,6,0) -> 289 | I91: 4 | J91: Bishop Stortford Running Club | M91: =VLOOKUP($J91,$J$30:$N$51,4,0)+VLOOKUP($J91,$AU$32:$AY$72,4,0) -> 7 | N91: =VLOOKUP($J91,$J$30:$N$51,5,0)+VLOOKUP($J91,$AU$32:$AY$72,5,0) -> 201 | P91: 4 | Q91: B&D 'B' | V91: =VLOOKUP($Q91,$Q$28:$V$49,6,0)+VLOOKUP($Q91,$BB$31:$BG$54,6,0) -> 287 | X91: 4 | Y91: Barnet & District AC | AB91: =VLOOKUP($Y91,$Y$28:$AC$49,4,0)+VLOOKUP($Y91,$BJ$31:$BN$54,4,0) -> 11 | AC91: =VLOOKUP($Y91,$Y$28:$AC$49,5,0)+VLOOKUP($Y91,$BJ$31:$BN$54,5,0) -> 118
A92: 5 | B92: WJ 'B' | G92: =VLOOKUP($B92,$B$30:$G$51,6,0)+VLOOKUP($B92,$AM$32:$AR$72,6,0) -> 306 | I92: 5 | J92: Watford Joggers | M92: =VLOOKUP($J92,$J$30:$N$51,4,0)+VLOOKUP($J92,$AU$32:$AY$72,4,0) -> 6 | N92: =VLOOKUP($J92,$J$30:$N$51,5,0)+VLOOKUP($J92,$AU$32:$AY$72,5,0) -> 167 | P92: 5 | Q92: Harpenden Arrows | U92: =VLOOKUP($Q92,$Q$28:$V$49,5,0)+VLOOKUP($Q92,$BB$31:$BG$54,5,0) -> 11 | V92: =VLOOKUP($Q92,$Q$28:$V$49,6,0)+VLOOKUP($Q92,$BB$31:$BG$54,6,0) -> 368 | X92: 5 | Y92: Harpenden Arrows | AB92: =VLOOKUP($Y92,$Y$28:$AC$49,4,0)+VLOOKUP($Y92,$BJ$31:$BN$54,4,0) -> 12 | AC92: =VLOOKUP($Y92,$Y$28:$AC$49,5,0)+VLOOKUP($Y92,$BJ$31:$BN$54,5,0) -> 155
A93: 6 | B93: WAT 'B' | G93: =VLOOKUP($B93,$B$30:$G$51,6,0)+VLOOKUP($B93,$AM$32:$AR$72,6,0) -> 318 | I93: 6 | J93: ROY 'B' | N93: =VLOOKUP($J93,$J$30:$N$51,5,0)+VLOOKUP($J93,$AU$32:$AY$72,5,0) -> 190 | P93: 6 | Q93: Hitchin Running Club | U93: =VLOOKUP($Q93,$Q$28:$V$49,5,0)+VLOOKUP($Q93,$BB$31:$BG$54,5,0) -> 10 | V93: =VLOOKUP($Q93,$Q$28:$V$49,6,0)+VLOOKUP($Q93,$BB$31:$BG$54,6,0) -> 414 | X93: 6 | Y93: EDM 'B' | AC93: =VLOOKUP($Y93,$Y$28:$AC$49,5,0)+VLOOKUP($Y93,$BJ$31:$BN$54,5,0) -> 194
A94: 7 | B94: Bishop Stortford Running Club | F94: =VLOOKUP($B94,$B$30:$G$51,5,0)+VLOOKUP($B94,$AM$32:$AR$72,5,0) -> 6 | G94: =VLOOKUP($B94,$B$30:$G$51,6,0)+VLOOKUP($B94,$AM$32:$AR$72,6,0) -> 387 | I94: 7 | J94: WJ 'B' | N94: =VLOOKUP($J94,$J$30:$N$51,5,0)+VLOOKUP($J94,$AU$32:$AY$72,5,0) -> 201 | P94: 7 | Q94: Stevenage & North Herts AC | U94: =VLOOKUP($Q94,$Q$28:$V$49,5,0)+VLOOKUP($Q94,$BB$31:$BG$54,5,0) -> 6 | V94: =VLOOKUP($Q94,$Q$28:$V$49,6,0)+VLOOKUP($Q94,$BB$31:$BG$54,6,0) -> 454 | X94: 7 | Y94: B&D 'B' | AC94: =VLOOKUP($Y94,$Y$28:$AC$49,5,0)+VLOOKUP($Y94,$BJ$31:$BN$54,5,0) -> 238
A95: 8 | B95: FVS 'B' | G95: =VLOOKUP($B95,$B$30:$G$51,6,0)+VLOOKUP($B95,$AM$32:$AR$72,6,0) -> 439 | I95: 8 | J95: FVS 'B' | N95: =VLOOKUP($J95,$J$30:$N$51,5,0)+VLOOKUP($J95,$AU$32:$AY$72,5,0) -> 221 | P95: 8 | Q95: EDM 'B' | V95: =VLOOKUP($Q95,$Q$28:$V$49,6,0)+VLOOKUP($Q95,$BB$31:$BG$54,6,0) -> 501 | X95: 8 | Y95: Broxbourne Runners | AB95: =VLOOKUP($Y95,$Y$28:$AC$49,4,0)+VLOOKUP($Y95,$BJ$31:$BN$54,4,0) -> 7 | AC95: =VLOOKUP($Y95,$Y$28:$AC$49,5,0)+VLOOKUP($Y95,$BJ$31:$BN$54,5,0) -> 256
A96: 9 | B96: Harlow Run & Tri Club | F96: =VLOOKUP($B96,$B$30:$G$51,5,0)+VLOOKUP($B96,$AM$32:$AR$72,5,0) -> 4 | G96: =VLOOKUP($B96,$B$30:$G$51,6,0)+VLOOKUP($B96,$AM$32:$AR$72,6,0) -> 517 | I96: 9 | J96: Stevenage Striders | M96: =VLOOKUP($J96,$J$30:$N$51,4,0)+VLOOKUP($J96,$AU$32:$AY$72,4,0) -> 4 | N96: =VLOOKUP($J96,$J$30:$N$51,5,0)+VLOOKUP($J96,$AU$32:$AY$72,5,0) -> 233 | P96: 9 | Q96: Broxbourne Runners | U96: =VLOOKUP($Q96,$Q$28:$V$49,5,0)+VLOOKUP($Q96,$BB$31:$BG$54,5,0) -> 6 | V96: =VLOOKUP($Q96,$Q$28:$V$49,6,0)+VLOOKUP($Q96,$BB$31:$BG$54,6,0) -> 510 | X96: 9 | Y96: Stevenage & North Herts AC | AB96: =VLOOKUP($Y96,$Y$28:$AC$49,4,0)+VLOOKUP($Y96,$BJ$31:$BN$54,4,0) -> 7 | AC96: =VLOOKUP($Y96,$Y$28:$AC$49,5,0)+VLOOKUP($Y96,$BJ$31:$BN$54,5,0) -> 286
A97: 10 | B97: ROY 'B' | G97: =VLOOKUP($B97,$B$30:$G$51,6,0)+VLOOKUP($B97,$AM$32:$AR$72,6,0) -> 523 | I97: 10 | J97: Harlow Run & Tri Club | M97: =VLOOKUP($J97,$J$30:$N$51,4,0)+VLOOKUP($J97,$AU$32:$AY$72,4,0) -> 4 | N97: =VLOOKUP($J97,$J$30:$N$51,5,0)+VLOOKUP($J97,$AU$32:$AY$72,5,0) -> 245 | P97: 10 | Q97: EC 'B' | V97: =VLOOKUP($Q97,$Q$28:$V$49,6,0)+VLOOKUP($Q97,$BB$31:$BG$54,6,0) -> 525 | X97: 10 | Y97: B&D 'C' | AC97: =VLOOKUP($Y97,$Y$28:$AC$49,5,0)+VLOOKUP($Y97,$BJ$31:$BN$54,5,0) -> 349
A98: 11 | B98: WAT 'C' | G98: =VLOOKUP($B98,$B$30:$G$51,6,0)+VLOOKUP($B98,$AM$32:$AR$72,6,0) -> 616 | I98: 11 | J98: WJ 'C' | N98: =VLOOKUP($J98,$J$30:$N$51,5,0)+VLOOKUP($J98,$AU$32:$AY$72,5,0) -> 361 | P98: 11 | Q98: B&D 'C' | V98: =VLOOKUP($Q98,$Q$28:$V$49,6,0)+VLOOKUP($Q98,$BB$31:$BG$54,6,0) -> 549 | X98: 11 | Y98: EDM 'C' | AC98: =VLOOKUP($Y98,$Y$28:$AC$49,5,0)+VLOOKUP($Y98,$BJ$31:$BN$54,5,0) -> 360
A99: 12 | B99: Stevenage Striders | F99: =VLOOKUP($B99,$B$30:$G$51,5,0)+VLOOKUP($B99,$AM$32:$AR$72,5,0) -> 2 | G99: =VLOOKUP($B99,$B$30:$G$51,6,0)+VLOOKUP($B99,$AM$32:$AR$72,6,0) -> 672 | I99: 12 | J99: FVS 'C' | N99: =VLOOKUP($J99,$J$30:$N$51,5,0)+VLOOKUP($J99,$AU$32:$AY$72,5,0) -> 394 | P99: 12 | Q99: Herts Phoenix AC | U99: =VLOOKUP($Q99,$Q$28:$V$49,5,0)+VLOOKUP($Q99,$BB$31:$BG$54,5,0) -> 3 | V99: =VLOOKUP($Q99,$Q$28:$V$49,6,0)+VLOOKUP($Q99,$BB$31:$BG$54,6,0) -> 879 | X99: 12 | Y99: Freedom Tri | AB99: =VLOOKUP($Y99,$Y$28:$AC$49,4,0)+VLOOKUP($Y99,$BJ$31:$BN$54,4,0) -> 0 | AC99: =VLOOKUP($Y99,$Y$28:$AC$49,5,0)+VLOOKUP($Y99,$BJ$31:$BN$54,5,0) -> 576
A100: 13 | B100: FVS 'C' | G100: =VLOOKUP($B100,$B$30:$G$51,6,0)+VLOOKUP($B100,$AM$32:$AR$72,6,0) -> 702 | I100: 13 | J100: WAT 'B' | N100: =VLOOKUP($J100,$J$30:$N$51,5,0)+VLOOKUP($J100,$AU$32:$AY$72,5,0) -> 396 | P100: 13 | Q100: Freedom Tri | U100: =VLOOKUP($Q100,$Q$28:$V$49,5,0)+VLOOKUP($Q100,$BB$31:$BG$54,5,0) -> 3 | V100: =VLOOKUP($Q100,$Q$28:$V$49,6,0)+VLOOKUP($Q100,$BB$31:$BG$54,6,0) -> 910 | X100: 12 | Y100: Herts Phoenix AC | AB100: =VLOOKUP($Y100,$Y$28:$AC$49,4,0)+VLOOKUP($Y100,$BJ$31:$BN$54,4,0) -> 0 | AC100: =VLOOKUP($Y100,$Y$28:$AC$49,5,0)+VLOOKUP($Y100,$BJ$31:$BN$54,5,0) -> 576
A101: 14 | B101: BSRC 'B' | G101: =VLOOKUP($B101,$B$30:$G$51,6,0)+VLOOKUP($B101,$AM$32:$AR$72,6,0) -> 757 | I101: 14 | J101: BSRC 'B' | N101: =VLOOKUP($J101,$J$30:$N$51,5,0)+VLOOKUP($J101,$AU$32:$AY$72,5,0) -> 408
A102: 15 | B102: WJ 'C' | G102: =VLOOKUP($B102,$B$30:$G$51,6,0)+VLOOKUP($B102,$AM$32:$AR$72,6,0) -> 802 | I102: 15 | J102: ROY 'C' | N102: =VLOOKUP($J102,$J$30:$N$51,5,0)+VLOOKUP($J102,$AU$32:$AY$72,5,0) -> 455
...

Sheet Women
A1: 2025 MID WEEK LEAGUE sponsored by | P1: OPEN | X1: VETS | AG1: OPEN | AQ1: VETS
M2: BSRC | N2: FVS | O2: HRTC | P2: ROY | Q2: SS | R2: WAT | S2: WJ | U2: BSRC | V2: FVS | W2: HRTC | X2: ROY | Y2: SS | Z2: WAT | AA2: WJ | AC2: B&D | AD2: BRX | AE2: EC | AF2: EDM | AG2: FRE | AH2: HPX | AI2: HRC | AJ2: HRP | AK2: SNH | AM2: B&D | AN2: BRX | AO2: EC | AP2: EDM | AQ2: FRE | AR2: HPX | AS2: HRC | AT2: HRP | AU2: SNH
A3: =Team!A2 -> RACE 2 - Watford 10k - Wednesday 4th June 2025 | M3: =SUM(SMALL(M$5:M$197,{1,2,3,4,5,6,7,8})) -> 295 | N3: =SUM(SMALL(N$5:N$197,{1,2,3,4,5,6,7,8})) -> 285 | O3: =SUM(SMALL(O$5:O$197,{1,2,3,4,5,6,7,8})) -> 400 | P3: =SUM(SMALL(P$5:P$197,{1,2,3,4,5,6,7,8})) -> 88 | Q3: =SUM(SMALL(Q$5:Q$197,{1,2,3,4,5,6,7,8})) -> 308 | R3: =SUM(SMALL(R$5:R$197,{1,2,3,4,5,6,7,8})) -> 309 | S3: =SUM(SMALL(S$5:S$197,{1,2,3,4,5,6,7,8})) -> 180 | U3: =SUM(SMALL(U$5:U$197,{1,2,3,4})) -> 50 | V3: =SUM(SMALL(V$5:V$197,{1,2,3,4})) -> 62 | W3: =SUM(SMALL(W$5:W$197,{1,2,3,4})) -> 112 | X3: =SUM(SMALL(X$5:X$197,{1,2,3,4})) -> 36 | Y3: =SUM(SMALL(Y$5:Y$197,{1,2,3,4})) -> 73 | Z3: =SUM(SMALL(Z$5:Z$197,{1,2,3,4})) -> 79 | AA3: =SUM(SMALL(AA$5:AA$197,{1,2,3,4})) -> 45 | AC3: =SUM(SMALL(AC$5:AC$197,{1,2,3,4,5,6,7,8})) -> 175 | AD3: =SUM(SMALL(AD$5:AD$197,{1,2,3,4,5,6,7,8})) -> 339 | AE3: =SUM(SMALL(AE$5:AE$197,{1,2,3,4,5,6,7,8})) -> 181 | AF3: =SUM(SMALL(AF$5:AF$197,{1,2,3,4,5,6,7,8})) -> 171 | AG3: =SUM(SMALL(AG$5:AG$197,{1,2,3,4,5,6,7,8})) -> 648 | AH3: =SUM(SMALL(AH$5:AH$197,{1,2,3,4,5,6,7,8})) -> 648 | AI3: =SUM(SMALL(AI$5:AI$197,{1,2,3,4,5,6,7,8})) -> 169 | AJ3: =SUM(SMALL(AJ$5:AJ$197,{1,2,3,4,5,6,7,8})) -> 287 | AK3: =SUM(SMALL(AK$5:AK$197,{1,2,3,4,5,6,7,8})) -> 478 | AM3: =SUM(SMALL(AM$5:AM$197,{1,2,3,4})) -> 60 | AN3: =SUM(SMALL(AN$5:AN$197,{1,2,3,4})) -> 143 | AO3: =SUM(SMALL(AO$5:AO$197,{1,2,3,4})) -> 44 | AP3: =SUM(SMALL(AP$5:AP$197,{1,2,3,4})) -> 28 | AQ3: =SUM(SMALL(AQ$5:AQ$197,{1,2,3,4})) -> 288 | AR3: =SUM(SMALL(AR$5:AR$197,{1,2,3,4})) -> 288 | AS3: =SUM(SMALL(AS$5:AS$197,{1,2,3,4})) -> 55 | AT3: =SUM(SMALL(AT$5:AT$197,{1,2,3,4})) -> 48 | AU3: =SUM(SMALL(AU$5:AU$197,{1,2,3,4})) -> 178
A4: Race | B4: M/F | C4: Cat | D4: Vet | E4: No. | F4: Time | G4: Name | H4: Surname | I4: Cat. | J4: Club | K4: Div | L4: M/F | M4: =COUNT(SMALL(M$5:M$197,{1,2,3,4,5,6,7,8})) -> 8 | N4: =COUNT(SMALL(N$5:N$197,{1,2,3,4,5,6,7,8})) -> 8 | O4: =COUNT(SMALL(O$5:O$197,{1,2,3,4,5,6,7,8})) -> 8 | P4: =COUNT(SMALL(P$5:P$197,{1,2,3,4,5,6,7,8})) -> 8 | Q4: =COUNT(SMALL(Q$5:Q$197,{1,2,3,4,5,6,7,8})) -> 8 | R4: =COUNT(SMALL(R$5:R$197,{1,2,3,4,5,6,7,8})) -> 8 | S4: =COUNT(SMALL(S$5:S$197,{1,2,3,4,5,6,7,8})) -> 8 | U4: =COUNT(SMALL(U$5:U$197,{1,2,3,4})) -> 4 | V4: =COUNT(SMALL(V$5:V$197,{1,2,3,4})) -> 4 | W4: =COUNT(SMALL(W$5:W$197,{1,2,3,4})) -> 4 | X4: =COUNT(SMALL(X$5:X$197,{1,2,3,4})) -> 4 | Y4: =COUNT(SMALL(Y$5:Y$197,{1,2,3,4})) -> 4 | Z4: =COUNT(SMALL(Z$5:Z$197,{1,2,3,4})) -> 4 | AA4: =COUNT(SMALL(AA$5:AA$197,{1,2,3,4})) -> 4 | AC4: =COUNT(SMALL(AC$5:AC$197,{1,2,3,4,5,6,7,8})) -> 8 | AD4: =COUNT(SMALL(AD$5:AD$197,{1,2,3,4,5,6,7,8})) -> 8 | AE4: =COUNT(SMALL(AE$5:AE$197,{1,2,3,4,5,6,7,8})) -> 8 | AF4: =COUNT(SMALL(AF$5:AF$197,{1,2,3,4,5,6,7,8})) -> 8 | AG4: =COUNT(SMALL(AG$5:AG$197,{1,2,3,4,5,6,7,8})) -> 8 | AH4: =COUNT(SMALL(AH$5:AH$197,{1,2,3,4,5,6,7,8})) -> 8 | AI4: =COUNT(SMALL(AI$5:AI$197,{1,2,3,4,5,6,7,8})) -> 8 | AJ4: =COUNT(SMALL(AJ$5:AJ$197,{1,2,3,4,5,6,7,8})) -> 8 | AK4: =COUNT(SMALL(AK$5:AK$197,{1,2,3,4,5,6,7,8})) -> 8 | AM4: =COUNT(SMALL(AM$5:AM$197,{1,2,3,4})) -> 4 | AN4: =COUNT(SMALL(AN$5:AN$197,{1,2,3,4})) -> 4 | AO4: =COUNT(SMALL(AO$5:AO$197,{1,2,3,4})) -> 4 | AP4: =COUNT(SMALL(AP$5:AP$197,{1,2,3,4})) -> 4 | AQ4: =COUNT(SMALL(AQ$5:AQ$197,{1,2,3,4})) -> 4 | AR4: =COUNT(SMALL(AR$5:AR$197,{1,2,3,4})) -> 4 | AS4: =COUNT(SMALL(AS$5:AS$197,{1,2,3,4})) -> 4 | AT4: =COUNT(SMALL(AT$5:AT$197,{1,2,3,4})) -> 4 | AU4: =COUNT(SMALL(AU$5:AU$197,{1,2,3,4})) -> 4
A5: 49 | B5: 1 | E5: 936 | F5: 0.027048611 | G5: Lucy | H5: Barnes | I5: S | J5: WJ | K5: 2 | L5: F | S5: =$B5 -> 1
A6: 77 | B6: 2 | C6: 1 | D6: 1 | E6: 981 | F6: 0.028287037 | G6: Helen | H6: Mussen | I6: V 45 | J6: WAT | K6: 2 | L6: F | R6: =$B6 -> 2 | Z6: =$D6 -> 1
A7: 94 | B7: 3 | E7: 1003 | F7: 0.028819444 | G7: Fliss | H7: Tournant | I7: S | J7: WAT | K7: 2 | L7: F | R7: =$B7 -> 3
A8: 98 | B8: 4 | E8: 1163 | F8: 0.029097222 | G8: Zoe | H8: Hewitson | I8: S | J8: ROY | K8: 2 | L8: F | P8: =$B8 -> 4
A9: 105 | B9: 5 | E9: 1166 | F9: 0.029421296 | G9: Sydney | H9: Barfield | I9: S | J9: ROY | K9: 2 | L9: F | P9: =$B9 -> 5
A10: 124 | B10: 1 | C10: 1 | D10: 1 | E10: 1727 | F10: 0.029988426 | G10: Caroline | H10: Jaggard | I10: V 45 | J10: HRP | K10: 3 | L10: F | AJ10: =$B10 -> 1 | AT10: =$D10 -> 1
A11: 127 | B11: 2 | E11: 1610 | F11: 0.030011574 | G11: Hannah | H11: Sheridan | I11: S | J11: B&D | K11: 3 | L11: F | AC11: =$B11 -> 2
A12: 131 | B12: 3 | E12: 1800 | F12: 0.030208333 | G12: Maddy | H12: Henderson | I12: S | J12: BRX | K12: 3 | L12: F | AD12: =$B12 -> 3
A13: 134 | B13: 6 | C13: 1 | D13: 2 | E13: 1200 | F13: 0.030347222 | G13: Kayleigh | H13: Williams | I13: V 35 | J13: ROY | K13: 2 | L13: F | P13: =$B13 -> 6 | X13: =$D13 -> 2
A14: 152 | B14: 7 | E14: 1165 | F14: 0.031122685 | G14: Robyn | H14: Barfield | I14: S | J14: ROY | K14: 2 | L14: F | P14: =$B14 -> 7
A15: 167 | B15: 4 | C15: 2 | D15: 2 | E15: 1915 | F15: 0.031655093 | G15: Rachel | H15: Dervish | I15: V 45 | J15: EC | K15: 3 | L15: F | AE15: =$B15 -> 4 | AO15: =$D15 -> 2
A16: 172 | B16: 8 | E16: 1434 | F16: 0.031886574 | G16: Ella | H16: Wager | I16: S | J16: HRTC | K16: 2 | L16: F | O16: =$B16 -> 8
A17: 174 | B17: 5 | E17: 2032 | F17: 0.031921296 | G17: Sophie | H17: Adams | I17: S | J17: HRC | K17: 3 | L17: F | AI17: =$B17 -> 5
A18: 176 | B18: 9 | C18: 2 | D18: 3 | E18: 1328 | F18: 0.031956019 | G18: Sophie | H18: Barc | I18: V 45 | J18: BSRC | K18: 2 | L18: F | M18: =$B18 -> 9 | U18: =$D18 -> 3
A19: 179 | B19: 10 | C19: 3 | D19: 4 | E19: 1368 | F19: 0.032002315 | G19: Joanna | H19: Jurd | I19: V 45 | J19: BSRC | K19: 2 | L19: F | M19: =$B19 -> 10 | U19: =$D19 -> 4
A20: 187 | B20: 6 | C20: 3 | D20: 3 | E20: 1786 | F20: 0.032349537 | G20: Marilyn | H20: Martin | I20: V 45 | J20: EDM | K20: 3 | L20: F | AF20: =$B20 -> 6 | AP20: =$D20 -> 3
A21: 188 | B21: 7 | C21: 1 | D21: 4 | E21: 1761 | F21: 0.032395833 | G21: Katie | H21: Moey | I21: V 35 | J21: EDM | K21: 3 | L21: F | AF21: =$B21 -> 7 | AP21: =$D21 -> 4
A22: 193 | B22: 8 | C22: 2 | D22: 5 | E22: 1611 | F22: 0.032627315 | G22: Jennifer | H22: Johns | I22: V 35 | J22: B&D | K22: 3 | L22: F | AC22: =$B22 -> 8 | AM22: =$D22 -> 5
A23: 196 | B23: 11 | E23: 1227 | F23: 0.032777778 | G23: Zoe | H23: Robinson | I23: S | J23: ROY | K23: 2 | L23: F | P23: =$B23 -> 11
A24: 198 | B24: 12 | C24: 2 | D24: 5 | E24: 1121 | F24: 0.032824074 | G24: Olivia | H24: Lacigova | I24: V 35 | J24: FVS | K24: 2 | L24: F | N24: =$B24 -> 12 | V24: =$D24 -> 5
A25: 199 | B25: 9 | C25: 3 | D25: 6 | E25: 1859 | F25: 0.032858796 | G25: Jasmine | H25: Forde | I25: V 35 | J25: SNH | K25: 3 | L25: F | AK25: =$B25 -> 9 | AU25: =$D25 -> 6
A26: 204 | B26: 13 | C26: 3 | D26: 6 | E26: 1487 | F26: 0.03306713 | G26: Lina | H26: Tzompova | I26: V 35 | J26: SS | K26: 2 | L26: F | Q26: =$B26 -> 13 | Y26: =$D26 -> 6
A27: 207 | B27: 14 | E27: 1488 | F27: 0.033136574 | G27: Storm | H27: Moore | I27: S | J27: SS | K27: 2 | L27: F | Q27: =$B27 -> 14
A28: 210 | B28: 15 | C28: 1 | D28: 7 | E28: 863 | F28: 0.033298611 | G28: Cate | H28: Campany | I28: V 55 | J28: WJ | K28: 2 | L28: F | S28: =$B28 -> 15 | AA28: =$D28 -> 7
A29: 216 | B29: 10 | C29: 4 | D29: 7 | E29: 1677 | F29: 0.033368056 | G29: Lucy | H29: Carey | I29: V 35 | J29: HRC | K29: 3 | L29: F | AI29: =$B29 -> 10 | AS29: =$D29 -> 7
A30: 217 | B30: 16 | E30: 1164 | F30: 0.0334375 | G30: Romy | H30: Barfield | I30: S | J30: ROY | K30: 2 | L30: F | P30: =$B30 -> 16
A31: 221 | B31: 11 | C31: 5 | D31: 8 | E31: 1925 | F31: 0.033518519 | G31: Lucy | H31: Humphreys | I31: V 35 | J31: EC | K31: 3 | L31: F | AE31: =$B31 -> 11 | AO31: =$D31 -> 8
A32: 224 | B32: 17 | C32: 2 | D32: 8 | E32: 1441 | F32: 0.033541667 | G32: Sandra | H32: Rust | I32: V 55 | J32: HRTC | K32: 2 | L32: F | O32: =$B32 -> 17 | W32: =$D32 -> 8
A33: 227 | B33: 12 | E33: 1691 | F33: 0.033703704 | G33: Ellie | H33: Pond | I33: S | J33: HRC | K33: 3 | L33: F | AI33: =$B33 -> 12
A34: 232 | B34: 18 | C34: 3 | D34: 9 | E34: 897 | F34: 0.033819444 | G34: Lucy | H34: Dupuis | I34: V 55 | J34: WJ | K34: 2 | L34: F | S34: =$B34 -> 18 | AA34: =$D34 -> 9
A35: 234 | B35: 19 | C35: 4 | D35: 10 | E35: 1228 | F35: 0.033842593 | G35: Carla | H35: Kay | I35: V 35 | J35: ROY | K35: 2 | L35: F | P35: =$B35 -> 19 | X35: =$D35 -> 10
A36: 235 | B36: 13 | E36: 1613 | F36: 0.033877315 | G36: Stephanie | H36: Harrison | I36: S | J36: B&D | K36: 3 | L36: F | AC36: =$B36 -> 13
A37: 237 | B37: 20 | C37: 4 | D37: 11 | E37: 1167 | F37: 0.033958333 | G37: Zoe | H37: Taylor | I37: V 45 | J37: ROY | K37: 2 | L37: F | P37: =$B37 -> 20 | X37: =$D37 -> 11
A38: 240 | B38: 21 | C38: 5 | D38: 12 | E38: 1079 | F38: 0.034074074 | G38: Marie | H38: Colucci | I38: V 45 | J38: FVS | K38: 2 | L38: F | N38: =$B38 -> 21 | V38: =$D38 -> 12
A39: 245 | B39: 14 | C39: 4 | D39: 9 | E39: 1719 | F39: 0.034201389 | G39: Aisling | H39: Patterson | I39: V 45 | J39: HRP | K39: 3 | L39: F | AJ39: =$B39 -> 14 | AT39: =$D39 -> 9
A40: 247 | B40: 15 | C40: 5 | D40: 10 | E40: 1758 | F40: 0.034351852 | G40: Loretta | H40: Blundell | I40: V 45 | J40: EDM | K40: 3 | L40: F | AF40: =$B40 -> 15 | AP40: =$D40 -> 10
A41: 248 | B41: 22 | C41: 6 | D41: 13 | E41: 1208 | F41: 0.034375 | G41: Louise | H41: Burr | I41: V 45 | J41: ROY | K41: 2 | L41: F | P41: =$B41 -> 22 | X41: =$D41 -> 13
A42: 250 | B42: 16 | C42: 4 | D42: 11 | E42: 1762 | F42: 0.034386574 | G42: Rita | H42: Moran | I42: V 55 | J42: EDM | K42: 3 | L42: F | AF42: =$B42 -> 16 | AP42: =$D42 -> 11
A43: 252 | B43: 17 | C43: 5 | D43: 12 | E43: 1760 | F43: 0.034409722 | G43: Jan | H43: Hazirci | I43: V 55 | J43: EDM | K43: 3 | L43: F | AF43: =$B43 -> 17 | AP43: =$D43 -> 12
A44: 263 | B44: 18 | E44: 1960 | F44: 0.034652778 | G44: Bethan | H44: Jones | I44: S | J44: EC | K44: 3 | L44: F | AE44: =$B44 -> 18
A45: 264 | B45: 19 | C45: 6 | D45: 13 | E45: 1936 | F45: 0.034664352 | G45: Fiona | H45: Hathaway | I45: V 45 | J45: EC | K45: 3 | L45: F | AE45: =$B45 -> 19 | AO45: =$D45 -> 13
A46: 266 | B46: 20 | C46: 7 | D46: 14 | E46: 1567 | F46: 0.0346875 | G46: Chloe | H46: Marshall | I46: V 45 | J46: B&D | K46: 3 | L46: F | AC46: =$B46 -> 20 | AM46: =$D46 -> 14
A47: 269 | B47: 23 | C47: 7 | D47: 14 | E47: 861 | F47: 0.034756944 | G47: Anthea | H47: Francis | I47: V 45 | J47: WJ | K47: 2 | L47: F | S47: =$B47 -> 23 | AA47: =$D47 -> 14
A48: 274 | B48: 24 | C48: 5 | D48: 15 | E48: 937 | F48: 0.034953704 | G48: Jemina | H48: Punni | I48: V 35 | J48: WJ | K48: 2 | L48: F | S48: =$B48 -> 24 | AA48: =$D48 -> 15
A49: 275 | B49: 25 | C49: 4 | D49: 16 | E49: 1194 | F49: 0.034988426 | G49: Isabel | H49: Marriage | I49: V 55 | J49: ROY | K49: 2 | L49: F | P49: =$B49 -> 25 | X49: =$D49 -> 16
A50: 278 | B50: 21 | C50: 6 | D50: 15 | E50: 2045 | F50: 0.035081019 | G50: Gemma | H50: Ward | I50: V 35 | J50: HRC | K50: 3 | L50: F | AI50: =$B50 -> 21 | AS50: =$D50 -> 15
A51: 279 | B51: 22 | C51: 7 | D51: 16 | E51: 1688 | F51: 0.035092593 | G51: Halina | H51: Wojslaw-Cyprowska | I51: V 35 | J51: HRC | K51: 3 | L51: F | AI51: =$B51 -> 22 | AS51: =$D51 -> 16
A52: 286 | B52: 23 | E52: 1913 | F52: 0.035231481 | G52: Caoímhe | H52: Agnew | I52: S | J52: EC | K52: 3 | L52: F | AE52: =$B52 -> 23
A53: 287 | B53: 26 | C53: 5 | D53: 17 | E53: 908 | F53: 0.03525463 | G53: Michelle | H53: Cross | I53: V 55 | J53: WJ | K53: 2 | L53: F | S53: =$B53 -> 26 | AA53: =$D53 -> 17
A54: 291 | B54: 27 | E54: 1471 | F54: 0.035636574 | G54: Remy | H54: Knowles | I54: S | J54: SS | K54: 2 | L54: F | Q54: =$B54 -> 27
A55: 293 | B55: 28 | C55: 6 | D55: 18 | E55: 1126 | F55: 0.035659722 | G55: Georgie | H55: Hooper | I55: V 35 | J55: FVS | K55: 2 | L55: F | N55: =$B55 -> 28 | V55: =$D55 -> 18
A56: 299 | B56: 29 | C56: 6 | D56: 19 | E56: 1040 | F56: 0.03587963 | G56: Christine | H56: White | I56: V 55 | J56: WAT | K56: 2 | L56: F | R56: =$B56 -> 29 | Z56: =$D56 -> 19
A57: 301 | B57: 24 | C57: 8 | D57: 17 | E57: 2031 | F57: 0.035983796 | G57: Siobhan | H57: Palmer | I57: V 35 | J57: HRC | K57: 3 | L57: F | AI57: =$B57 -> 24 | AS57: =$D57 -> 17
A58: 304 | B58: 30 | C58: 7 | D58: 20 | E58: 1229 | F58: 0.036030093 | G58: Felicity | H58: Millns | I58: V 35 | J58: ROY | K58: 2 | L58: F | P58: =$B58 -> 30 | X58: =$D58 -> 20
A59: 305 | B59: 31 | C59: 8 | D59: 21 | E59: 1351 | F59: 0.036157407 | G59: Serena | H59: Beresford | I59: V 45 | J59: BSRC | K59: 2 | L59: F | M59: =$B59 -> 31 | U59: =$D59 -> 21
A60: 306 | B60: 32 | C60: 8 | D60: 22 | E60: 1322 | F60: 0.03619213 | G60: Jennifer | H60: Burke | I60: V 35 | J60: BSRC | K60: 2 | L60: F | M60: =$B60 -> 32 | U60: =$D60 -> 22
A61: 308 | B61: 25 | C61: 1 | D61: 18 | E61: 1722 | F61: 0.036261574 | G61: Janie | H61: Morris | I61: V 65 | J61: HRP | K61: 3 | L61: F | AJ61: =$B61 -> 25 | AT61: =$D61 -> 18
A62: 309 | B62: 33 | C62: 9 | D62: 23 | E62: 1044 | F62: 0.036296296 | G62: kate | H62: blackwell | I62: V 45 | J62: WAT | K62: 2 | L62: F | R62: =$B62 -> 33 | Z62: =$D62 -> 23
A63: 312 | B63: 34 | C63: 9 | D63: 24 | E63: 1160 | F63: 0.036400463 | G63: Natalie | H63: Moat | I63: V 35 | J63: ROY | K63: 2 | L63: F | P63: =$B63 -> 34 | X63: =$D63 -> 24
A64: 314 | B64: 26 | E64: 1879 | F64: 0.036493056 | G64: Rebecca | H64: Pickard | I64: S | J64: SNH | K64: 3 | L64: F | AK64: =$B64 -> 26
A65: 315 | B65: 35 | C65: 10 | D65: 25 | E65: 1436 | F65: 0.036516204 | G65: Michelle | H65: Hyde | I65: V 35 | J65: HRTC | K65: 2 | L65: F | O65: =$B65 -> 35 | W65: =$D65 -> 25
A66: 316 | B66: 27 | C66: 9 | D66: 19 | E66: 1550 | F66: 0.0365625 | G66: Agnes | H66: Jacobs | I66: V 35 | J66: B&D | K66: 3 | L66: F | AC66: =$B66 -> 27 | AM66: =$D66 -> 19
A67: 318 | B67: 28 | C67: 1 | E67: 2036 | F67: 0.036736111 | G67: Taylor | H67: Morris-Jones | I67: U 20 | J67: HRC | K67: 3 | L67: F | AI67: =$B67 -> 28
A68: 321 | B68: 36 | C68: 10 | D68: 26 | E68: 896 | F68: 0.036863426 | G68: Louise | H68: Oliver | I68: V 45 | J68: WJ | K68: 2 | L68: F | S68: =$B68 -> 36 | AA68: =$D68 -> 26
A69: 322 | B69: 37 | E69: 874 | F69: 0.036863426 | G69: Harriet | H69: Cruickshank | I69: S | J69: WJ | K69: 2 | L69: F | S69: =$B69 -> 37
A70: 323 | B70: 38 | C70: 11 | D70: 27 | E70: 1141 | F70: 0.036956019 | G70: Jo | H70: Cooksley | I70: V 35 | J70: FVS | K70: 2 | L70: F | N70: =$B70 -> 38 | V70: =$D70 -> 27
A71: 326 | B71: 29 | C71: 8 | D71: 20 | E71: 1724 | F71: 0.037013889 | G71: Isabel | H71: Green | I71: V 45 | J71: HRP | K71: 3 | L71: F | AJ71: =$B71 -> 29 | AT71: =$D71 -> 20
A72: 327 | B72: 30 | C72: 9 | D72: 21 | E72: 1910 | F72: 0.037060185 | G72: Lesley | H72: Anson | I72: V 45 | J72: EC | K72: 3 | L72: F | AE72: =$B72 -> 30 | AO72: =$D72 -> 21
A73: 328 | B73: 31 | C73: 10 | D73: 22 | E73: 1564 | F73: 0.037094907 | G73: Kathy | H73: Dominy | I73: V 35 | J73: B&D | K73: 3 | L73: F | AC73: =$B73 -> 31 | AM73: =$D73 -> 22
A74: 331 | B74: 32 | C74: 10 | D74: 23 | E74: 1790 | F74: 0.037141204 | G74: Hannah | H74: Kelly | I74: V 45 | J74: EDM | K74: 3 | L74: F | AF74: =$B74 -> 32 | AP74: =$D74 -> 23
A75: 335 | B75: 39 | C75: 11 | D75: 28 | E75: 905 | F75: 0.037303241 | G75: Melanie | H75: Blackaby | I75: V 45 | J75: WJ | K75: 2 | L75: F | S75: =$B75 -> 39 | AA75: =$D75 -> 28
A76: 338 | B76: 40 | C76: 12 | D76: 29 | E76: 1536 | F76: 0.037476852 | G76: Chrissie | H76: Thomas | I76: V 35 | J76: SS | K76: 2 | L76: F | Q76: =$B76 -> 40 | Y76: =$D76 -> 29
A77: 340 | B77: 33 | E77: 1819 | F77: 0.037511574 | G77: Yoana | H77: Rachovska | I77: S | J77: BRX | K77: 3 | L77: F | AD77: =$B77 -> 33
A78: 341 | B78: 41 | C78: 12 | D78: 30 | E78: 1216 | F78: 0.037569444 | G78: Carolyn | H78: Reid | I78: V 45 | J78: ROY | K78: 2 | L78: F | P78: =$B78 -> 41 | X78: =$D78 -> 30
A79: 344 | B79: 34 | C79: 11 | D79: 24 | E79: 1548 | F79: 0.037673611 | G79: Sian | H79: Stanton | I79: V 35 | J79: B&D | K79: 3 | L79: F | AC79: =$B79 -> 34 | AM79: =$D79 -> 24
A80: 345 | B80: 35 | C80: 12 | D80: 25 | E80: 1821 | F80: 0.037743056 | G80: Becky | H80: Last | I80: V 35 | J80: BRX | K80: 3 | L80: F | AD80: =$B80 -> 35 | AN80: =$D80 -> 25
A81: 346 | B81: 42 | E81: 1534 | F81: 0.0378125 | G81: Gemma | H81: O'Donnell | I81: S | J81: SS | K81: 2 | L81: F | Q81: =$B81 -> 42
A82: 353 | B82: 43 | C82: 7 | D82: 31 | E82: 1319 | F82: 0.038125 | G82: Michelle | H82: Bignall | I82: V 55 | J82: BSRC | K82: 2 | L82: F | M82: =$B82 -> 43 | U82: =$D82 -> 31
A83: 354 | B83: 44 | E83: 1060 | F83: 0.038206019 | G83: Megan | H83: Sutton | I83: S | J83: FVS | K83: 2 | L83: F | N83: =$B83 -> 44
A84: 355 | B84: 45 | C84: 13 | D84: 32 | E84: 1309 | F84: 0.038240741 | G84: Frances | H84: Iwaschkin | I84: V 35 | J84: BSRC | K84: 2 | L84: F | M84: =$B84 -> 45 | U84: =$D84 -> 32
A85: 356 | B85: 46 | E85: 1111 | F85: 0.038263889 | G85: Jessica | H85: Clarke | I85: S | J85: FVS | K85: 2 | L85: F | N85: =$B85 -> 46
A86: 359 | B86: 47 | C86: 13 | D86: 33 | E86: 1144 | F86: 0.038298611 | G86: Hazel | H86: Smith | I86: V 45 | J86: FVS | K86: 2 | L86: F | N86: =$B86 -> 47 | V86: =$D86 -> 33
A87: 362 | B87: 48 | E87: 1463 | F87: 0.038425926 | G87: Kate | H87: Towsey | I87: S | J87: SS | K87: 2 | L87: F | Q87: =$B87 -> 48
A88: 364 | B88: 49 | E88: 1129 | F88: 0.038541667 | G88: Sophie | H88: Parsons | I88: S | J88: FVS | K88: 2 | L88: F | N88: =$B88 -> 49
A89: 366 | B89: 36 | C89: 6 | D89: 26 | E89: 1794 | F89: 0.038576389 | G89: Aggie | H89: Minas | I89: V 55 | J89: EDM | K89: 3 | L89: F | AF89: =$B89 -> 36 | AP89: =$D89 -> 26
A90: 369 | B90: 50 | C90: 8 | D90: 34 | E90: 1128 | F90: 0.038680556 | G90: Jayne | H90: Riddell | I90: V 55 | J90: FVS | K90: 2 | L90: F | N90: =$B90 -> 50 | V90: =$D90 -> 34
A91: 371 | B91: 51 | C91: 1 | D91: 35 | E91: 921 | F91: 0.038715278 | G91: Teresa | H91: Weedon | I91: V 65 | J91: WJ | K91: 2 | L91: F | S91: =$B91 -> 51 | AA91: =$D91 -> 35
A92: 372 | B92: 52 | C92: 14 | D92: 36 | E92: 1018 | F92: 0.038726852 | G92: Sophie | H92: Pearcy | I92: V 45 | J92: WAT | K92: 2 | L92: F | R92: =$B92 -> 52 | Z92: =$D92 -> 36
A93: 373 | B93: 37 | C93: 7 | D93: 27 | E93: 1907 | F93: 0.03875 | G93: Lynn | H93: Jones | I93: V 55 | J93: EC | K93: 3 | L93: F | AE93: =$B93 -> 37 | AO93: =$D93 -> 27
A94: 374 | B94: 53 | C94: 14 | D94: 37 | E94: 1442 | F94: 0.038761574 | G94: Veronica | H94: Carrasco Espana* | I94: V 35 | J94: HRTC | K94: 2 | L94: F | O94: =$B94 -> 53 | W94: =$D94 -> 37
A95: 375 | B95: 54 | C95: 15 | D95: 38 | E95: 1489 | F95: 0.038773148 | G95: julie | H95: vooght | I95: V 35 | J95: SS | K95: 2 | L95: F | Q95: =$B95 -> 54 | Y95: =$D95 -> 38
A96: 377 | B96: 55 | C96: 15 | D96: 39 | E96: 1119 | F96: 0.038796296 | G96: Elodie | H96: Moakes | I96: V 45 | J96: FVS | K96: 2 | L96: F | N96: =$B96 -> 55 | V96: =$D96 -> 39
A97: 378 | B97: 38 | C97: 11 | D97: 28 | E97: 1873 | F97: 0.03880787 | G97: Katka | H97: Laughton | I97: V 45 | J97: SNH | K97: 3 | L97: F | AK97: =$B97 -> 38 | AU97: =$D97 -> 28
A98: 381 | B98: 56 | C98: 16 | D98: 40 | E98: 919 | F98: 0.038946759 | G98: Sue | H98: Taylor | I98: V 45 | J98: WJ | K98: 2 | L98: F | S98: =$B98 -> 56 | AA98: =$D98 -> 40
A99: 383 | B99: 57 | C99: 9 | D99: 41 | E99: 1120 | F99: 0.038981481 | G99: Jackie | H99: Perry | I99: V 55 | J99: FVS | K99: 2 | L99: F | N99: =$B99 -> 57 | V99: =$D99 -> 41
A100: 388 | B100: 39 | C100: 12 | D100: 29 | E100: 1944 | F100: 0.039189815 | G100: Catherine | H100: Bicharel | I100: V 45 | J100: EC | K100: 3 | L100: F | AE100: =$B100 -> 39 | AO100: =$D100 -> 29
...

Sheet Men
A1: 2025 MID WEEK LEAGUE sponsored by | P1: OPEN | X1: VETS | AG1: OPEN | AQ1: VETS
M2: BSRC | N2: FVS | O2: HRTC | P2: ROY | Q2: SS | R2: WAT | S2: WJ | U2: BSRC | V2: FVS | W2: HRTC | X2: ROY | Y2: SS | Z2: WAT | AA2: WJ | AC2: B&D | AD2: BRX | AE2: EC | AF2: EDM | AG2: FRE | AH2: HPX | AI2: HRC | AJ2: HRP | AK2: SNH | AM2: B&D | AN2: BRX | AO2: EC | AP2: EDM | AQ2: FRE | AR2: HPX | AS2: HRC | AT2: HRP | AU2: SNH
A3: =Team!A2 -> RACE 2 - Watford 10k - Wednesday 4th June 2025 | M3: =SUM(SMALL(M$5:M$349,{1,2,3,4,5,6,7,8,9,10,11,12})) -> 736 | N3: =SUM(SMALL(N$5:N$349,{1,2,3,4,5,6,7,8,9,10,11,12})) -> 380 | O3: =SUM(SMALL(O$5:O$349,{1,2,3,4,5,6,7,8,9,10,11,12})) -> 1026 | P3: =SUM(SMALL(P$5:P$349,{1,2,3,4,5,6,7,8,9,10,11,12})) -> 490 | Q3: =SUM(SMALL(Q$5:Q$349,{1,2,3,4,5,6,7,8,9,10,11,12})) -> 1148 | R3: =SUM(SMALL(R$5:R$349,{1,2,3,4,5,6,7,8,9,10,11,12})) -> 319 | S3: =SUM(SMALL(S$5:S$349,{1,2,3,4,5,6,7,8,9,10,11,12})) -> 239 | U3: =SUM(SMALL(U$5:U$349,{1,2,3,4,5,6})) -> 229 | V3: =SUM(SMALL(V$5:V$349,{1,2,3,4,5,6})) -> 127 | W3: =SUM(SMALL(W$5:W$349,{1,2,3,4,5,6})) -> 288 | X3: =SUM(SMALL(X$5:X$349,{1,2,3,4,5,6})) -> 137 | Y3: =SUM(SMALL(Y$5:Y$349,{1,2,3,4,5,6})) -> 379 | Z3: =SUM(SMALL(Z$5:Z$349,{1,2,3,4,5,6})) -> 66 | AA3: =SUM(SMALL(AA$5:AA$349,{1,2,3,4,5,6})) -> 34 | AC3: =SUM(SMALL(AC$5:AC$349,{1,2,3,4,5,6,7,8,9,10,11,12})) -> 357 | AD3: =SUM(SMALL(AD$5:AD$349,{1,2,3,4,5,6,7,8,9,10,11,12})) -> 804 | AE3: =SUM(SMALL(AE$5:AE$349,{1,2,3,4,5,6,7,8,9,10,11,12})) -> 399 | AF3: =SUM(SMALL(AF$5:AF$349,{1,2,3,4,5,6,7,8,9,10,11,12})) -> 553 | AG3: =SUM(SMALL(AG$5:AG$349,{1,2,3,4,5,6,7,8,9,10,11,12})) -> 2156 | AH3: =SUM(SMALL(AH$5:AH$349,{1,2,3,4,5,6,7,8,9,10,11,12})) -> 2299 | AI3: =SUM(SMALL(AI$5:AI$349,{1,2,3,4,5,6,7,8,9,10,11,12})) -> 365 | AJ3: =SUM(SMALL(AJ$5:AJ$349,{1,2,3,4,5,6,7,8,9,10,11,12})) -> 902 | AK3: =SUM(SMALL(AK$5:AK$349,{1,2,3,4,5,6,7,8,9,10,11,12})) -> 687 | AM3: =SUM(SMALL(AM$5:AM$349,{1,2,3,4,5,6})) -> 66 | AN3: =SUM(SMALL(AN$5:AN$349,{1,2,3,4,5,6})) -> 266 | AO3: =SUM(SMALL(AO$5:AO$349,{1,2,3,4,5,6})) -> 112 | AP3: =SUM(SMALL(AP$5:AP$349,{1,2,3,4,5,6})) -> 134 | AQ3: =SUM(SMALL(AQ$5:AQ$349,{1,2,3,4,5,6})) -> 425 | AR3: =SUM(SMALL(AR$5:AR$349,{1,2,3,4,5,6})) -> 388 | AS3: =SUM(SMALL(AS$5:AS$349,{1,2,3,4,5,6})) -> 249 | AT3: =SUM(SMALL(AT$5:AT$349,{1,2,3,4,5,6})) -> 188 | AU3: =SUM(SMALL(AU$5:AU$349,{1,2,3,4,5,6})) -> 270
A4: Race | B4: M/F | C4: Cat | D4: Vet | E4: No. | F4: Time | G4: Name | H4: Surname | I4: Cat. | J4: Club | K4: Div | L4: M/F | M4: =COUNT(SMALL(M$5:M$349,{1,2,3,4,5,6,7,8,9,10,11,12})) -> 12 | N4: =COUNT(SMALL(N$5:N$349,{1,2,3,4,5,6,7,8,9,10,11,12})) -> 12 | O4: =COUNT(SMALL(O$5:O$349,{1,2,3,4,5,6,7,8,9,10,11,12})) -> 12 | P4: =COUNT(SMALL(P$5:P$349,{1,2,3,4,5,6,7,8,9,10,11,12})) -> 12 | Q4: =COUNT(SMALL(Q$5:Q$349,{1,2,3,4,5,6,7,8,9,10,11,12})) -> 12 | R4: =COUNT(SMALL(R$5:R$349,{1,2,3,4,5,6,7,8,9,10,11,12})) -> 12 | S4: =COUNT(SMALL(S$5:S$349,{1,2,3,4,5,6,7,8,9,10,11,12})) -> 12 | U4: =COUNT(SMALL(U$5:U$349,{1,2,3,4,5,6})) -> 6 | V4: =COUNT(SMALL(V$5:V$349,{1,2,3,4,5,6})) -> 6 | W4: =COUNT(SMALL(W$5:W$349,{1,2,3,4,5,6})) -> 6 | X4: =COUNT(SMALL(X$5:X$349,{1,2,3,4,5,6})) -> 6 | Y4: =COUNT(SMALL(Y$5:Y$349,{1,2,3,4,5,6})) -> 6 | Z4: =COUNT(SMALL(Z$5:Z$349,{1,2,3,4,5,6})) -> 6 | AA4: =COUNT(SMALL(AA$5:AA$349,{1,2,3,4,5,6})) -> 6 | AC4: =COUNT(SMALL(AC$5:AC$349,{1,2,3,4,5,6,7,8,9,10,11,12})) -> 12 | AD4: =COUNT(SMALL(AD$5:AD$349,{1,2,3,4,5,6,7,8,9,10,11,12})) -> 12 | AE4: =COUNT(SMALL(AE$5:AE$349,{1,2,3,4,5,6,7,8,9,10,11,12})) -> 12 | AF4: =COUNT(SMALL(AF$5:AF$349,{1,2,3,4,5,6,7,8,9,10,11,12})) -> 12 | AG4: =COUNT(SMALL(AG$5:AG$349,{1,2,3,4,5,6,7,8,9,10,11,12})) -> 12 | AH4: =COUNT(SMALL(AH$5:AH$349,{1,2,3,4,5,6,7,8,9,10,11,12})) -> 12 | AI4: =COUNT(SMALL(AI$5:AI$349,{1,2,3,4,5,6,7,8,9,10,11,12})) -> 12 | AJ4: =COUNT(SMALL(AJ$5:AJ$349,{1,2,3,4,5,6,7,8,9,10,11,12})) -> 12 | AK4: =COUNT(SMALL(AK$5:AK$349,{1,2,3,4,5,6,7,8,9,10,11,12})) -> 12 | AM4: =COUNT(SMALL(AM$5:AM$349,{1,2,3,4,5,6})) -> 6 | AN4: =COUNT(SMALL(AN$5:AN$349,{1,2,3,4,5,6})) -> 6 | AO4: =COUNT(SMALL(AO$5:AO$349,{1,2,3,4,5,6})) -> 6 | AP4: =COUNT(SMALL(AP$5:AP$349,{1,2,3,4,5,6})) -> 6 | AQ4: =COUNT(SMALL(AQ$5:AQ$349,{1,2,3,4,5,6})) -> 6 | AR4: =COUNT(SMALL(AR$5:AR$349,{1,2,3,4,5,6})) -> 6 | AS4: =COUNT(SMALL(AS$5:AS$349,{1,2,3,4,5,6})) -> 6 | AT4: =COUNT(SMALL(AT$5:AT$349,{1,2,3,4,5,6})) -> 6 | AU4: =COUNT(SMALL(AU$5:AU$349,{1,2,3,4,5,6})) -> 6
A5: 1 | B5: 1 | E5: 951 | F5: 0.023298611 | G5: Jude | H5: Bell | I5: S | J5: WAT | K5: 2 | L5: M | R5: =$B5 -> 1
A6: 2 | B6: 2 | E6: 1404 | F6: 0.024027778 | G6: Martin | H6: Westley | I6: S | J6: HRTC | K6: 2 | L6: M | O6: =$B6 -> 2
A7: 3 | B7: 3 | C7: 1 | D7: 1 | E7: 1148 | F7: 0.024166667 | G7: Andrew | H7: Patterson | I7: V 40 | J7: FVS | K7: 2 | L7: M | N7: =$B7 -> 3 | V7: =$D7 -> 1
A8: 4 | B8: 1 | E8: 1618 | F8: 0.024224537 | G8: Edward | H8: Spencer | I8: S | J8: B&D | K8: 3 | L8: M | AC8: =$B8 -> 1
A9: 5 | B9: 4 | E9: 973 | F9: 0.024293981 | G9: Oliver | H9: Hill | I9: S | J9: WAT | K9: 2 | L9: M | R9: =$B9 -> 4
A10: 6 | B10: 5 | E10: 1285 | F10: 0.02443287 | G10: Aaron | H10: Clarke | I10: S | J10: BSRC | K10: 2 | L10: M | M10: =$B10 -> 5
A11: 7 | B11: 6 | E11: 1101 | F11: 0.024548611 | G11: Simon | H11: Fraser | I11: S | J11: FVS | K11: 2 | L11: M | N11: =$B11 -> 6
A12: 8 | B12: 7 | E12: 895 | F12: 0.024583333 | G12: Liam | H12: Struwe | I12: S | J12: WJ | K12: 2 | L12: M | S12: =$B12 -> 7
A13: 9 | B13: 8 | C13: 2 | D13: 2 | E13: 893 | F13: 0.024814815 | G13: Kevin | H13: Francis | I13: V 40 | J13: WJ | K13: 2 | L13: M | S13: =$B13 -> 8 | AA13: =$D13 -> 2
A14: 10 | B14: 2 | E14: 1685 | F14: 0.025104167 | G14: Isaac | H14: Charlton | I14: S | J14: HRC | K14: 3 | L14: M | AI14: =$B14 -> 2
A15: 11 | B15: 9 | E15: 1232 | F15: 0.025162037 | G15: Tom | H15: Combe | I15: S | J15: ROY | K15: 2 | L15: M | P15: =$B15 -> 9
A16: 12 | B16: 10 | E16: 1139 | F16: 0.025185185 | G16: Adrian | H16: Busolini | I16: S | J16: FVS | K16: 2 | L16: M | N16: =$B16 -> 10
A17: 13 | B17: 3 | E17: 1822 | F17: 0.0253125 | G17: Phil | H17: Morgan | I17: S | J17: BRX | K17: 3 | L17: M | AD17: =$B17 -> 3
A18: 14 | B18: 11 | C18: 1 | D18: 3 | E18: 894 | F18: 0.025347222 | G18: Kevin | H18: Sambridge | I18: V 50 | J18: WJ | K18: 2 | L18: M | S18: =$B18 -> 11 | AA18: =$D18 -> 3
A19: 15 | B19: 12 | C19: 3 | D19: 4 | E19: 983 | F19: 0.025416667 | G19: David | H19: O'Sullivan | I19: V 40 | J19: WAT | K19: 2 | L19: M | R19: =$B19 -> 12 | Z19: =$D19 -> 4
A20: 16 | B20: 13 | C20: 4 | D20: 5 | E20: 922 | F20: 0.025439815 | G20: Timothy | H20: Brignall | I20: V 40 | J20: WJ | K20: 2 | L20: M | S20: =$B20 -> 13 | AA20: =$D20 -> 5
A21: 17 | B21: 14 | E21: 927 | F21: 0.025486111 | G21: William | H21: Caunce | I21: S | J21: WJ | K21: 2 | L21: M | S21: =$B21 -> 14
A22: 18 | B22: 15 | C22: 5 | D22: 6 | E22: 946 | F22: 0.025497685 | G22: Mark | H22: Ames | I22: V 40 | J22: WAT | K22: 2 | L22: M | R22: =$B22 -> 15 | Z22: =$D22 -> 6
A23: 19 | B23: 16 | E23: 1507 | F23: 0.025520833 | G23: Matthew | H23: Robinson | I23: S | J23: SS | K23: 2 | L23: M | Q23: =$B23 -> 16
A24: 20 | B24: 17 | C24: 6 | D24: 7 | E24: 935 | F24: 0.025613426 | G24: Pas | H24: Blackwell | I24: V 40 | J24: WJ | K24: 2 | L24: M | S24: =$B24 -> 17 | AA24: =$D24 -> 7
A25: 21 | B25: 18 | C25: 7 | D25: 8 | E25: 910 | F25: 0.025810185 | G25: Nick | H25: Axam | I25: V 40 | J25: WJ | K25: 2 | L25: M | S25: =$B25 -> 18 | AA25: =$D25 -> 8
A26: 22 | B26: 19 | C26: 8 | D26: 9 | E26: 902 | F26: 0.025902778 | G26: Matt | H26: Brown | I26: V 40 | J26: WJ | K26: 2 | L26: M | S26: =$B26 -> 19 | AA26: =$D26 -> 9
A27: 23 | B27: 20 | E27: 1203 | F27: 0.025949074 | G27: Matthew | H27: Cottiss | I27: S | J27: ROY | K27: 2 | L27: M | P27: =$B27 -> 20
A28: 24 | B28: 21 | C28: 9 | D28: 10 | E28: 1191 | F28: 0.026006944 | G28: Ryan | H28: De Vooght-Johnson | I28: V 40 | J28: ROY | K28: 2 | L28: M | P28: =$B28 -> 21 | X28: =$D28 -> 10
A29: 25 | B29: 4 | E29: 1686 | F29: 0.026087963 | G29: Harry | H29: Woods | I29: S | J29: HRC | K29: 3 | L29: M | AI29: =$B29 -> 4
A30: 26 | B30: 5 | E30: 1667 | F30: 0.026157407 | G30: Peter | H30: Males | I30: S | J30: HRC | K30: 3 | L30: M | AI30: =$B30 -> 5
A31: 27 | B31: 6 | C31: 1 | D31: 1 | E31: 1769 | F31: 0.026168981 | G31: James | H31: Akerman | I31: V 40 | J31: EDM | K31: 3 | L31: M | AF31: =$B31 -> 6 | AP31: =$D31 -> 1
A32: 28 | B32: 22 | C32: 2 | D32: 11 | E32: 1178 | F32: 0.026203704 | G32: Paul | H32: Makowski | I32: V 50 | J32: ROY | K32: 2 | L32: M | P32: =$B32 -> 22 | X32: =$D32 -> 11
A33: 29 | B33: 23 | E33: 877 | F33: 0.026226852 | G33: Ian | H33: Perrins | I33: S | J33: WJ | K33: 2 | L33: M | S33: =$B33 -> 23
A34: 30 | B34: 24 | E34: 1133 | F34: 0.026261574 | G34: Kristian | H34: Atanasov | I34: S | J34: FVS | K34: 2 | L34: M | N34: =$B34 -> 24
A35: 31 | B35: 25 | C35: 10 | D35: 12 | E35: 957 | F35: 0.026261574 | G35: Tim | H35: Cook | I35: V 40 | J35: WAT | K35: 2 | L35: M | R35: =$B35 -> 25 | Z35: =$D35 -> 12
A36: 32 | B36: 7 | C36: 1 | E36: 1866 | F36: 0.026273148 | G36: Murray | H36: Heal | I36: U 20 | J36: SNH | K36: 3 | L36: M | AK36: =$B36 -> 7
A37: 33 | B37: 26 | C37: 11 | D37: 13 | E37: 1036 | F37: 0.026284722 | G37: Vishal | H37: Dixit | I37: V 40 | J37: WAT | K37: 2 | L37: M | R37: =$B37 -> 26 | Z37: =$D37 -> 13
A38: 34 | B38: 8 | C38: 2 | D38: 3 | E38: 1558 | F38: 0.026388889 | G38: Alex | H38: Shuker | I38: V 40 | J38: B&D | K38: 3 | L38: M | AC38: =$B38 -> 8 | AM38: =$D38 -> 3
A39: 35 | B39: 9 | E39: 1779 | F39: 0.026412037 | G39: James | H39: Vicente | I39: S | J39: EDM | K39: 3 | L39: M | AF39: =$B39 -> 9
A40: 36 | B40: 27 | C40: 12 | D40: 14 | E40: 953 | F40: 0.02650463 | G40: Will | H40: Brotherston | I40: V 40 | J40: WAT | K40: 2 | L40: M | R40: =$B40 -> 27 | Z40: =$D40 -> 14
A41: 37 | B41: 28 | C41: 13 | D41: 15 | E41: 1057 | F41: 0.026550926 | G41: Mike | H41: Jeffs | I41: V 40 | J41: FVS | K41: 2 | L41: M | N41: =$B41 -> 28 | V41: =$D41 -> 15
A42: 38 | B42: 29 | C42: 3 | D42: 16 | E42: 1277 | F42: 0.026643519 | G42: Robert | H42: Thorpe | I42: V 50 | J42: BSRC | K42: 2 | L42: M | M42: =$B42 -> 29 | U42: =$D42 -> 16
A43: 39 | B43: 30 | C43: 1 | D43: 17 | E43: 992 | F43: 0.026655093 | G43: Frank | H43: Ryan | I43: V 60 | J43: WAT | K43: 2 | L43: M | R43: =$B43 -> 30 | Z43: =$D43 -> 17
A44: 40 | B44: 31 | E44: 1114 | F44: 0.026666667 | G44: Nathan | H44: Kirley | I44: S | J44: FVS | K44: 2 | L44: M | N44: =$B44 -> 31
A45: 41 | B45: 10 | E45: 1669 | F45: 0.026701389 | G45: Owen | H45: Jones | I45: S | J45: HRC | K45: 3 | L45: M | AI45: =$B45 -> 10
A46: 42 | B46: 11 | C46: 3 | D46: 4 | E46: 1858 | F46: 0.026747685 | G46: Adam | H46: Searle | I46: V 40 | J46: SNH | K46: 3 | L46: M | AK46: =$B46 -> 11
A47: 43 | B47: 12 | C47: 1 | D47: 5 | E47: 1857 | F47: 0.026805556 | G47: Christopher | H47: Westcott | I47: V 50 | J47: SNH | K47: 3 | L47: M | AK47: =$B47 -> 12 | AU47: =$D47 -> 5
A48: 44 | B48: 32 | E48: 854 | F48: 0.026851852 | G48: Alexander | H48: Chappell | I48: S | J48: WJ | K48: 2 | L48: M | S48: =$B48 -> 32
A49: 45 | B49: 13 | C49: 2 | D49: 6 | E49: 1773 | F49: 0.026863426 | G49: Ilia | H49: Loubenski | I49: V 50 | J49: EDM | K49: 3 | L49: M | AF49: =$B49 -> 13 | AP49: =$D49 -> 6
A50: 46 | B50: 14 | E50: 1559 | F50: 0.026921296 | G50: Nehil | H50: Lavey-Khan | I50: S | J50: B&D | K50: 3 | L50: M | AC50: =$B50 -> 14
A51: 47 | B51: 33 | E51: 1184 | F51: 0.027002315 | G51: Liam | H51: Butler | I51: S | J51: ROY | K51: 2 | L51: M | P51: =$B51 -> 33
A52: 48 | B52: 34 | E52: 1286 | F52: 0.027013889 | G52: Michael | H52: Foxwell | I52: S | J52: BSRC | K52: 2 | L52: M | M52: =$B52 -> 34
A53: 50 | B53: 35 | C53: 14 | D53: 18 | E53: 928 | F53: 0.027048611 | G53: William | H53: Fradley | I53: V 40 | J53: WJ | K53: 2 | L53: M | S53: =$B53 -> 35 | AA53: =$D53 -> 18
A54: 51 | B54: 36 | C54: 15 | D54: 19 | E54: 1179 | F54: 0.027060185 | G54: Chris | H54: McInerney | I54: V 40 | J54: ROY | K54: 2 | L54: M | P54: =$B54 -> 36 | X54: =$D54 -> 19
A55: 52 | B55: 37 | C55: 16 | D55: 20 | E55: 1293 | F55: 0.027280093 | G55: Paul | H55: Newton | I55: V 40 | J55: BSRC | K55: 2 | L55: M | M55: =$B55 -> 37 | U55: =$D55 -> 20
A56: 53 | B56: 38 | E56: 1068 | F56: 0.027361111 | G56: Charlie | H56: White | I56: S | J56: FVS | K56: 2 | L56: M | N56: =$B56 -> 38
A57: 54 | B57: 39 | C57: 17 | D57: 21 | E57: 1000 | F57: 0.027361111 | G57: Benjamin | H57: Steere | I57: V 40 | J57: WAT | K57: 2 | L57: M | R57: =$B57 -> 39 | Z57: =$D57 -> 21
A58: 55 | B58: 15 | C58: 4 | D58: 7 | E58: 1597 | F58: 0.027430556 | G58: Calvin | H58: Wu | I58: V 40 | J58: B&D | K58: 3 | L58: M | AC58: =$B58 -> 15 | AM58: =$D58 -> 7
A59: 56 | B59: 40 | E59: 1083 | F59: 0.027465278 | G59: Michael | H59: Fisher | I59: S | J59: FVS | K59: 2 | L59: M | N59: =$B59 -> 40
A60: 57 | B60: 41 | E60: 1499 | F60: 0.027523148 | G60: Andrew | H60: Joslin | I60: S | J60: SS | K60: 2 | L60: M | Q60: =$B60 -> 41
A61: 58 | B61: 42 | E61: 900 | F61: 0.027523148 | G61: Mark | H61: Ford | I61: S | J61: WJ | K61: 2 | L61: M | S61: =$B61 -> 42
A62: 59 | B62: 43 | C62: 18 | D62: 22 | E62: 988 | F62: 0.027546296 | G62: Jonathon | H62: Pitkin | I62: V 40 | J62: WAT | K62: 2 | L62: M | R62: =$B62 -> 43 | Z62: =$D62 -> 22
A63: 60 | B63: 44 | C63: 19 | D63: 23 | E63: 1025 | F63: 0.027592593 | G63: Matt | H63: Graham | I63: V 40 | J63: WAT | K63: 2 | L63: M | R63: =$B63 -> 44 | Z63: =$D63 -> 23
A64: 61 | B64: 45 | C64: 4 | D64: 24 | E64: 1100 | F64: 0.027662037 | G64: Paul | H64: Shelley | I64: V 50 | J64: FVS | K64: 2 | L64: M | N64: =$B64 -> 45 | V64: =$D64 -> 24
A65: 62 | B65: 16 | E65: 1912 | F65: 0.027685185 | G65: Andrew | H65: Dewar | I65: S | J65: EC | K65: 3 | L65: M | AE65: =$B65 -> 16
A66: 63 | B66: 46 | C66: 20 | D66: 25 | E66: 1067 | F66: 0.027719907 | G66: Ross | H66: Gallagher | I66: V 40 | J66: FVS | K66: 2 | L66: M | N66: =$B66 -> 46 | V66: =$D66 -> 25
A67: 64 | B67: 47 | C67: 21 | D67: 26 | E67: 851 | F67: 0.027777778 | G67: Adam | H67: Watson | I67: V 40 | J67: WJ | K67: 2 | L67: M | S67: =$B67 -> 47 | AA67: =$D67 -> 26
A68: 65 | B68: 48 | E68: 1188 | F68: 0.027824074 | G68: Dean | H68: Reilly | I68: S | J68: ROY | K68: 2 | L68: M | P68: =$B68 -> 48
A69: 66 | B69: 49 | C69: 22 | D69: 27 | E69: 1159 | F69: 0.027847222 | G69: Nicholas | H69: Fiducia | I69: V 40 | J69: ROY | K69: 2 | L69: M | P69: =$B69 -> 49 | X69: =$D69 -> 27
A70: 67 | B70: 17 | C70: 3 | D70: 8 | E70: 1916 | F70: 0.027858796 | G70: Giancarlo | H70: Maccini | I70: V 50 | J70: EC | K70: 3 | L70: M | AE70: =$B70 -> 17 | AO70: =$D70 -> 8
A71: 68 | B71: 50 | E71: 1287 | F71: 0.027916667 | G71: Robin | H71: Palmer | I71: S | J71: BSRC | K71: 2 | L71: M | M71: =$B71 -> 50
A72: 69 | B72: 18 | E72: 1934 | F72: 0.027939815 | G72: Lloyd | H72: Hughes | I72: S | J72: EC | K72: 3 | L72: M | AE72: =$B72 -> 18
A73: 70 | B73: 51 | C73: 23 | D73: 28 | E73: 1086 | F73: 0.027951389 | G73: Kris | H73: Westcott | I73: V 40 | J73: FVS | K73: 2 | L73: M | N73: =$B73 -> 51 | V73: =$D73 -> 28
A74: 71 | B74: 19 | E74: 1699 | F74: 0.027986111 | G74: Chris | H74: Jones | I74: S | J74: HRC | K74: 3 | L74: M | AI74: =$B74 -> 19
A75: 72 | B75: 52 | C75: 5 | D75: 29 | E75: 1406 | F75: 0.028043981 | G75: Kirk | H75: Crudgington | I75: V 50 | J75: HRTC | K75: 2 | L75: M | O75: =$B75 -> 52 | W75: =$D75 -> 29
A76: 73 | B76: 53 | E76: 1032 | F76: 0.028136574 | G76: Declan | H76: Calvey | I76: S | J76: WAT | K76: 2 | L76: M | R76: =$B76 -> 53
A77: 74 | B77: 20 | E77: 1824 | F77: 0.028171296 | G77: Daniel | H77: Harden | I77: S | J77: BRX | K77: 3 | L77: M | AD77: =$B77 -> 20
A78: 75 | B78: 21 | C78: 4 | D78: 9 | E78: 1725 | F78: 0.028240741 | G78: Giles | H78: Horridge | I78: V 50 | J78: HRP | K78: 3 | L78: M | AJ78: =$B78 -> 21 | AT78: =$D78 -> 9
A79: 76 | B79: 54 | C79: 24 | D79: 30 | E79: 930 | F79: 0.028275463 | G79: Thomas | H79: Sheffield | I79: V 40 | J79: WJ | K79: 2 | L79: M | S79: =$B79 -> 54 | AA79: =$D79 -> 30
A80: 78 | B80: 22 | E80: 1771 | F80: 0.028356481 | G80: Freddie | H80: Davies | I80: S | J80: EDM | K80: 3 | L80: M | AF80: =$B80 -> 22
A81: 79 | B81: 55 | C81: 25 | D81: 31 | E81: 1282 | F81: 0.028368056 | G81: Adam | H81: Newman | I81: V 40 | J81: BSRC | K81: 2 | L81: M | M81: =$B81 -> 55 | U81: =$D81 -> 31
A82: 80 | B82: 23 | C82: 5 | D82: 10 | E82: 1948 | F82: 0.028391204 | G82: Nick | H82: Cox | I82: V 40 | J82: EC | K82: 3 | L82: M | AE82: =$B82 -> 23 | AO82: =$D82 -> 10
A83: 81 | B83: 56 | C83: 6 | D83: 32 | E83: 1209 | F83: 0.0284375 | G83: Richard | H83: Harrison | I83: V 50 | J83: ROY | K83: 2 | L83: M | P83: =$B83 -> 56 | X83: =$D83 -> 32
A84: 82 | B84: 57 | C84: 26 | D84: 33 | E84: 903 | F84: 0.028472222 | G84: Matt | H84: Cummings | I84: V 40 | J84: WJ | K84: 2 | L84: M | S84: =$B84 -> 57 | AA84: =$D84 -> 33
A85: 83 | B85: 24 | E85: 1905 | F85: 0.02849537 | G85: Owen | H85: Edwards | I85: S | J85: EC | K85: 3 | L85: M | AE85: =$B85 -> 24
A86: 84 | B86: 58 | C86: 2 | D86: 34 | E86: 1131 | F86: 0.028518519 | G86: Ralph | H86: Dadswell* | I86: V 60 | J86: FVS | K86: 2 | L86: M | N86: =$B86 -> 58 | V86: =$D86 -> 34
A87: 85 | B87: 25 | E87: 1694 | F87: 0.028530093 | G87: Darral | H87: Watson | I87: S | J87: HRC | K87: 3 | L87: M | AI87: =$B87 -> 25
A88: 86 | B88: 59 | C88: 27 | D88: 35 | E88: 1408 | F88: 0.028553241 | G88: Ryan | H88: Smith | I88: V 40 | J88: HRTC | K88: 2 | L88: M | O88: =$B88 -> 59 | W88: =$D88 -> 35
A89: 87 | B89: 60 | C89: 7 | D89: 36 | E89: 960 | F89: 0.028634259 | G89: Steve | H89: Davies | I89: V 50 | J89: WAT | K89: 2 | L89: M | R89: =$B89 -> 60 | Z89: =$D89 -> 36
A90: 88 | B90: 26 | E90: 1941 | F90: 0.028645833 | G90: Liam | H90: Amatruda | I90: S | J90: EC | K90: 3 | L90: M | AE90: =$B90 -> 26
A91: 89 | B91: 61 | E91: 1103 | F91: 0.028657407 | G91: Jay | H91: Papa | I91: S | J91: FVS | K91: 2 | L91: M | N91: =$B91 -> 61
A92: 90 | B92: 62 | C92: 28 | D92: 37 | E92: 1138 | F92: 0.028668981 | G92: Adrian | H92: Donnelly | I92: V 40 | J92: FVS | K92: 2 | L92: M | N92: =$B92 -> 62 | V92: =$D92 -> 37
A93: 91 | B93: 27 | C93: 5 | D93: 11 | E93: 1598 | F93: 0.028680556 | G93: Chun | H93: Ng | I93: V 50 | J93: B&D | K93: 3 | L93: M | AC93: =$B93 -> 27 | AM93: =$D93 -> 11
A94: 92 | B94: 63 | C94: 29 | D94: 38 | E94: 1192 | F94: 0.028703704 | G94: Mark | H94: Dry | I94: V 40 | J94: ROY | K94: 2 | L94: M | P94: =$B94 -> 63 | X94: =$D94 -> 38
A95: 93 | B95: 64 | C95: 30 | D95: 39 | E95: 1283 | F95: 0.028738426 | G95: Matthew | H95: Ironside | I95: V 40 | J95: BSRC | K95: 2 | L95: M | M95: =$B95 -> 64 | U95: =$D95 -> 39
A96: 95 | B96: 28 | C96: 1 | D96: 12 | E96: 1600 | F96: 0.028877315 | G96: Andy | H96: Pettit | I96: V 60 | J96: B&D | K96: 3 | L96: M | AC96: =$B96 -> 28 | AM96: =$D96 -> 12
A97: 96 | B97: 65 | C97: 8 | D97: 40 | E97: 1204 | F97: 0.028912037 | G97: Graham | H97: Hill | I97: V 50 | J97: ROY | K97: 2 | L97: M | P97: =$B97 -> 65 | X97: =$D97 -> 40
A98: 97 | B98: 66 | C98: 31 | D98: 41 | E98: 883 | F98: 0.028969907 | G98: Jamie | H98: Higgs | I98: V 40 | J98: WJ | K98: 2 | L98: M | S98: =$B98 -> 66 | AA98: =$D98 -> 41
A99: 99 | B99: 67 | C99: 32 | D99: 42 | E99: 950 | F99: 0.029189815 | G99: Toby | H99: Bassett | I99: V 40 | J99: WAT | K99: 2 | L99: M | R99: =$B99 -> 67 | Z99: =$D99 -> 42
A100: 100 | B100: 29 | E100: 1841 | F100: 0.029201389 | G100: Richard | H100: Springall | I100: S | J100: FRE | K100: 3 | L100: M | AG100: =$B100 -> 29
...
