Workbook
Name D2NON: Women!$D$208
Name D3NON: Women!$D$218
Name D3NONVET: Women!$E$218

Sheet Team
A1: 2025 MID WEEK LEAGUE sponsored by | P1: 2025 MID WEEK LEAGUE sponsored by | AL1: 2025 MID WEEK LEAGUE sponsored by | BA1: 2025 MID WEEK LEAGUE sponsored by
A2: RACE 2 - Watford 10k - Wednesday 4th June 2025 | P2: =A2 -> RACE 2 - Watford 10k - Wednesday 4th June 2025 | AL2: RACE 1 - Stevenage 10k - Wednesday 28th May 2025 | BA2: =AL2 -> RACE 1 - Stevenage 10k - Wednesday 28th May 2025
A4: Pos | B4: MEN | F4: Points | G4: Score | I4: Pos | J4: WOMEN | M4: Points | N4: Score | P4: Pos | Q4: MEN | U4: Points | V4: Score | X4: Pos | Y4: WOMEN | AB4: Points | AC4: Score | AL4: Pos | AM4: MEN | AQ4: Points | AR4: Score | AT4: Pos | AU4: WOMEN | AX4: Points | AY4: Score | BA4: Pos | BB4: MEN | BF4: Points | BG4: Score | BI4: Pos | BJ4: WOMEN | BM4: Points | BN4: Score
A5: 1 | B5: Ware Joggers | F5: 7 | G5: =Men!$S$3 -> 239 | I5: 1 | J5: Royston Runners | M5: 7 | N5: =Women!$P$3 -> 88 | P5: 1 | Q5: Barnet & District AC | U5: 9 | V5: =Men!$AC$3 -> 357 | X5: 1 | Y5: Hitchin Running Club | AB5: 9 | AC5: =Women!$AI$3 -> 169 | AL5: 1 | AM5: Ware Joggers | AQ5: 7 | AR5: 216 | AT5: 1 | AU5: Royston Runners | AX5: 7 | AY5: 94 | BA5: 1 | BB5: Hitchin Running Club | BF5: 9 | BG5: 298 | BI5: 1 | BJ5: Edmonton Running Club | BM5: 9 | BN5: 143
A6: 2 | B6: Watford Joggers | F6: 6 | G6: =Men!$R$3 -> 319 | I6: 2 | J6: Ware Joggers | M6: 6 | N6: =Women!$S$3 -> 180 | P6: 2 | Q6: Hitchin Running Club | U6: 8 | V6: =Men!$AI$3 -> 365 | X6: 2 | Y6: Edmonton Running Club | AB6: 8 | AC6: =Women!$AF$3 -> 171 | AL6: 2 | AM6: Fairlands Valley Spartans | AQ6: 6 | AR6: 294 | AT6: 2 | AU6: Fairlands Valley Spartans | AX6: 6 | AY6: 156 | BA6: 2 | BB6: Enfield Chasers | BF6: 8 | BG6: 351 | BI6: 2 | BJ6: Hitchin Running Club | BM6: 8 | BN6: 167
A7: 3 | B7: Fairlands Valley Spartans | F7: 5 | G7: =Men!$N$3 -> 380 | I7: 3 | J7: Fairlands Valley Spartans | M7: 5 | N7: =Women!$N$3 -> 285 | P7: 3 | Q7: Enfield Chasers | U7: 7 | V7: =Men!$AE$3 -> 399 | X7: 3 | Y7: Barnet & District AC | AB7: 7 | AC7: =Women!$AC$3 -> 175 | AL7: 3 | AM7: Watford Joggers | AQ7: 5 | AR7: 598 | AT7: 3 | AU7: Ware Joggers | AX7: 5 | AY7: 225 | BA7: 3 | BB7: Barnet & District AC | BF7: 7 | BG7: 455 | BI7: 3 | BJ7: Barnet & District AC | BM7: 7 | BN7: 186
A8: 4 | B8: WAT 'B' | G8: =Men!$R$355 -> 427 | I8: 4 | J8: Bishop Stortford Running Club | M8: 4 | N8: =Women!$M$3 -> 295 | P8: 4 | Q8: Edmonton Running Club | U8: 6 | V8: =Men!$AF$3 -> 553 | X8: 4 | Y8: Enfield Chasers | AB8: 6 | AC8: =Women!$AE$3 -> 181 | AL8: 4 | AM8: Royston Runners | AQ8: 4 | AR8: 639 | AT8: 4 | AU8: Watford Joggers | AX8: 4 | AY8: 283 | BA8: 4 | BB8: Stevenage & North Herts AC | BF8: 6 | BG8: 601 | BI8: 4 | BJ8: Enfield Chasers | BM8: 6 | BN8: 189
A9: 5 | B9: Royston Runners | F9: 4 | G9: =Men!$P$3 -> 490 | I9: 5 | J9: Stevenage Striders | M9: 3 | N9: =Women!$Q$3 -> 308 | P9: 5 | Q9: Stevenage & North Herts AC | U9: 5 | V9: =Men!$AK$3 -> 687 | X9: 5 | Y9: Harpenden Arrows | AB9: 5 | AC9: =Women!$AJ$3 -> 287 | AL9: 5 | AM9: Bishop Stortford Running Club | AQ9: 3 | AR9: 701 | AT9: 5 | AU9: Stevenage Striders | AX9: 3 | AY9: 338 | BA9: 5 | BB9: Edmonton Running Club | BF9: 5 | BG9: 626 | BI9: 5 | BJ9: Broxbourne Runners | BM9: 5 | BN9: 335
A10: 6 | B10: WAT 'C' | G10: =Men!$R$358 -> 568 | I10: 6 | J10: Watford Joggers | M10: 2 | N10: =Women!$R$3 -> 309 | P10: 6 | Q10: Broxbourne Runners | U10: 4 | V10: =Men!$AD$3 -> 804 | X10: 6 | Y10: Broxbourne Runners | AB10: 4 | AC10: =Women!$AD$3 -> 339 | AL10: 6 | AM10: Stevenage Striders | AQ10: 2 | AR10: 819 | AT10: 6 | AU10: Bishop Stortford Running Club | AX10: 2 | AY10: 408 | BA10: 6 | BB10: HRC 'B' | BG10: 983 | BI10: 6 | BJ10: Stevenage & North Herts AC | BM10: 4 | BN10: 431
A11: 7 | B11: Bishop Stortford Running Club | F11: 3 | G11: =Men!$M$3 -> 736 | I11: 7 | J11: Harlow Run & Tri Club | M11: 1 | N11: =Women!$O$3 -> 400 | P11: 7 | Q11: Harpenden Arrows | U11: 3 | V11: =Men!$AJ$3 -> 902 | X11: 7 | Y11: B&D 'B' | AC11: =Women!$AC$201 -> 438 | AL11: 7 | AM11: FVS 'B' | AR11: 878 | AT11: 7 | AU11: FVS 'B' | AY11: 436 | BA11: 7 | BB11: Harpenden Arrows | BF11: 4 | BG11: 1029 | BI11: 7 | BJ11: B&D 'B' | BN11: 434
A12: 8 | B12: WJ 'B' | G12: =Men!$S$352 -> 991 | I12: 8 | J12: FVS 'B' | N12: =Women!$N$201 -> 555 | P12: 8 | Q12: B&D 'B' | V12: =Men!$AC$352 -> 1019 | X12: 8 | Y12: Stevenage & North Herts AC | AB12: 3 | AC12: =Women!$AK$3 -> 478 | AL12: 8 | AM12: WJ 'B' | AR12: 902 | AT12: 8 | AU12: WJ 'B' | AY12: 464 | BA12: 8 | BB12: Broxbourne Runners | BF12: 3 | BG12: 1093 | BI12: 8 | BJ12: Harpenden Arrows | BM12: 3 | BN12: 474
A13: 9 | B13: WAT 'D' | G13: =Men!$R$352 -> 995 | I13: 9 | J13: WAT 'B' | N13: =Women!$R$201 -> 721 | P13: 9 | Q13: Freedom Tri | U13: 2 | V13: =Men!$AG$3 -> 2156 | X13: 9 | Y13: Herts Phoenix AC | AB13: 0 | AC13: =Women!$AH$3 -> 648 | AL13: 9 | AM13: Harlow Run & Tri Club | AQ13: 1 | AR13: 1011 | AT13: 9 | AU13: WJ 'B' | AY13: 464 | BA13: 9 | BB13: Freedom Tri | BF13: 2 | BG13: 1351 | BI13: 9 | BJ13: Herts Phoenix AC | BM13: 2 | BN13: 624
A14: 10 | B14: Harlow Run & Tri Club | F14: 2 | G14: =Men!$O$3 -> 1026 | I14: 10 | J14: FVS 'C' | N14: =Women!$N$204 -> 827 | P14: 10 | Q14: Herts Phoenix AC | U14: 1 | V14: =Men!$AH$3 -> 2299 | X14: 9 | Y14: Freedom Tri | AB14: 0 | AC14: =Women!$AG$3 -> 648 | AL14: 10 | AM14: ROY 'B' | AR14: 1338 | AT14: 10 | AU14: Harlow Run & Tri Club | AX14: 1 | AY14: 526 | BA14: 10 | BB14: Herts Phoenix AC | BF14: 1 | BG14: 1474 | BI14: 10 | BJ14: Freedom Tri | BM14: 1 | BN14: 662
A15: 11 | B15: FVS 'B' | G15: =Men!$N$352 -> 1133 | I15: 11 | J15: ROY 'B' | N15: =Women!$P$201 -> 349 | AL15: 11 | AM15: FVS 'C' | AR15: 1616 | AT15: 11 | AU15: SS 'B' | AY15: 736
A16: 12 | B16: Stevenage Striders | F16: 1 | G16: =Men!$Q$3 -> 1148 | T16: Pos | U16: OVERALL | Y16: Points | Z16: Score | AL16: 12 | AM16: BSRC 'B' | AR16: 1758 | AT16: 12 | AU16: BSRC 'B' | AY16: 804
A17: 13 | B17: BSRC 'B' | G17: =Men!$M$352 -> 1906 | T17: 1 | U17: Hitchin Running Club | Y17: =VLOOKUP($U17,$Q$5:$V$14,5,0)+VLOOKUP($U17,$Y$5:$AC$14,4,0) -> 17 | Z17: =VLOOKUP($U17,$Q$5:$V$14,6,0)+VLOOKUP($U17,$Y$5:$AC$14,5,0) -> 534 | AL17: 13 | AM17: SS 'B' | AR17: 1866 | AT17: 13 | AU17: FVS 'C' | AY17: 870
A18: 14 | B18: FVS 'C' | G18: =Men!$N$355 -> 1974 | T18: 2 | U18: Barnet & District AC | Y18: =VLOOKUP($U18,$Q$5:$V$14,5,0)+VLOOKUP($U18,$Y$5:$AC$14,4,0) -> 16 | Z18: =VLOOKUP($U18,$Q$5:$V$14,6,0)+VLOOKUP($U18,$Y$5:$AC$14,5,0) -> 532 | AL18: 14 | AM18: WAT 'B' | AR18: 1917 | AT18: 14 | AU18: SS 'C' | AY18: 1040
T19: 3 | U19: Edmonton Running Club | Y19: =VLOOKUP($U19,$Q$5:$V$14,5,0)+VLOOKUP($U19,$Y$5:$AC$14,4,0) -> 14 | Z19: =VLOOKUP($U19,$Q$5:$V$14,6,0)+VLOOKUP($U19,$Y$5:$AC$14,5,0) -> 724 | AL19: 15 | AM19: FVS 'D' | AR19: 2364 | AT19: 15 | AU19: FVS 'D' | AY19: 1095 | BE19: Pos | BF19: OVERALL | BJ19: Points | BK19: Score
E20: Pos | F20: OVERALL | J20: Points | K20: Score | T20: 4 | U20: Enfield Chasers | Y20: =VLOOKUP($U20,$Q$5:$V$14,5,0)+VLOOKUP($U20,$Y$5:$AC$14,4,0) -> 13 | Z20: =VLOOKUP($U20,$Q$5:$V$14,6,0)+VLOOKUP($U20,$Y$5:$AC$14,5,0) -> 580 | AL20: 16 | AM20: SS 'C' | AR20: 2432 | AT20: 16 | AU20: ROY 'B' | AY20: 365 | BE20: 1 | BF20: Hitchin Running Club | BJ20: 17 | BK20: 465
E21: 1 | F21: Ware Joggers | J21: =VLOOKUP($F21,$B$5:$G$16,5,0)+VLOOKUP($F21,$J$5:$N$16,4,0) -> 13 | K21: =VLOOKUP($F21,$B$5:$G$16,6,0)+VLOOKUP($F21,$J$5:$N$16,5,0) -> 419 | T21: 5 | U21: Broxbourne Runners | Y21: =VLOOKUP($U21,$Q$5:$V$14,5,0)+VLOOKUP($U21,$Y$5:$AC$14,4,0) -> 8 | Z21: =VLOOKUP($U21,$Q$5:$V$14,6,0)+VLOOKUP($U21,$Y$5:$AC$14,5,0) -> 1143 | BE21: 2 | BF21: Enfield Chasers | BJ21: 14 | BK21: 540
E22: 2 | F22: Royston Runners | J22: =VLOOKUP($F22,$B$5:$G$16,5,0)+VLOOKUP($F22,$J$5:$N$16,4,0) -> 11 | K22: =VLOOKUP($F22,$B$5:$G$16,6,0)+VLOOKUP($F22,$J$5:$N$16,5,0) -> 578 | T22: 6 | U22: Stevenage & North Herts AC | Y22: =VLOOKUP($U22,$Q$5:$V$14,5,0)+VLOOKUP($U22,$Y$5:$AC$14,4,0) -> 8 | Z22: =VLOOKUP($U22,$Q$5:$V$14,6,0)+VLOOKUP($U22,$Y$5:$AC$14,5,0) -> 1165 | AP22: Pos | AQ22: OVERALL | AU22: Points | AV22: Score | BE22: 3 | BF22: Barnet & District AC | BJ22: 14 | BK22: 641
E23: 3 | F23: Fairlands Valley Spartans | J23: =VLOOKUP($F23,$B$5:$G$16,5,0)+VLOOKUP($F23,$J$5:$N$16,4,0) -> 10 | K23: =VLOOKUP($F23,$B$5:$G$16,6,0)+VLOOKUP($F23,$J$5:$N$16,5,0) -> 665 | T23: 7 | U23: Harpenden Arrows | Y23: =VLOOKUP($U23,$Q$5:$V$14,5,0)+VLOOKUP($U23,$Y$5:$AC$14,4,0) -> 8 | Z23: =VLOOKUP($U23,$Q$5:$V$14,6,0)+VLOOKUP($U23,$Y$5:$AC$14,5,0) -> 1189 | AP23: 1 | AQ23: Ware Joggers | AU23: 12 | AV23: 441 | BE23: 4 | BF23: Edmonton Running Club | BJ23: 14 | BK23: 769
E24: 4 | F24: Watford Joggers | J24: =VLOOKUP($F24,$B$5:$G$16,5,0)+VLOOKUP($F24,$J$5:$N$16,4,0) -> 8 | K24: =VLOOKUP($F24,$B$5:$G$16,6,0)+VLOOKUP($F24,$J$5:$N$16,5,0) -> 628 | T24: 8 | U24: Freedom Tri | Y24: =VLOOKUP($U24,$Q$5:$V$14,5,0)+VLOOKUP($U24,$Y$5:$AC$14,4,0) -> 2 | Z24: =VLOOKUP($U24,$Q$5:$V$14,6,0)+VLOOKUP($U24,$Y$5:$AC$14,5,0) -> 2804 | AP24: 2 | AQ24: Fairlands Valley Spartans | AU24: 12 | AV24: 450 | BE24: 5 | BF24: Stevenage & North Herts AC | BJ24: 10 | BK24: 1032
E25: 5 | F25: Bishop Stortford Running Club | J25: =VLOOKUP($F25,$B$5:$G$16,5,0)+VLOOKUP($F25,$J$5:$N$16,4,0) -> 7 | K25: =VLOOKUP($F25,$B$5:$G$16,6,0)+VLOOKUP($F25,$J$5:$N$16,5,0) -> 1031 | T25: 9 | U25: Herts Phoenix AC | Y25: =VLOOKUP($U25,$Q$5:$V$14,5,0)+VLOOKUP($U25,$Y$5:$AC$14,4,0) -> 1 | Z25: =VLOOKUP($U25,$Q$5:$V$14,6,0)+VLOOKUP($U25,$Y$5:$AC$14,5,0) -> 2947 | AP25: 3 | AQ25: Royston Runners | AU25: 11 | AV25: 733 | BE25: 6 | BF25: Broxbourne Runners | BJ25: 8 | BK25: 1428
E26: 6 | F26: Stevenage Striders | J26: =VLOOKUP($F26,$B$5:$G$16,5,0)+VLOOKUP($F26,$J$5:$N$16,4,0) -> 4 | K26: =VLOOKUP($F26,$B$5:$G$16,6,0)+VLOOKUP($F26,$J$5:$N$16,5,0) -> 1456 | AP26: 4 | AQ26: Watford Joggers | AU26: 9 | AV26: 881 | BE26: 7 | BF26: Harpenden Arrows | BJ26: 7 | BK26: 1503
E27: 7 | F27: Harlow Run & Tri Club | J27: =VLOOKUP($F27,$B$5:$G$16,5,0)+VLOOKUP($F27,$J$5:$N$16,4,0) -> 3 | K27: =VLOOKUP($F27,$B$5:$G$16,6,0)+VLOOKUP($F27,$J$5:$N$16,5,0) -> 1426 | P27: Pos | Q27: VET MEN | U27: Points | V27: Score | X27: Pos | Y27: VET WOMEN | AB27: Points | AC27: Score | AP27: 5 | AQ27: Bishop Stortford Running Club | AU27: 5 | AV27: 1109 | BE27: 8 | BF27: Freedom Tri | BJ27: 3 | BK27: 2013
P28: 1 | Q28: Barnet & District AC | U28: 9 | V28: =Men!$AM$3 -> 66 | X28: 1 | Y28: Edmonton Running Club | AB28: 9 | AC28: =Women!$AP$3 -> 28 | AP28: 6 | AQ28: Stevenage Striders | AU28: 5 | AV28: 1157 | BE28: 9 | BF28: Herts Phoenix AC | BJ28: 3 | BK28: 2098
A29: Pos | B29: VET MEN | F29: Points | G29: Score | I29: Pos | J29: VET WOMEN | M29: Points | N29: Score | P29: 2 | Q29: Enfield Chasers | U29: 8 | V29: =Men!$AO$3 -> 112 | X29: 2 | Y29: Enfield Chasers | AB29: 8 | AC29: =Women!$AO$3 -> 44 | AP29: 7 | AQ29: Harlow Run & Tri Club | AU29: 2 | AV29: 1537
A30: 1 | B30: Ware Joggers | F30: 7 | G30: =Men!$AA$3 -> 34 | I30: 1 | J30: Royston Runners | M30: 7 | N30: =Women!$X$3 -> 36 | P30: 3 | Q30: Edmonton Running Club | U30: 7 | V30: =Men!$AP$3 -> 134 | X30: 3 | Y30: Harpenden Arrows | AB30: 7 | AC30: =Women!$AT$3 -> 48 | BA30: Pos | BB30: VET MEN | BF30: Points | BG30: Score | BI30: Pos | BJ30: VET WOMEN | BM30: Points | BN30: Score
A31: 2 | B31: Watford Joggers | F31: 6 | G31: =Men!$Z$3 -> 66 | I31: 2 | J31: Ware Joggers | M31: 6 | N31: =Women!$AA$3 -> 45 | P31: 4 | Q31: Harpenden Arrows | U31: 6 | V31: =Men!$AT$3 -> 188 | X31: 4 | Y31: Hitchin Running Club | AB31: 6 | AC31: =Women!$AS$3 -> 55 | AL31: Pos | AM31: VET MEN | AQ31: Points | AR31: Score | AT31: Pos | AU31: VET WOMEN | AX31: Points | AY31: Score | BA31: 1 | BB31: Barnet & District AC | BF31: 9 | BG31: 62 | BI31: 1 | BJ31: Edmonton Running Club | BM31: 9 | BN31: 31
A32: 3 | B32: Fairlands Valley Spartans | F32: 5 | G32: =Men!$V$3 -> 127 | I32: 3 | J32: Bishop Stortford Running Club | M32: 5 | N32: =Women!$U$3 -> 50 | P32: 5 | Q32: B&D 'B' | V32: =Men!$AM$352 -> 199 | X32: 5 | Y32: Barnet & District AC | AB32: 5 | AC32: =Women!$AM$3 -> 60 | AL32: 1 | AM32: Ware Joggers | AQ32: 7 | AR32: 76 | AT32: 1 | AU32: Fairlands Valley Spartans | AX32: 7 | AY32: 27 | BA32: 2 | BB32: B&D 'B' | BG32: 88 | BI32: 2 | BJ32: Enfield Chasers | BM32: 8 | BN32: 41
A33: 4 | B33: Royston Runners | F33: 4 | G33: =Men!$X$3 -> 137 | I33: 4 | J33: Fairlands Valley Spartans | M33: 4 | N33: =Women!$V$3 -> 62 | P33: 6 | Q33: Hitchin Running Club | U33: 4 | V33: =Men!$AS$3 -> 249 | X33: 6 | Y33: EDM 'B' | AC33: =Women!$AP$201 -> 92 | AL33: 2 | AM33: Watford Joggers | AQ33: 6 | AR33: 77 | AT33: 2 | AU33: Royston Runners | AX33: 6 | AY33: 33 | BA33: 3 | BB33: Edmonton Running Club | BF33: 8 | BG33: 93 | BI33: 3 | BJ33: Hitchin Running Club | BM33: 7 | BN33: 47
A34: 5 | B34: WAT 'B' | G34: =Men!$Z$352 -> 188 | I34: 5 | J34: Stevenage Striders | M34: 3 | N34: =Women!$Y$3 -> 73 | P34: 7 | Q34: Broxbourne Runners | U34: 3 | V34: =Men!$AN$3 -> 266 | X34: 7 | Y34: B&D 'B' | AC34: =Women!$AM$201 -> 122 | AL34: 3 | AM34: Fairlands Valley Spartans | AQ34: 5 | AR34: 78 | AT34: 3 | AU34: Ware Joggers | AX34: 5 | AY34: 39 | BA34: 4 | BB34: Enfield Chasers | BF34: 7 | BG34: 114 | BI34: 4 | BJ34: Barnet & District AC | BM34: 6 | BN34: 58
A35: 6 | B35: WJ 'B' | G35: =Men!$AA$352 -> 197 | I35: 6 | J35: Watford Joggers | M35: 2 | N35: =Women!$Z$3 -> 79 | P35: 8 | Q35: Stevenage & North Herts AC | U35: 2 | V35: =Men!$AU$3 -> 270 | X35: 8 | Y35: Broxbourne Runners | AB35: 4 | AC35: =Women!$AN$3 -> 143 | AL35: 4 | AM35: WJ 'B' | AR35: 109 | AT35: 4 | AU35: FVS 'B' | AY35: 74 | BA35: 5 | BB35: EDM 'B' | BG35: 151 | BI35: 5 | BJ35: EDM 'B' | BN35: 102
A36: 7 | B36: Bishop Stortford Running Club | F36: 3 | G36: =Men!$U$3 -> 229 | I36: 7 | J36: ROY 'B' | N36: =Women!$X$201 -> 90 | P36: 9 | Q36: EC 'B' | V36: =Men!$AO$352 -> 341 | X36: 9 | Y36: HRP 'B' | AC36: =Women!$AT$201 -> 162 | AL36: 5 | AM36: FVS 'B' | AR36: 110 | AT36: 5 | AU36: Watford Joggers | AX36: 4 | AY36: 88 | BA36: 6 | BB36: Hitchin Running Club | BF36: 6 | BG36: 165 | BI36: 6 | BJ36: Harpenden Arrows | BM36: 5 | BN36: 107
A37: 8 | B37: Harlow Run & Tri Club | F37: 2 | G37: =Men!$W$3 -> 288 | I37: 8 | J37: WJ 'B' | N37: =Women!$AA$201 -> 106 | P37: 10 | Q37: EDM 'B' | V37: =Men!$AP$352 -> 350 | X37: 10 | Y37: EDM 'C' | AC37: =Women!$AP$204 -> 168 | AL37: 6 | AM37: WAT 'B' | AR37: 130 | AT37: 6 | AU37: WJ 'B' | AY37: 95 | BA37: 7 | BB37: B&D 'C' | BG37: 171 | BI37: 7 | BJ37: Stevenage & North Herts AC | BM37: 4 | BN37: 108
A38: 9 | B38: FVS 'B' | G38: =Men!$V$352 -> 329 | I38: 9 | J38: Harlow Run & Tri Club | M38: 1 | N38: =Women!$W$3 -> 112 | P38: 11 | Q38: B&D 'C' | V38: =Men!$AM$355 -> 378 | X38: 11 | Y38: B&D 'C' | AC38: =Women!$AM$204 -> 177 | AL38: 7 | AM38: Royston Runners | AQ38: 4 | AR38: 152 | AT38: 7 | AU38: ROY 'B' | AY38: 100 | BA38: 8 | BB38: Harpenden Arrows | BF38: 5 | BG38: 180 | BI38: 8 | BJ38: Broxbourne Runners | BM38: 3 | BN38: 113
A39: 10 | B39: WAT 'C' | G39: =Men!$Z$355 -> 346 | I39: 10 | J39: FVS 'B' | N39: =Women!$V$201 -> 147 | P39: 12 | Q39: Herts Phoenix AC | U39: 2 | V39: =Men!$AR$3 -> 388 | X39: 12 | Y39: Stevenage & North Herts AC | AB39: 3 | AC39: =Women!$AU$3 -> 178 | AL39: 8 | AM39: FVS 'C' | AR39: 157 | AT39: 8 | AU39: Harlow Run & Tri Club | AX39: 3 | AY39: 133 | BA39: 9 | BB39: Stevenage & North Herts AC | BF39: 4 | BG39: 184 | BI39: 9 | BJ39: B&D 'B' | BN39: 116
A40: 11 | B40: ROY 'B' | G40: =Men!$X$352 -> 352 | I40: 11 | J40: BSRC 'B' | N40: =Women!$U$201 -> 154 | P40: 13 | Q40: Freedom Tri | U40: 1 | V40: =Men!$AQ$3 -> 425 | X40: 13 | Y40: Freedom Tri | AB40: 0 | AC40: =Women!$AQ$3 -> 288 | AL40: 9 | AM40: Bishop Stortford Running Club | AQ40: 3 | AR40: 158 | AT40: 9 | AU40: Bishop Stortford Running Club | AX40: 2 | AY40: 151 | BA40: 9 | BB40: EC 'B' | BG40: 184 | BI40: 10 | BJ40: HRC 'B' | BN40: 138
A41: 12 | B41: Stevenage Striders | F41: 1 | G41: =Men!$Y$3 -> 379 | I41: 12 | J41: WJ 'C' | N41: =Women!$AA$204 -> 210 | X41: 13 | Y41: Herts Phoenix AC | AB41: 0 | AC41: =Women!$AR$3 -> 288 | AL41: 10 | AM41: ROY 'B' | AR41: 171 | AT41: 9 | AU41: WJ 'C' | AY41: 151 | BA41: 11 | BB41: SNH 'B' | BG41: 194 | BI41: 11 | BJ41: B&D 'C' | BN41: 172
...

Sheet Women
A1: 2025 MID WEEK LEAGUE sponsored by | P1: OPEN | X1: VETS | AG1: OPEN | AQ1: VETS
M2: BSRC | N2: FVS | O2: HRTC | P2: ROY | Q2: SS | R2: WAT | S2: WJ | U2: BSRC | V2: FVS | W2: HRTC | X2: ROY | Y2: SS | Z2: WAT | AA2: WJ | AC2: B&D | AD2: BRX | AE2: EC | AF2: EDM | AG2: FRE | AH2: HPX | AI2: HRC | AJ2: HRP | AK2: SNH | AM2: B&D | AN2: BRX | AO2: EC | AP2: EDM | AQ2: FRE | AR2: HPX | AS2: HRC | AT2: HRP | AU2: SNH
A3: =Team!A2 -> RACE 2 - Watford 10k - Wednesday 4th June 2025 | M3: =SUM(SMALL(M$5:M$197,{1,2,3,4,5,6,7,8})) -> 295 | N3: =SUM(SMALL(N$5:N$197,{1,2,3,4,5,6,7,8})) -> 285 | O3: =SUM(SMALL(O$5:O$197,{1,2,3,4,5,6,7,8})) -> 400 | P3: =SUM(SMALL(P$5:P$197,{1,2,3,4,5,6,7,8})) -> 88 | Q3: =SUM(SMALL(Q$5:Q$197,{1,2,3,4,5,6,7,8})) -> 308 | R3: =SUM(SMALL(R$5:R$197,{1,2,3,4,5,6,7,8})) -> 309 | S3: =SUM(SMALL(S$5:S$197,{1,2,3,4,5,6,7,8})) -> 180 | U3: =SUM(SMALL(U$5:U$197,{1,2,3,4})) -> 50 | V3: =SUM(SMALL(V$5:V$197,{1,2,3,4})) -> 62 | W3: =SUM(SMALL(W$5:W$197,{1,2,3,4})) -> 112 | X3: =SUM(SMALL(X$5:X$197,{1,2,3,4})) -> 36 | Y3: =SUM(SMALL(Y$5:Y$197,{1,2,3,4})) -> 73 | Z3: =SUM(SMALL(Z$5:Z$197,{1,2,3,4})) -> 79 | AA3: =SUM(SMALL(AA$5:AA$197,{1,2,3,4})) -> 45 | AC3: =SUM(SMALL(AC$5:AC$197,{1,2,3,4,5,6,7,8})) -> 175 | AD3: =SUM(SMALL(AD$5:AD$197,{1,2,3,4,5,6,7,8})) -> 339 | AE3: =SUM(SMALL(AE$5:AE$197,{1,2,3,4,5,6,7,8})) -> 181 | AF3: =SUM(SMALL(AF$5:AF$197,{1,2,3,4,5,6,7,8})) -> 171 | AG3: =SUM(SMALL(AG$5:AG$197,{1,2,3,4,5,6,7,8})) -> 648 | AH3: =SUM(SMALL(AH$5:AH$197,{1,2,3,4,5,6,7,8})) -> 648 | AI3: =SUM(SMALL(AI$5:AI$197,{1,2,3,4,5,6,7,8})) -> 169 | AJ3: =SUM(SMALL(AJ$5:AJ$197,{1,2,3,4,5,6,7,8})) -> 287 | AK3: =SUM(SMALL(AK$5:AK$197,{1,2,3,4,5,6,7,8})) -> 478 | AM3: =SUM(SMALL(AM$5:AM$197,{1,2,3,4})) -> 60 | AN3: =SUM(SMALL(AN$5:AN$197,{1,2,3,4})) -> 143 | AO3: =SUM(SMALL(AO$5:AO$197,{1,2,3,4})) -> 44 | AP3: =SUM(SMALL(AP$5:AP$197,{1,2,3,4})) -> 28 | AQ3: =SUM(SMALL(AQ$5:AQ$197,{1,2,3,4})) -> 288 | AR3: =SUM(SMALL(AR$5:AR$197,{1,2,3,4})) -> 288 | AS3: =SUM(SMALL(AS$5:AS$197,{1,2,3,4})) -> 55 | AT3: =SUM(SMALL(AT$5:AT$197,{1,2,3,4})) -> 48 | AU3: =SUM(SMALL(AU$5:AU$197,{1,2,3,4})) -> 178
A4: Race | B4: M/F | C4: Cat | D4: Vet | E4: No. | F4: Time | G4: Name | H4: Surname | I4: Cat. | J4: Club | K4: Div | L4: M/F | M4: =COUNT(SMALL(M$5:M$197,{1,2,3,4,5,6,7,8})) -> 8 | N4: =COUNT(SMALL(N$5:N$197,{1,2,3,4,5,6,7,8})) -> 8 | O4: =COUNT(SMALL(O$5:O$197,{1,2,3,4,5,6,7,8})) -> 8 | P4: =COUNT(SMALL(P$5:P$197,{1,2,3,4,5,6,7,8})) -> 8 | Q4: =COUNT(SMALL(Q$5:Q$197,{1,2,3,4,5,6,7,8})) -> 8 | R4: =COUNT(SMALL(R$5:R$197,{1,2,3,4,5,6,7,8})) -> 8 | S4: =COUNT(SMALL(S$5:S$197,{1,2,3,4,5,6,7,8})) -> 8 | U4: =COUNT(SMALL(U$5:U$197,{1,2,3,4})) -> 4 | V4: =COUNT(SMALL(V$5:V$197,{1,2,3,4})) -> 4 | W4: =COUNT(SMALL(W$5:W$197,{1,2,3,4})) -> 4 | X4: =COUNT(SMALL(X$5:X$197,{1,2,3,4})) -> 4 | Y4: =COUNT(SMALL(Y$5:Y$197,{1,2,3,4})) -> 4 | Z4: =COUNT(SMALL(Z$5:Z$197,{1,2,3,4})) -> 4 | AA4: =COUNT(SMALL(AA$5:AA$197,{1,2,3,4})) -> 4 | AC4: =COUNT(SMALL(AC$5:AC$197,{1,2,3,4,5,6,7,8})) -> 8 | AD4: =COUNT(SMALL(AD$5:AD$197,{1,2,3,4,5,6,7,8})) -> 8 | AE4: =COUNT(SMALL(AE$5:AE$197,{1,2,3,4,5,6,7,8})) -> 8 | AF4: =COUNT(SMALL(AF$5:AF$197,{1,2,3,4,5,6,7,8})) -> 8 | AG4: =COUNT(SMALL(AG$5:AG$197,{1,2,3,4,5,6,7,8})) -> 8 | AH4: =COUNT(SMALL(AH$5:AH$197,{1,2,3,4,5,6,7,8})) -> 8 | AI4: =COUNT(SMALL(AI$5:AI$197,{1,2,3,4,5,6,7,8})) -> 8 | AJ4: =COUNT(SMALL(AJ$5:AJ$197,{1,2,3,4,5,6,7,8})) -> 8 | AK4: =COUNT(SMALL(AK$5:AK$197,{1,2,3,4,5,6,7,8})) -> 8 | AM4: =COUNT(SMALL(AM$5:AM$197,{1,2,3,4})) -> 4 | AN4: =COUNT(SMALL(AN$5:AN$197,{1,2,3,4})) -> 4 | AO4: =COUNT(SMALL(AO$5:AO$197,{1,2,3,4})) -> 4 | AP4: =COUNT(SMALL(AP$5:AP$197,{1,2,3,4})) -> 4 | AQ4: =COUNT(SMALL(AQ$5:AQ$197,{1,2,3,4})) -> 4 | AR4: =COUNT(SMALL(AR$5:AR$197,{1,2,3,4})) -> 4 | AS4: =COUNT(SMALL(AS$5:AS$197,{1,2,3,4})) -> 4 | AT4: =COUNT(SMALL(AT$5:AT$197,{1,2,3,4})) -> 4 | AU4: =COUNT(SMALL(AU$5:AU$197,{1,2,3,4})) -> 4
A5: 49 | B5: 1 | E5: 936 | F5: 0.027048611 | G5: Lucy | H5: Barnes | I5: S | J5: WJ | K5: 2 | L5: F | S5: =$B5 -> 1
A6: 77 | B6: 2 | C6: 1 | D6: 1 | E6: 981 | F6: 0.028287037 | G6: Helen | H6: Mussen | I6: V 45 | J6: WAT | K6: 2 | L6: F | R6: =$B6 -> 2 | Z6: =$D6 -> 1
A7: 94 | B7: 3 | E7: 1003 | F7: 0.028819444 | G7: Fliss | H7: Tournant | I7: S | J7: WAT | K7: 2 | L7: F | R7: =$B7 -> 3
A8: 98 | B8: 4 | E8: 1163 | F8: 0.029097222 | G8: Zoe | H8: Hewitson | I8: S | J8: ROY | K8: 2 | L8: F | P8: =$B8 -> 4
A9: 105 | B9: 5 | E9: 1166 | F9: 0.029421296 | G9: Sydney | H9: Barfield | I9: S | J9: ROY | K9: 2 | L9: F | P9: =$B9 -> 5
A10: 124 | B10: 1 | C10: 1 | D10: 1 | E10: 1727 | F10: 0.029988426 | G10: Caroline | H10: Jaggard | I10: V 45 | J10: HRP | K10: 3 | L10: F | AJ10: =$B10 -> 1 | AT10: =$D10 -> 1
A11: 127 | B11: 2 | E11: 1610 | F11: 0.030011574 | G11: Hannah | H11: Sheridan | I11: S | J11: B&D | K11: 3 | L11: F | AC11: =$B11 -> 2
A12: 131 | B12: 3 | E12: 1800 | F12: 0.030208333 | G12: Maddy | H12: Henderson | I12: S | J12: BRX | K12: 3 | L12: F | AD12: =$B12 -> 3
A13: 134 | B13: 6 | C13: 1 | D13: 2 | E13: 1200 | F13: 0.030347222 | G13: Kayleigh | H13: Williams | I13: V 35 | J13: ROY | K13: 2 | L13: F | P13: =$B13 -> 6 | X13: =$D13 -> 2
A14: 152 | B14: 7 | E14: 1165 | F14: 0.031122685 | G14: Robyn | H14: Barfield | I14: S | J14: ROY | K14: 2 | L14: F | P14: =$B14 -> 7
A15: 167 | B15: 4 | C15: 2 | D15: 2 | E15: 1915 | F15: 0.031655093 | G15: Rachel | H15: Dervish | I15: V 45 | J15: EC | K15: 3 | L15: F | AE15: =$B15 -> 4 | AO15: =$D15 -> 2
A16: 172 | B16: 8 | E16: 1434 | F16: 0.031886574 | G16: Ella | H16: Wager | I16: S | J16: HRTC | K16: 2 | L16: F | O16: =$B16 -> 8
A17: 174 | B17: 5 | E17: 2032 | F17: 0.031921296 | G17: Sophie | H17: Adams | I17: S | J17: HRC | K17: 3 | L17: F | AI17: =$B17 -> 5
A18: 176 | B18: 9 | C18: 2 | D18: 3 | E18: 1328 | F18: 0.031956019 | G18: Sophie | H18: Barc | I18: V 45 | J18: BSRC | K18: 2 | L18: F | M18: =$B18 -> 9 | U18: =$D18 -> 3
A19: 179 | B19: 10 | C19: 3 | D19: 4 | E19: 1368 | F19: 0.032002315 | G19: Joanna | H19: Jurd | I19: V 45 | J19: BSRC | K19: 2 | L19: F | M19: =$B19 -> 10 | U19: =$D19 -> 4
A20: 187 | B20: 6 | C20: 3 | D20: 3 | E20: 1786 | F20: 0.032349537 | G20: Marilyn | H20: Martin | I20: V 45 | J20: EDM | K20: 3 | L20: F | AF20: =$B20 -> 6 | AP20: =$D20 -> 3
A21: 188 | B21: 7 | C21: 1 | D21: 4 | E21: 1761 | F21: 0.032395833 | G21: Katie | H21: Moey | I21: V 35 | J21: EDM | K21: 3 | L21: F | AF21: =$B21 -> 7 | AP21: =$D21 -> 4
A22: 193 | B22: 8 | C22: 2 | D22: 5 | E22: 1611 | F22: 0.032627315 | G22: Jennifer | H22: Johns | I22: V 35 | J22: B&D | K22: 3 | L22: F | AC22: =$B22 -> 8 | AM22: =$D22 -> 5
A23: 196 | B23: 11 | E23: 1227 | F23: 0.032777778 | G23: Zoe | H23: Robinson | I23: S | J23: ROY | K23: 2 | L23: F | P23: =$B23 -> 11
A24: 198 | B24: 12 | C24: 2 | D24: 5 | E24: 1121 | F24: 0.032824074 | G24: Olivia | H24: Lacigova | I24: V 35 | J24: FVS | K24: 2 | L24: F | N24: =$B24 -> 12 | V24: =$D24 -> 5
A25: 199 | B25: 9 | C25: 3 | D25: 6 | E25: 1859 | F25: 0.032858796 | G25: Jasmine | H25: Forde | I25: V 35 | J25: SNH | K25: 3 | L25: F | AK25: =$B25 -> 9 | AU25: =$D25 -> 6
A26: 204 | B26: 13 | C26: 3 | D26: 6 | E26: 1487 | F26: 0.03306713 | G26: Lina | H26: Tzompova | I26: V 35 | J26: SS | K26: 2 | L26: F | Q26: =$B26 -> 13 | Y26: =$D26 -> 6
A27: 207 | B27: 14 | E27: 1488 | F27: 0.033136574 | G27: Storm | H27: Moore | I27: S | J27: SS | K27: 2 | L27: F | Q27: =$B27 -> 14
A28: 210 | B28: 15 | C28: 1 | D28: 7 | E28: 863 | F28: 0.033298611 | G28: Cate | H28: Campany | I28: V 55 | J28: WJ | K28: 2 | L28: F | S28: =$B28 -> 15 | AA28: =$D28 -> 7
A29: 216 | B29: 10 | C29: 4 | D29: 7 | E29: 1677 | F29: 0.033368056 | G29: Lucy | H29: Carey | I29: V 35 | J29: HRC | K29: 3 | L29: F | AI29: =$B29 -> 10 | AS29: =$D29 -> 7
A30: 217 | B30: 16 | E30: 1164 | F30: 0.0334375 | G30: Romy | H30: Barfield | I30: S | J30: ROY | K30: 2 | L30: F | P30: =$B30 -> 16
A31: 221 | B31: 11 | C31: 5 | D31: 8 | E31: 1925 | F31: 0.033518519 | G31: Lucy | H31: Humphreys | I31: V 35 | J31: EC | K31: 3 | L31: F | AE31: =$B31 -> 11 | AO31: =$D31 -> 8
A32: 224 | B32: 17 | C32: 2 | D32: 8 | E32: 1441 | F32: 0.033541667 | G32: Sandra | H32: Rust | I32: V 55 | J32: HRTC | K32: 2 | L32: F | O32: =$B32 -> 17 | W32: =$D32 -> 8
A33: 227 | B33: 12 | E33: 1691 | F33: 0.033703704 | G33: Ellie | H33: Pond | I33: S | J33: HRC | K33: 3 | L33: F | AI33: =$B33 -> 12
A34: 232 | B34: 18 | C34: 3 | D34: 9 | E34: 897 | F34: 0.033819444 | G34: Lucy | H34: Dupuis | I34: V 55 | J34: WJ | K34: 2 | L34: F | S34: =$B34 -> 18 | AA34: =$D34 -> 9
A35: 234 | B35: 19 | C35: 4 | D35: 10 | E35: 1228 | F35: 0.033842593 | G35: Carla | H35: Kay | I35: V 35 | J35: ROY | K35: 2 | L35: F | P35: =$B35 -> 19 | X35: =$D35 -> 10
A36: 235 | B36: 13 | E36: 1613 | F36: 0.033877315 | G36: Stephanie | H36: Harrison | I36: S | J36: B&D | K36: 3 | L36: F | AC36: =$B36 -> 13
A37: 237 | B37: 20 | C37: 4 | D37: 11 | E37: 1167 | F37: 0.033958333 | G37: Zoe | H37: Taylor | I37: V 45 | J37: ROY | K37: 2 | L37: F | P37: =$B37 -> 20 | X37: =$D37 -> 11
A38: 240 | B38: 21 | C38: 5 | D38: 12 | E38: 1079 | F38: 0.034074074 | G38: Marie | H38: Colucci | I38: V 45 | J38: FVS | K38: 2 | L38: F | N38: =$B38 -> 21 | V38: =$D38 -> 12
A39: 245 | B39: 14 | C39: 4 | D39: 9 | E39: 1719 | F39: 0.034201389 | G39: Aisling | H39: Patterson | I39: V 45 | J39: HRP | K39: 3 | L39: F | AJ39: =$B39 -> 14 | AT39: =$D39 -> 9
A40: 247 | B40: 15 | C40: 5 | D40: 10 | E40: 1758 | F40: 0.034351852 | G40: Loretta | H40: Blundell | I40: V 45 | J40: EDM | K40: 3 | L40: F | AF40: =$B40 -> 15 | AP40: =$D40 -> 10
...

Sheet Men
A1: 2025 MID WEEK LEAGUE sponsored by | P1: OPEN | X1: VETS | AG1: OPEN | AQ1: VETS
M2: BSRC | N2: FVS | O2: HRTC | P2: ROY | Q2: SS | R2: WAT | S2: WJ | U2: BSRC | V2: FVS | W2: HRTC | X2: ROY | Y2: SS | Z2: WAT | AA2: WJ | AC2: B&D | AD2: BRX | AE2: EC | AF2: EDM | AG2: FRE | AH2: HPX | AI2: HRC | AJ2: HRP | AK2: SNH | AM2: B&D | AN2: BRX | AO2: EC | AP2: EDM | AQ2: FRE | AR2: HPX | AS2: HRC | AT2: HRP | AU2: SNH
A3: =Team!A2 -> RACE 2 - Watford 10k - Wednesday 4th June 2025 | M3: =SUM(SMALL(M$5:M$349,{1,2,3,4,5,6,7,8,9,10,11,12})) -> 736 | N3: =SUM(SMALL(N$5:N$349,{1,2,3,4,5,6,7,8,9,10,11,12})) -> 380 | O3: =SUM(SMALL(O$5:O$349,{1,2,3,4,5,6,7,8,9,10,11,12})) -> 1026 | P3: =SUM(SMALL(P$5:P$349,{1,2,3,4,5,6,7,8,9,10,11,12})) -> 490 | Q3: =SUM(SMALL(Q$5:Q$349,{1,2,3,4,5,6,7,8,9,10,11,12})) -> 1148 | R3: =SUM(SMALL(R$5:R$349,{1,2,3,4,5,6,7,8,9,10,11,12})) -> 319 | S3: =SUM(SMALL(S$5:S$349,{1,2,3,4,5,6,7,8,9,10,11,12})) -> 239 | U3: =SUM(SMALL(U$5:U$349,{1,2,3,4,5,6})) -> 229 | V3: =SUM(SMALL(V$5:V$349,{1,2,3,4,5,6})) -> 127 | W3: =SUM(SMALL(W$5:W$349,{1,2,3,4,5,6})) -> 288 | X3: =SUM(SMALL(X$5:X$349,{1,2,3,4,5,6})) -> 137 | Y3: =SUM(SMALL(Y$5:Y$349,{1,2,3,4,5,6})) -> 379 | Z3: =SUM(SMALL(Z$5:Z$349,{1,2,3,4,5,6})) -> 66 | AA3: =SUM(SMALL(AA$5:AA$349,{1,2,3,4,5,6})) -> 34 | AC3: =SUM(SMALL(AC$5:AC$349,{1,2,3,4,5,6,7,8,9,10,11,12})) -> 357 | AD3: =SUM(SMALL(AD$5:AD$349,{1,2,3,4,5,6,7,8,9,10,11,12})) -> 804 | AE3: =SUM(SMALL(AE$5:AE$349,{1,2,3,4,5,6,7,8,9,10,11,12})) -> 399 | AF3: =SUM(SMALL(AF$5:AF$349,{1,2,3,4,5,6,7,8,9,10,11,12})) -> 553 | AG3: =SUM(SMALL(AG$5:AG$349,{1,2,3,4,5,6,7,8,9,10,11,12})) -> 2156 | AH3: =SUM(SMALL(AH$5:AH$349,{1,2,3,4,5,6,7,8,9,10,11,12})) -> 2299 | AI3: =SUM(SMALL(AI$5:AI$349,{1,2,3,4,5,6,7,8,9,10,11,12})) -> 365 | AJ3: =SUM(SMALL(AJ$5:AJ$349,{1,2,3,4,5,6,7,8,9,10,11,12})) -> 902 | AK3: =SUM(SMALL(AK$5:AK$349,{1,2,3,4,5,6,7,8,9,10,11,12})) -> 687 | AM3: =SUM(SMALL(AM$5:AM$349,{1,2,3,4,5,6})) -> 66 | AN3: =SUM(SMALL(AN$5:AN$349,{1,2,3,4,5,6})) -> 266 | AO3: =SUM(SMALL(AO$5:AO$349,{1,2,3,4,5,6})) -> 112 | AP3: =SUM(SMALL(AP$5:AP$349,{1,2,3,4,5,6})) -> 134 | AQ3: =SUM(SMALL(AQ$5:AQ$349,{1,2,3,4,5,6})) -> 425 | AR3: =SUM(SMALL(AR$5:AR$349,{1,2,3,4,5,6})) -> 388 | AS3: =SUM(SMALL(AS$5:AS$349,{1,2,3,4,5,6})) -> 249 | AT3: =SUM(SMALL(AT$5:AT$349,{1,2,3,4,5,6})) -> 188 | AU3: =SUM(SMALL(AU$5:AU$349,{1,2,3,4,5,6})) -> 270
A4: Race | B4: M/F | C4: Cat | D4: Vet | E4: No. | F4: Time | G4: Name | H4: Surname | I4: Cat. | J4: Club | K4: Div | L4: M/F | M4: =COUNT(SMALL(M$5:M$349,{1,2,3,4,5,6,7,8,9,10,11,12})) -> 12 | N4: =COUNT(SMALL(N$5:N$349,{1,2,3,4,5,6,7,8,9,10,11,12})) -> 12 | O4: =COUNT(SMALL(O$5:O$349,{1,2,3,4,5,6,7,8,9,10,11,12})) -> 12 | P4: =COUNT(SMALL(P$5:P$349,{1,2,3,4,5,6,7,8,9,10,11,12})) -> 12 | Q4: =COUNT(SMALL(Q$5:Q$349,{1,2,3,4,5,6,7,8,9,10,11,12})) -> 12 | R4: =COUNT(SMALL(R$5:R$349,{1,2,3,4,5,6,7,8,9,10,11,12})) -> 12 | S4: =COUNT(SMALL(S$5:S$349,{1,2,3,4,5,6,7,8,9,10,11,12})) -> 12 | U4: =COUNT(SMALL(U$5:U$349,{1,2,3,4,5,6})) -> 6 | V4: =COUNT(SMALL(V$5:V$349,{1,2,3,4,5,6})) -> 6 | W4: =COUNT(SMALL(W$5:W$349,{1,2,3,4,5,6})) -> 6 | X4: =COUNT(SMALL(X$5:X$349,{1,2,3,4,5,6})) -> 6 | Y4: =COUNT(SMALL(Y$5:Y$349,{1,2,3,4,5,6})) -> 6 | Z4: =COUNT(SMALL(Z$5:Z$349,{1,2,3,4,5,6})) -> 6 | AA4: =COUNT(SMALL(AA$5:AA$349,{1,2,3,4,5,6})) -> 6 | AC4: =COUNT(SMALL(AC$5:AC$349,{1,2,3,4,5,6,7,8,9,10,11,12})) -> 12 | AD4: =COUNT(SMALL(AD$5:AD$349,{1,2,3,4,5,6,7,8,9,10,11,12})) -> 12 | AE4: =COUNT(SMALL(AE$5:AE$349,{1,2,3,4,5,6,7,8,9,10,11,12})) -> 12 | AF4: =COUNT(SMALL(AF$5:AF$349,{1,2,3,4,5,6,7,8,9,10,11,12})) -> 12 | AG4: =COUNT(SMALL(AG$5:AG$349,{1,2,3,4,5,6,7,8,9,10,11,12})) -> 12 | AH4: =COUNT(SMALL(AH$5:AH$349,{1,2,3,4,5,6,7,8,9,10,11,12})) -> 12 | AI4: =COUNT(SMALL(AI$5:AI$349,{1,2,3,4,5,6,7,8,9,10,11,12})) -> 12 | AJ4: =COUNT(SMALL(AJ$5:AJ$349,{1,2,3,4,5,6,7,8,9,10,11,12})) -> 12 | AK4: =COUNT(SMALL(AK$5:AK$349,{1,2,3,4,5,6,7,8,9,10,11,12})) -> 12 | AM4: =COUNT(SMALL(AM$5:AM$349,{1,2,3,4,5,6})) -> 6 | AN4: =COUNT(SMALL(AN$5:AN$349,{1,2,3,4,5,6})) -> 6 | AO4: =COUNT(SMALL(AO$5:AO$349,{1,2,3,4,5,6})) -> 6 | AP4: =COUNT(SMALL(AP$5:AP$349,{1,2,3,4,5,6})) -> 6 | AQ4: =COUNT(SMALL(AQ$5:AQ$349,{1,2,3,4,5,6})) -> 6 | AR4: =COUNT(SMALL(AR$5:AR$349,{1,2,3,4,5,6})) -> 6 | AS4: =COUNT(SMALL(AS$5:AS$349,{1,2,3,4,5,6})) -> 6 | AT4: =COUNT(SMALL(AT$5:AT$349,{1,2,3,4,5,6})) -> 6 | AU4: =COUNT(SMALL(AU$5:AU$349,{1,2,3,4,5,6})) -> 6
A5: 1 | B5: 1 | E5: 951 | F5: 0.023298611 | G5: Jude | H5: Bell | I5: S | J5: WAT | K5: 2 | L5: M | R5: =$B5 -> 1
A6: 2 | B6: 2 | E6: 1404 | F6: 0.024027778 | G6: Martin | H6: Westley | I6: S | J6: HRTC | K6: 2 | L6: M | O6: =$B6 -> 2
A7: 3 | B7: 3 | C7: 1 | D7: 1 | E7: 1148 | F7: 0.024166667 | G7: Andrew | H7: Patterson | I7: V 40 | J7: FVS | K7: 2 | L7: M | N7: =$B7 -> 3 | V7: =$D7 -> 1
A8: 4 | B8: 1 | E8: 1618 | F8: 0.024224537 | G8: Edward | H8: Spencer | I8: S | J8: B&D | K8: 3 | L8: M | AC8: =$B8 -> 1
A9: 5 | B9: 4 | E9: 973 | F9: 0.024293981 | G9: Oliver | H9: Hill | I9: S | J9: WAT | K9: 2 | L9: M | R9: =$B9 -> 4
A10: 6 | B10: 5 | E10: 1285 | F10: 0.02443287 | G10: Aaron | H10: Clarke | I10: S | J10: BSRC | K10: 2 | L10: M | M10: =$B10 -> 5
A11: 7 | B11: 6 | E11: 1101 | F11: 0.024548611 | G11: Simon | H11: Fraser | I11: S | J11: FVS | K11: 2 | L11: M | N11: =$B11 -> 6
A12: 8 | B12: 7 | E12: 895 | F12: 0.024583333 | G12: Liam | H12: Struwe | I12: S | J12: WJ | K12: 2 | L12: M | S12: =$B12 -> 7
A13: 9 | B13: 8 | C13: 2 | D13: 2 | E13: 893 | F13: 0.024814815 | G13: Kevin | H13: Francis | I13: V 40 | J13: WJ | K13: 2 | L13: M | S13: =$B13 -> 8 | AA13: =$D13 -> 2
A14: 10 | B14: 2 | E14: 1685 | F14: 0.025104167 | G14: Isaac | H14: Charlton | I14: S | J14: HRC | K14: 3 | L14: M | AI14: =$B14 -> 2
A15: 11 | B15: 9 | E15: 1232 | F15: 0.025162037 | G15: Tom | H15: Combe | I15: S | J15: ROY | K15: 2 | L15: M | P15: =$B15 -> 9
A16: 12 | B16: 10 | E16: 1139 | F16: 0.025185185 | G16: Adrian | H16: Busolini | I16: S | J16: FVS | K16: 2 | L16: M | N16: =$B16 -> 10
A17: 13 | B17: 3 | E17: 1822 | F17: 0.0253125 | G17: Phil | H17: Morgan | I17: S | J17: BRX | K17: 3 | L17: M | AD17: =$B17 -> 3
A18: 14 | B18: 11 | C18: 1 | D18: 3 | E18: 894 | F18: 0.025347222 | G18: Kevin | H18: Sambridge | I18: V 50 | J18: WJ | K18: 2 | L18: M | S18: =$B18 -> 11 | AA18: =$D18 -> 3
A19: 15 | B19: 12 | C19: 3 | D19: 4 | E19: 983 | F19: 0.025416667 | G19: David | H19: O'Sullivan | I19: V 40 | J19: WAT | K19: 2 | L19: M | R19: =$B19 -> 12 | Z19: =$D19 -> 4
A20: 16 | B20: 13 | C20: 4 | D20: 5 | E20: 922 | F20: 0.025439815 | G20: Timothy | H20: Brignall | I20: V 40 | J20: WJ | K20: 2 | L20: M | S20: =$B20 -> 13 | AA20: =$D20 -> 5
A21: 17 | B21: 14 | E21: 927 | F21: 0.025486111 | G21: William | H21: Caunce | I21: S | J21: WJ | K21: 2 | L21: M | S21: =$B21 -> 14
A22: 18 | B22: 15 | C22: 5 | D22: 6 | E22: 946 | F22: 0.025497685 | G22: Mark | H22: Ames | I22: V 40 | J22: WAT | K22: 2 | L22: M | R22: =$B22 -> 15 | Z22: =$D22 -> 6
A23: 19 | B23: 16 | E23: 1507 | F23: 0.025520833 | G23: Matthew | H23: Robinson | I23: S | J23: SS | K23: 2 | L23: M | Q23: =$B23 -> 16
A24: 20 | B24: 17 | C24: 6 | D24: 7 | E24: 935 | F24: 0.025613426 | G24: Pas | H24: Blackwell | I24: V 40 | J24: WJ | K24: 2 | L24: M | S24: =$B24 -> 17 | AA24: =$D24 -> 7
A25: 21 | B25: 18 | C25: 7 | D25: 8 | E25: 910 | F25: 0.025810185 | G25: Nick | H25: Axam | I25: V 40 | J25: WJ | K25: 2 | L25: M | S25: =$B25 -> 18 | AA25: =$D25 -> 8
A26: 22 | B26: 19 | C26: 8 | D26: 9 | E26: 902 | F26: 0.025902778 | G26: Matt | H26: Brown | I26: V 40 | J26: WJ | K26: 2 | L26: M | S26: =$B26 -> 19 | AA26: =$D26 -> 9
A27: 23 | B27: 20 | E27: 1203 | F27: 0.025949074 | G27: Matthew | H27: Cottiss | I27: S | J27: ROY | K27: 2 | L27: M | P27: =$B27 -> 20
A28: 24 | B28: 21 | C28: 9 | D28: 10 | E28: 1191 | F28: 0.026006944 | G28: Ryan | H28: De Vooght-Johnson | I28: V 40 | J28: ROY | K28: 2 | L28: M | P28: =$B28 -> 21 | X28: =$D28 -> 10
A29: 25 | B29: 4 | E29: 1686 | F29: 0.026087963 | G29: Harry | H29: Woods | I29: S | J29: HRC | K29: 3 | L29: M | AI29: =$B29 -> 4
A30: 26 | B30: 5 | E30: 1667 | F30: 0.026157407 | G30: Peter | H30: Males | I30: S | J30: HRC | K30: 3 | L30: M | AI30: =$B30 -> 5
A31: 27 | B31: 6 | C31: 1 | D31: 1 | E31: 1769 | F31: 0.026168981 | G31: James | H31: Akerman | I31: V 40 | J31: EDM | K31: 3 | L31: M | AF31: =$B31 -> 6 | AP31: =$D31 -> 1
A32: 28 | B32: 22 | C32: 2 | D32: 11 | E32: 1178 | F32: 0.026203704 | G32: Paul | H32: Makowski | I32: V 50 | J32: ROY | K32: 2 | L32: M | P32: =$B32 -> 22 | X32: =$D32 -> 11
A33: 29 | B33: 23 | E33: 877 | F33: 0.026226852 | G33: Ian | H33: Perrins | I33: S | J33: WJ | K33: 2 | L33: M | S33: =$B33 -> 23
A34: 30 | B34: 24 | E34: 1133 | F34: 0.026261574 | G34: Kristian | H34: Atanasov | I34: S | J34: FVS | K34: 2 | L34: M | N34: =$B34 -> 24
A35: 31 | B35: 25 | C35: 10 | D35: 12 | E35: 957 | F35: 0.026261574 | G35: Tim | H35: Cook | I35: V 40 | J35: WAT | K35: 2 | L35: M | R35: =$B35 -> 25 | Z35: =$D35 -> 12
A36: 32 | B36: 7 | C36: 1 | E36: 1866 | F36: 0.026273148 | G36: Murray | H36: Heal | I36: U 20 | J36: SNH | K36: 3 | L36: M | AK36: =$B36 -> 7
A37: 33 | B37: 26 | C37: 11 | D37: 13 | E37: 1036 | F37: 0.026284722 | G37: Vishal | H37: Dixit | I37: V 40 | J37: WAT | K37: 2 | L37: M | R37: =$B37 -> 26 | Z37: =$D37 -> 13
A38: 34 | B38: 8 | C38: 2 | D38: 3 | E38: 1558 | F38: 0.026388889 | G38: Alex | H38: Shuker | I38: V 40 | J38: B&D | K38: 3 | L38: M | AC38: =$B38 -> 8 | AM38: =$D38 -> 3
A39: 35 | B39: 9 | E39: 1779 | F39: 0.026412037 | G39: James | H39: Vicente | I39: S | J39: EDM | K39: 3 | L39: M | AF39: =$B39 -> 9
A40: 36 | B40: 27 | C40: 12 | D40: 14 | E40: 953 | F40: 0.02650463 | G40: Will | H40: Brotherston | I40: V 40 | J40: WAT | K40: 2 | L40: M | R40: =$B40 -> 27 | Z40: =$D40 -> 14
...
